BEGIN:VCALENDAR
VERSION:2.0
PRODID:-//Ordine dei Medici Chirurghi e Odontoiatri di Forl&igrave;-Cesena - ECPv6.15.20//NONSGML v1.0//EN
CALSCALE:GREGORIAN
METHOD:PUBLISH
X-ORIGINAL-URL:https://www.ordinemedicifc.it
X-WR-CALDESC:Eventi per Ordine dei Medici Chirurghi e Odontoiatri di Forl&igrave;-Cesena
REFRESH-INTERVAL;VALUE=DURATION:PT1H
X-Robots-Tag:noindex
X-PUBLISHED-TTL:PT1H
BEGIN:VTIMEZONE
TZID:Europe/Paris
BEGIN:DAYLIGHT
TZOFFSETFROM:+0100
TZOFFSETTO:+0200
TZNAME:CEST
DTSTART:20250330T010000
END:DAYLIGHT
BEGIN:STANDARD
TZOFFSETFROM:+0200
TZOFFSETTO:+0100
TZNAME:CET
DTSTART:20251026T010000
END:STANDARD
BEGIN:DAYLIGHT
TZOFFSETFROM:+0100
TZOFFSETTO:+0200
TZNAME:CEST
DTSTART:20260329T010000
END:DAYLIGHT
BEGIN:STANDARD
TZOFFSETFROM:+0200
TZOFFSETTO:+0100
TZNAME:CET
DTSTART:20261025T010000
END:STANDARD
BEGIN:DAYLIGHT
TZOFFSETFROM:+0100
TZOFFSETTO:+0200
TZNAME:CEST
DTSTART:20270328T010000
END:DAYLIGHT
BEGIN:STANDARD
TZOFFSETFROM:+0200
TZOFFSETTO:+0100
TZNAME:CET
DTSTART:20271031T010000
END:STANDARD
END:VTIMEZONE
BEGIN:VEVENT
DTSTART;VALUE=DATE:20260528
DTEND;VALUE=DATE:20260604
DTSTAMP:20260424T143801
CREATED:20260423T141930Z
LAST-MODIFIED:20260423T141931Z
UID:29668-1779930000-1780448399@www.ordinemedicifc.it
SUMMARY:2° Congresso Internazionale e 1ª Revisione del Consensus Internazionale sulla Sindrome di Beckwith-Wiedemann
DESCRIPTION:https://www.fondazionetelethon.it/partecipa/eventi/2-congresso-internazionale-e-1a-revisione-del-consensus-internazionale-sulla-sindrome-di-beckwith-wiedemann/
URL:https://www.ordinemedicifc.it/evento/2-congresso-internazionale-e-1a-revisione-del-consensus-internazionale-sulla-sindrome-di-beckwith-wiedemann/
CATEGORIES:Altri eventi
END:VEVENT
BEGIN:VEVENT
DTSTART;TZID=Europe/Paris:20260528T130000
DTEND;TZID=Europe/Paris:20260602T080000
DTSTAMP:20260424T143801
CREATED:20260323T085154Z
LAST-MODIFIED:20260323T085154Z
UID:29374-1779973200-1780387200@www.ordinemedicifc.it
SUMMARY:2° Congresso Internazionale e 1ª Revisione del Consensus Internazionale sulla Sindrome di Beckwith-Wiedemann (BWSp) \, Cervia dal 28 maggio al 2 giugno 2026
DESCRIPTION:Un evento unico per famiglie\, professionisti e Associazioni di tutto il mondo. Un momento di confronto e crescita condivisa per chi ogni giorno vive\, studia e sostiene la comunità BWSp.\nCervia Hotel Dante \nProgramma \nLeggi tutto
URL:https://www.ordinemedicifc.it/evento/2-congresso-internazionale-e-1a-revisione-del-consensus-internazionale-sulla-sindrome-di-beckwith-wiedemann-bwsp-cervia-dal-28-maggio-al-2-giugno-2026/
CATEGORIES:Altri eventi
END:VEVENT
END:VCALENDAR