BEGIN:VCALENDAR
VERSION:2.0
PRODID:-//Ordine dei Medici Chirurghi e Odontoiatri di Forl&igrave;-Cesena - ECPv6.15.20//NONSGML v1.0//EN
CALSCALE:GREGORIAN
METHOD:PUBLISH
X-ORIGINAL-URL:https://www.ordinemedicifc.it
X-WR-CALDESC:Eventi per Ordine dei Medici Chirurghi e Odontoiatri di Forl&igrave;-Cesena
REFRESH-INTERVAL;VALUE=DURATION:PT1H
X-Robots-Tag:noindex
X-PUBLISHED-TTL:PT1H
BEGIN:VTIMEZONE
TZID:Europe/Paris
BEGIN:DAYLIGHT
TZOFFSETFROM:+0100
TZOFFSETTO:+0200
TZNAME:CEST
DTSTART:20230326T010000
END:DAYLIGHT
BEGIN:STANDARD
TZOFFSETFROM:+0200
TZOFFSETTO:+0100
TZNAME:CET
DTSTART:20231029T010000
END:STANDARD
BEGIN:DAYLIGHT
TZOFFSETFROM:+0100
TZOFFSETTO:+0200
TZNAME:CEST
DTSTART:20240331T010000
END:DAYLIGHT
BEGIN:STANDARD
TZOFFSETFROM:+0200
TZOFFSETTO:+0100
TZNAME:CET
DTSTART:20241027T010000
END:STANDARD
BEGIN:DAYLIGHT
TZOFFSETFROM:+0100
TZOFFSETTO:+0200
TZNAME:CEST
DTSTART:20250330T010000
END:DAYLIGHT
BEGIN:STANDARD
TZOFFSETFROM:+0200
TZOFFSETTO:+0100
TZNAME:CET
DTSTART:20251026T010000
END:STANDARD
BEGIN:DAYLIGHT
TZOFFSETFROM:+0100
TZOFFSETTO:+0200
TZNAME:CEST
DTSTART:20260329T010000
END:DAYLIGHT
BEGIN:STANDARD
TZOFFSETFROM:+0200
TZOFFSETTO:+0100
TZNAME:CET
DTSTART:20261025T010000
END:STANDARD
BEGIN:DAYLIGHT
TZOFFSETFROM:+0100
TZOFFSETTO:+0200
TZNAME:CEST
DTSTART:20270328T010000
END:DAYLIGHT
BEGIN:STANDARD
TZOFFSETFROM:+0200
TZOFFSETTO:+0100
TZNAME:CET
DTSTART:20271031T010000
END:STANDARD
END:VTIMEZONE
BEGIN:VEVENT
DTSTART;VALUE=DATE:20260327
DTEND;VALUE=DATE:20260330
DTSTAMP:20260424T144233
CREATED:20260319T121524Z
LAST-MODIFIED:20260319T121524Z
UID:29361-1774573200-1774745999@www.ordinemedicifc.it
SUMMARY:Ravenna. CONGRESSO SEZIONE REGIONALE AIPO - ITS/ETS - EMILIA ROMAGNA PneumoRER: dal Po all'Adriatico\, un territorio in rete per la salute respiratoria
DESCRIPTION:https://www.aiporicerche.it/it/?option=com_icagenda&view=list&layout=event&id=1316&Itemid=113
URL:https://www.ordinemedicifc.it/evento/ravenna-congresso-sezione-regionale-aipo-its-ets-emilia-romagna-pneumorer-dal-po-alladriatico-un-territorio-in-rete-per-la-salute-respiratoria/
CATEGORIES:Altri eventi
END:VEVENT
BEGIN:VEVENT
DTSTART;VALUE=DATE:20260131
DTEND;VALUE=DATE:20260202
DTSTAMP:20260424T144233
CREATED:20260127T135351Z
LAST-MODIFIED:20260127T135351Z
UID:28744-1769821200-1769907599@www.ordinemedicifc.it
SUMMARY:Bologna DISTRUZIONE DI UN SISTEMA SANITARIO\, GENOCIDIO DI UN POPOLO
DESCRIPTION:Gentile Presidente\, \nGentili membri del Direttivo\, \nvi scriviamo in qualità di professioniste e professionisti della salute per invitarvi a partecipare e a diffondere il convegno promosso dalle reti #DigiunoGaza e Sanitari per Gaza\, che si terrà sabato 31 gennaio a Bologna\, dal titolo «Distruzione di un sistema sanitario\, genocidio di un popolo. Evidenze\, priorità e testimonianze dalla Striscia di Gaza»\, di cui alleghiamo la locandina con il programma (tutte le informazioni al link https://www.digiunogaza.it/distruzione-di-un-sistema-sanitario/). \nIl convegno nasce dall’esigenza di condividere\, in uno spazio rigoroso e documentato\, dati\, testimonianze dirette ed evidenze che mostrano come a Gaza strutture sanitarie\, ambulanze e personale sanitario siano stati colpiti in modo ripetuto e deliberato\, e come il blocco la distruzione da parte dell’esercito israeliano del sistema sanitario di Gaza rappresenti una strategia che incide direttamente sulla sopravvivenza della popolazione civile. \nRiteniamo che le società scientifiche sanitarie abbiano una responsabilità specifica in questo contesto: non solo come luoghi di produzione e diffusione del sapere\, ma come soggetti etici chiamati a prendere parola quando il diritto alla cura viene negato\, ostacolato o reso impossibile e quando l’esercizio stesso delle professioni sanitarie viene criminalizzato o colpito. \nIl riferimento all’appello “Break the Selective Silence”\, pubblicato su The Lancet\, è per noi esplicito: la comunità sanitaria internazionale non può applicare un silenzio selettivo quando ospedali\, ambulanze e personale sanitario vengono colpiti\, perché l’attacco alla sanità costituisce una grave violazione dei diritti umani e del diritto internazionale umanitario. \nVi chiediamo pertanto\, se lo riterrete opportuno\, di:\n– diffondere il convegno attraverso i vostri canali istituzionali (newsletter\, mailing list\, sito\, social);\n– valutare una partecipazione\, anche come presenza di ascolto e attenzione istituzionale;\n– valutare la concessione del patrocinio scientifico al convegno\, come segno di attenzione istituzionale e di responsabilità scientifica rispetto ai temi affrontati;\n– contribuire\, con la vostra autorevolezza scientifica e professionale\, a mantenere aperto uno spazio di riflessione critica\, etica e basata sulle evidenze. \nSiamo convinti che il silenzio non sia neutrale e che\, per chi opera nella sanità\, difendere il sistema di cura significhi difendere la vita\, la dignità delle persone e i fondamenti stessi delle nostre professioni. \nRingraziandovi per l’attenzione e per il lavoro che quotidianamente svolgete a tutela della salute\, restiamo a disposizione per ogni ulteriore informazione. \n  \nCordiali saluti \nCoordinamento nazionale della rete #DigiunoGaza \n#DigiunoGaza\nRete di personale della sanità contro il genocidio palestinese \nwww.digiunogaza.it \n  \n \n  \nLocandina-31-gennaio
URL:https://www.ordinemedicifc.it/evento/bologna-distruzione-di-un-sistema-sanitario-genocidio-di-un-popolo/
CATEGORIES:Altri eventi
END:VEVENT
BEGIN:VEVENT
DTSTART;TZID=Europe/Paris:20260124T083000
DTEND;TZID=Europe/Paris:20260124T130000
DTSTAMP:20260424T144233
CREATED:20260108T144106Z
LAST-MODIFIED:20260108T144106Z
UID:28219-1769243400-1769259600@www.ordinemedicifc.it
SUMMARY:Cambiamento Climatico e Salute: esperienze di gestione delle emergenze in Ausl Romagna
DESCRIPTION:Gent. mi\, \nin qualità di comitato scientifico del Centro Studi G. Donati per il Volontariato e la Solidarietà dell’AUSL Romagna abbiamo il piacere di condividere e far diffondere tra gli iscritti all’Ordine dei Medici\, l’evento di cui alleghiamo la locandina. \nL’ incontro è previsto per il prossimo 24 gennaio 2026 presso l’ Aula E Suzzi Ospedale Bufalini Cesena. \nApprofondiremo alcuni aspetti della salute che più stanno risentendo del cambiamento climatico\, in particolare  la salute mentale\, effetto  poco noto.  \nRappresentanti dell’AUSL Romagna e centri di ricerca  racconteranno della gestione in occasione di emergenze climatiche accadute in Romagna e delle strategie organizzative pianificate. \nL’evento si inserisce nella mission del Centro Studi G. Donati\, ovvero dedicarsi ad approfondimenti di tematiche di etica sanitaria\, per educare alla protezione della Salute globale. \nIl comitato scientifico Centro Studi G. Donati 
URL:https://www.ordinemedicifc.it/evento/cambiamento-climatico-e-salute-esperienze-di-gestione-delle-emergenze-in-ausl-romagna/
CATEGORIES:Altri eventi
END:VEVENT
BEGIN:VEVENT
DTSTART;VALUE=DATE:20251210
DTEND;VALUE=DATE:20251212
DTSTAMP:20260424T144233
CREATED:20251014T125742Z
LAST-MODIFIED:20251014T125742Z
UID:27487-1765328400-1765414799@www.ordinemedicifc.it
SUMMARY:Bologna. Convegno regionale in tema AMR in ambito One health
DESCRIPTION:in occasione della settimana mondiale OMS sulla consapevolezza della resistenza agli antimicrobici (AMR) siamo lieti di annunciarvi la data del prossimo convegno regionale in tema AMR in ambito One health: \n\nmercoledì 10 dicembre 2025 \n\ndalle ore 9:00 alle ore 16:00 presso l’Aula Magna della Regione Emilia-Romagna (Viale Aldo Moro 30\, Bologna). \n\n\nLa giornata sarà dedicata agli aggiornamenti e approfondimenti in tema di epidemiologia regionale AMR e politiche regionali di buon uso degli Antibiotici\, iniziative aziendali e presentazione di progetti di promozione in Emilia-Romagna. Sarà nostra cura inviarvi il programma dettagliato nei prossimi giorni. \n\n\n\n\n\n________________________________________________________________________________ \n\n\nTeam AMR Regione Emilia-Romagna \nRegione Emilia-Romagna \nDirezione Generale Cura della Persona\, Salute e Welfare \nSettore Innovazione nei servizi Sanitari e Sociali
URL:https://www.ordinemedicifc.it/evento/bologna-convegno-regionale-in-tema-amr-in-ambito-one-health/
CATEGORIES:Altri eventi
END:VEVENT
BEGIN:VEVENT
DTSTART;VALUE=DATE:20251205
DTEND;VALUE=DATE:20251207
DTSTAMP:20260424T144233
CREATED:20251008T095646Z
LAST-MODIFIED:20251008T095646Z
UID:27443-1764896400-1764982799@www.ordinemedicifc.it
SUMMARY:Forlì. Agopuntura nella medicina di oggi: un' integrazione per la salute
DESCRIPTION:Programma 5 12 2025
URL:https://www.ordinemedicifc.it/evento/forli-agopuntura-nella-medicina-di-oggi-un-integrazione-per-la-salute/
CATEGORIES:Altri eventi
END:VEVENT
BEGIN:VEVENT
DTSTART;VALUE=DATE:20251127
DTEND;VALUE=DATE:20251129
DTSTAMP:20260424T144233
CREATED:20251031T091311Z
LAST-MODIFIED:20251031T091318Z
UID:27771-1764205200-1764291599@www.ordinemedicifc.it
SUMMARY:Forlipopoli. A cena con AISM
DESCRIPTION:Sarà una cena di beneficenza al fine di raccogliere fondi per sostenere il supporto alle persone con sclerosi multipla e loro famigliari che vivono nel nostro territorio. In allegato può trovare la locandina dettagliata con il programma previsto per la serata\, il menù e la destinazione dei fondi. \nLocandina AISM \n  \n  \n 
URL:https://www.ordinemedicifc.it/evento/forlipopoli-a-cena-con-aism/
CATEGORIES:Altri eventi
END:VEVENT
BEGIN:VEVENT
DTSTART;VALUE=DATE:20251122
DTEND;VALUE=DATE:20251124
DTSTAMP:20260424T144233
CREATED:20251117T075902Z
LAST-MODIFIED:20251117T075902Z
UID:27889-1763773200-1763859599@www.ordinemedicifc.it
SUMMARY:Cesena. UNA GIORNATA PARTICOLARE. MAURIZIO BUFALINI A 150 ANNI DALLA MORTE
DESCRIPTION:Definitivo 1 Programma giornata Bufalini
URL:https://www.ordinemedicifc.it/evento/cesena-una-giornata-particolare-maurizio-bufalini-a-150-anni-dalla-morte/
CATEGORIES:Altri eventi
END:VEVENT
BEGIN:VEVENT
DTSTART;VALUE=DATE:20251121
DTEND;VALUE=DATE:20251124
DTSTAMP:20260424T144233
CREATED:20251030T075039Z
LAST-MODIFIED:20251030T075158Z
UID:27735-1763686800-1763859599@www.ordinemedicifc.it
SUMMARY:San Marino. Il Profumo dei Ricordi – Neuroscienze dell’olfatto: memoria\, emozione e percezione sensoriale
DESCRIPTION:https://www.iss.sm/on-line/home/articolo49016857.html
URL:https://www.ordinemedicifc.it/evento/san-marino-il-profumo-dei-ricordi-neuroscienze-dellolfatto-memoria-emozione-e-percezione-sensoriale/
CATEGORIES:Altri eventi
END:VEVENT
BEGIN:VEVENT
DTSTART;VALUE=DATE:20251115
DTEND;VALUE=DATE:20251117
DTSTAMP:20260424T144233
CREATED:20251014T160326Z
LAST-MODIFIED:20251114T095030Z
UID:27496-1763168400-1763254799@www.ordinemedicifc.it
SUMMARY:Forlì. COMPLESSITÀ NEI TUMORI GINECOLOGICI: il PDTA come strumento d’aiuto per clinici e pazienti
DESCRIPTION:Tumori GInecologici programma.final
URL:https://www.ordinemedicifc.it/evento/forli-complessita-nei-tumori-ginecologici-il-pdta-come-strumento-daiuto-per-clinici-e-pazienti/
CATEGORIES:Altri eventi
END:VEVENT
BEGIN:VEVENT
DTSTART;VALUE=DATE:20250926
DTEND;VALUE=DATE:20250928
DTSTAMP:20260424T144233
CREATED:20250911T102506Z
LAST-MODIFIED:20250911T102506Z
UID:27138-1758848400-1758934799@www.ordinemedicifc.it
SUMMARY:Forlì. La salute dei migranti e lo stato di detenzione. Come prendercene cura?
DESCRIPTION:Locandina
URL:https://www.ordinemedicifc.it/evento/forli-la-salute-dei-migranti-e-lo-stato-di-detenzione-come-prendercene-cura/
CATEGORIES:Altri eventi
END:VEVENT
BEGIN:VEVENT
DTSTART;VALUE=DATE:20250920
DTEND;VALUE=DATE:20250922
DTSTAMP:20260424T144233
CREATED:20250805T125504Z
LAST-MODIFIED:20250805T130022Z
UID:26969-1758330000-1758416399@www.ordinemedicifc.it
SUMMARY:Perugia. Tennis Prevention Mastery
DESCRIPTION:Descrizione:\n  \nIl convegno che si terrà a Perugia il prossimo 20 settembre dal titolo “Tennis Prevention Mastery” si propone come un’occasione di aggiornamento e confronto nel campo della medicina sportiva e non solo.\nSaranno presenti relatori di spicco\, tra cui: Medici degli ATP Tour di tennis\, con la partecipazione confermata del Dott. Giovanni Di Giacomo\, Medico responsabile tecnico ATP e WTA Tennis Masters\, nomi illustri nel campo delle Scienze Motorie\, come Marco Panichi\, ex preparatore atletico di Jannik Sinner\, lo Psicologo Sportivo che ha seguito il primo atleta indiano alle Olimpiadi.\nL’evento avrà inizio in mattinata e si prefigge di offrire un panorama completo sulle metodologie di lavoro più innovative e sulle ultime scoperte nel settore.\nIl convegno è progettato per ospitare circa 400-500 invitati. Particolare attenzione è stata riservata ai medici\, con la creazione di una partnership dedicata e un coffee break esclusivo che offrirà loro un’opportunità privilegiata di networking e di approfondimento con partner presenti all’evento\, focalizzati su nuove metodiche e informazioni specialistiche.\nSarà allestito un vero e proprio “angolo medico” per favorire queste interazioni.\nPatrocini: Comune di Perugia\, CONI\, la Federazione Italiana Tennis e diverse Scuole di Salute\, oltre ad altri Ordini professionali.\nSono disponibili Crediti ECM. \nPer informazioni: \nDott. Cristian Cannoni\nmail: \ndottcristiancannoni@gmail.com\nFis10eventi@gmail.com\n3475126536 \nhttps://www.fis10.it/ \nPROGRAMMA 20 09 25
URL:https://www.ordinemedicifc.it/evento/tennis-prevention-mastery/
CATEGORIES:Altri eventi
END:VEVENT
BEGIN:VEVENT
DTSTART;VALUE=DATE:20250919
DTEND;VALUE=DATE:20250921
DTSTAMP:20260424T144233
CREATED:20250916T082532Z
LAST-MODIFIED:20250916T082532Z
UID:27197-1758243600-1758329999@www.ordinemedicifc.it
SUMMARY:Forlì. L’AMORE CHE FA MALE. L’Educazione sentimentale dei nuovi adolescenti
DESCRIPTION:19 set / 25
URL:https://www.ordinemedicifc.it/evento/forli-lamore-che-fa-male-leducazione-sentimentale-dei-nuovi-adolescenti/
CATEGORIES:Altri eventi
END:VEVENT
BEGIN:VEVENT
DTSTART;VALUE=DATE:20250621
DTEND;VALUE=DATE:20250623
DTSTAMP:20260424T144233
CREATED:20250616T072234Z
LAST-MODIFIED:20250616T072234Z
UID:26632-1750467600-1750553999@www.ordinemedicifc.it
SUMMARY:Forlì. I nuovi servizi di AIL Forlì-Cesena per i pazienti oncoematologici\, ematologici e i caregiver
DESCRIPTION:Programma
URL:https://www.ordinemedicifc.it/evento/forli-i-nuovi-servizi-di-ail-forli-cesena-per-i-pazienti-oncoematologici-ematologici-e-i-caregiver/
CATEGORIES:Altri eventi
END:VEVENT
BEGIN:VEVENT
DTSTART;VALUE=DATE:20250614
DTEND;VALUE=DATE:20250616
DTSTAMP:20260424T144233
CREATED:20250605T062419Z
LAST-MODIFIED:20250605T062626Z
UID:26541-1749862800-1749949199@www.ordinemedicifc.it
SUMMARY:Ravenna. CERTIFICAZIONI MEDICHE DI INTERESSE MEDICO-LEGALE: ASPETTI GIURIDICI E PRATICI
DESCRIPTION:https://omceora.irideweb.it/events/40c2eb2c-aee8-458a-707b-08dd9c562680
URL:https://www.ordinemedicifc.it/evento/ravenna-certificazioni-mediche-di-interesse-medico-legale-aspetti-giuridici-e-pratici/
CATEGORIES:Altri eventi
END:VEVENT
BEGIN:VEVENT
DTSTART;TZID=Europe/Paris:20250612T093000
DTEND;TZID=Europe/Paris:20250612T123000
DTSTAMP:20260424T144233
CREATED:20250530T105521Z
LAST-MODIFIED:20250530T105521Z
UID:26503-1749720600-1749731400@www.ordinemedicifc.it
SUMMARY:Forlì. Workshop | Come gestire i rifiuti sanitari
DESCRIPTION:https://www.romagna.camcom.it/events/event/218/workshop-come-gestire-i-rifiuti-sanitari
URL:https://www.ordinemedicifc.it/evento/forli-workshop-come-gestire-i-rifiuti-sanitari/
CATEGORIES:Altri eventi
END:VEVENT
BEGIN:VEVENT
DTSTART;VALUE=DATE:20250607
DTEND;VALUE=DATE:20250609
DTSTAMP:20260424T144233
CREATED:20250605T062335Z
LAST-MODIFIED:20250605T062335Z
UID:26539-1749258000-1749344399@www.ordinemedicifc.it
SUMMARY:Faenza. L'EMATOLOGIA INCONTRA LA MEDICINA DEL TERRITORIO: ANEMIE E ALTERAZIONI DELLE PIASTRINE
DESCRIPTION:https://omceora.irideweb.it/events/5ba5f91b-d796-4f85-9e63-08dd87f0a885
URL:https://www.ordinemedicifc.it/evento/faenza-lematologia-incontra-la-medicina-del-territorio-anemie-e-alterazioni-delle-piastrine/
CATEGORIES:Altri eventi
END:VEVENT
BEGIN:VEVENT
DTSTART;VALUE=DATE:20250207
DTEND;VALUE=DATE:20250209
DTSTAMP:20260424T144233
CREATED:20241202T100633Z
LAST-MODIFIED:20250114T080023Z
UID:24824-1738890000-1738976399@www.ordinemedicifc.it
SUMMARY:Forlì. "Occhi per donarti" Volontari dell'Ausl Romagna si raccontano
DESCRIPTION:Trasmettiamo la locandina dell’evento “Occhi per Donarti- Volontari dell’AUSL Romagna si raccontano” organizzato del Centro Studi G Donati per il volontariato e la solidarietà dell’AUSL Romagna. \nL’evento era stato sospeso a dicembre per concomitante sciopero\, ed è stato riprogrammato per il 7 febbraio pv. \n  \nlocandina
URL:https://www.ordinemedicifc.it/evento/forli-occhi-per-donarti-volontari-dellausl-romagna-si-raccontano/
CATEGORIES:Altri eventi
END:VEVENT
BEGIN:VEVENT
DTSTART;TZID=Europe/Paris:20250130T140000
DTEND;TZID=Europe/Paris:20250130T170000
DTSTAMP:20260424T144233
CREATED:20241218T095438Z
LAST-MODIFIED:20241218T095550Z
UID:24975-1738245600-1738256400@www.ordinemedicifc.it
SUMMARY:GVS CAMPUS EVENTO FAD "LA GESTIONE DELLO STRESS ATTRAVERSO LA MINDFULNESS"
DESCRIPTION:Gentilissimi\, \n  \nsiamo con la presente ad inviare il programma del Seminario “LA GESTIONE DELLO STRESS ATTRAVERSO LA MINDFULNESS”\, che si terrà in data venerdì 31 gennaio 2025 dalle 14.00 alle 17.00 in modalità FAD Sincrona tramite la piattaforma FAD GVM Campus\, con preghiera di diffusione. \n  \nNel corso di questo seminario verranno esplorati i meccanismi legati allo stress e le modalità di reazione di fronte alle situazioni critiche\, imparando a gestire in modo più appropriato le risposte automatiche e disfunzionali che spesso si attivano per fronteggiarlo. Sarà approfondito il ruolo delle emozioni nella vita quotidiana\, con l’obiettivo di imparare alcune strategie per padroneggiare i processi attentivi. Inoltre\, verranno sperimentate pratiche di Mindfulness\, che permetteranno un apprendimento esperienziale volto a sviluppare una consapevolezza diretta\, utile per riconoscere e accogliere le attività mentali che emergeranno durante tali pratiche. \n  \nL’iscrizione è gratuita e si effettua accedendo al sito GVM Campus disponibile al seguente link https://www.gvmnet.it/formazione/tutti-gli-eventi/2025/gestione-stress-mindfulness . \nProgramma seminario 31.01.2025 (2)
URL:https://www.ordinemedicifc.it/evento/gvs-campus-evento-fad-la-gestione-dello-stress-attraverso-la-mindfulness/
CATEGORIES:Altri eventi
END:VEVENT
BEGIN:VEVENT
DTSTART;TZID=Europe/Paris:20241210T100000
DTEND;TZID=Europe/Paris:20241210T120000
DTSTAMP:20260424T144233
CREATED:20241204T073723Z
LAST-MODIFIED:20241204T074315Z
UID:24857-1733824800-1733832000@www.ordinemedicifc.it
SUMMARY:INPS Cesena: INsieme Per la Salute - presentazione ufficiale sperimentazione INPS e nuove modalità di Certificazione
DESCRIPTION:10 dicembre 2024 ore 10.00 presso Aula Magna Biblioteca Malatestiana – Cesena \n  \nLocandina Cesena 10.12 \nCircolare INPS
URL:https://www.ordinemedicifc.it/evento/inps-insieme-per-la-salute-presentazione-ufficiale-sperimentazione-inps-e-nuove-modalita-di-certificazione-invalidita/
LOCATION:CESENA PIAZZA BUFALINI\, 1\, PIAZZA BUFALINI\, 1
CATEGORIES:Altri eventi
END:VEVENT
BEGIN:VEVENT
DTSTART;VALUE=DATE:20241204
DTEND;VALUE=DATE:20241206
DTSTAMP:20260424T144233
CREATED:20241128T073748Z
LAST-MODIFIED:20241128T073748Z
UID:24784-1733274000-1733360399@www.ordinemedicifc.it
SUMMARY:Forlì\, 4 dicembre. "Con il cuore". Spettacolo teatrale finalizzato alla sensibilizzazione della cittadinanza sul tema delle donazioni di Organi e Tessuti.
DESCRIPTION:https://icos.comune.forli.fc.it/Iscrizioni/IIscrizioniPersona/IscrizioneConferenzeCF/746
URL:https://www.ordinemedicifc.it/evento/forli-4-dicembre-con-il-cuore-spettacolo-teatrale-finalizzato-alla-sensibilizzazione-della-cittadinanza-sul-tema-delle-donazioni-di-organi-e-tessuti/
CATEGORIES:Altri eventi
END:VEVENT
BEGIN:VEVENT
DTSTART;TZID=Europe/Paris:20241126T190000
DTEND;TZID=Europe/Paris:20241126T220000
DTSTAMP:20260424T144233
CREATED:20241118T091238Z
LAST-MODIFIED:20241118T091238Z
UID:24689-1732647600-1732658400@www.ordinemedicifc.it
SUMMARY:FORLI': "MACULOPATIA E GLAUCOMA" 26 NOVEMBRE 2024 ORE 19
DESCRIPTION:Locandina TSRM 26.11.24 forli
URL:https://www.ordinemedicifc.it/evento/forli-maculopatia-e-glaucoma-26-novembre-2024-ore-19/
LOCATION:FORLI CORSO DIAZ 111\, CORSO DIAZ 111\, FORLI'\, FORLI'\, 47122\, Italy
CATEGORIES:Altri eventi
END:VEVENT
BEGIN:VEVENT
DTSTART;VALUE=DATE:20241120
DTEND;VALUE=DATE:20241122
DTSTAMP:20260424T144233
CREATED:20241108T105821Z
LAST-MODIFIED:20241108T105821Z
UID:24623-1732064400-1732150799@www.ordinemedicifc.it
SUMMARY:Forlì. Presentazione del libro "Pancreas. biografia a fumetti di un organo"
DESCRIPTION:Locandina
URL:https://www.ordinemedicifc.it/evento/forli-presentazione-del-libro-pancreas-biografia-a-fumetti-di-un-organo/
CATEGORIES:Altri eventi
END:VEVENT
BEGIN:VEVENT
DTSTART;VALUE=DATE:20241025
DTEND;VALUE=DATE:20241027
DTSTAMP:20260424T144233
CREATED:20241009T095754Z
LAST-MODIFIED:20241009T095754Z
UID:24278-1729818000-1729904399@www.ordinemedicifc.it
SUMMARY:Forlì. L'EVOLUZIONE DEL PENSIERO UMANO: TRA IL TECNOLOGICO E L'ARTIFICALE
DESCRIPTION:https://www.opifc.it/corsi-ed-eventi/l-evoluzione-del-pensiero-umano-tra-il-tecnologico-e-l-artificiale/
URL:https://www.ordinemedicifc.it/evento/forli-levoluzione-del-pensiero-umano-tra-il-tecnologico-e-lartificale/
CATEGORIES:Altri eventi
END:VEVENT
BEGIN:VEVENT
DTSTART;TZID=Europe/Paris:20241004T083000
DTEND;TZID=Europe/Paris:20241004T170000
DTSTAMP:20260424T144233
CREATED:20240924T132813Z
LAST-MODIFIED:20240924T132813Z
UID:24089-1728030600-1728061200@www.ordinemedicifc.it
SUMMARY:Congresso Avis Forlì “La tutela della salute del donatore e i rapporti con la medicina del territorio.”
DESCRIPTION:Il Congresso si svolgerà a Forlì il 04/10/2024  in P.zzetta Campostrino\, 4 dalle 8.30 alle 17.00 \nIl congresso si pone lo scopo di dare evidenza alle attività svolte per la tutela della salute dei Donatori oltre alla classica attività di selezione del Donatore e desidera creare un confronto fra le realtà insite nel nostro territorio nazionale\, aprendo lo scenario di discussione anche verso Paesi a noi più lontani. Il contenuto parte dal ruolo centrale della relazione fra Associazioni e Sanità Pubblica nella raccolta del Sangue e Plasma e si sviluppa sulla organizzazione raggiunta nello sviluppo condiviso del Piano Sangue e Plasma in Emilia[1]Romagna\, che è la best practice di riferimento\, in confronto con luoghi e sistemi diversi. \nL’evento vuole essere un contributo a percorsi di sempre maggiore integrazione fra mondo associativo e strutture sanitarie e universitarie. Il congresso ha avuto riconosciuti 7 crediti formativi dal Ministero della Salute. \nIl congresso ha ricevuto il Patrocinio del Centro Nazionale Sangue\, della Regione Emilia Romagna\, del Comune di Forlì\, del Dipartimento Scienze Mediche e Chirurgiche  dell’Università di Bologna\, della FNOMCeO  e della Fondazione Policlinico Universitario Campus Bio-Medico di Roma. \nLOCANDINA CONGRESSO LA TUTELA DELLA SALUTE DEL DONATORE E I RAPPORTI CON LA MEDICINA DEL TERRITORIO – FORLI’ 4 OTTOBRE 2024
URL:https://www.ordinemedicifc.it/evento/congresso-avis-forli-la-tutela-della-salute-del-donatore-e-i-rapporti-con-la-medicina-del-territorio/
CATEGORIES:Altri eventi
END:VEVENT
BEGIN:VEVENT
DTSTART;VALUE=DATE:20240927
DTEND;VALUE=DATE:20240929
DTSTAMP:20260424T144233
CREATED:20240917T073333Z
LAST-MODIFIED:20240917T073333Z
UID:24011-1727398800-1727485199@www.ordinemedicifc.it
SUMMARY:Cesena. PREVENZIONE IN MEDICINA INTERNA: IL RUOLO DELL’ESERCIZIO FISICO E DI UNA CORRETTA NUTRIZIONE
DESCRIPTION:Programma Congresso FADOI 27sett-2024
URL:https://www.ordinemedicifc.it/evento/cesena-prevenzione-in-medicina-interna-il-ruolo-dellesercizio-fisico-e-di-una-corretta-nutrizione/
CATEGORIES:Altri eventi
END:VEVENT
BEGIN:VEVENT
DTSTART;VALUE=DATE:20240525
DTEND;VALUE=DATE:20240527
DTSTAMP:20260424T144233
CREATED:20240514T125711Z
LAST-MODIFIED:20240514T125711Z
UID:23197-1716598800-1716685199@www.ordinemedicifc.it
SUMMARY:Rimini. La salute del cavo orale: quali differenze?
DESCRIPTION:locandina MdG cavo orale
URL:https://www.ordinemedicifc.it/evento/rimini-la-salute-del-cavo-orale-quali-differenze/
CATEGORIES:Altri eventi
END:VEVENT
BEGIN:VEVENT
DTSTART;VALUE=DATE:20240524
DTEND;VALUE=DATE:20240526
DTSTAMP:20260424T144233
CREATED:20240513T080523Z
LAST-MODIFIED:20240513T080523Z
UID:23187-1716512400-1716598799@www.ordinemedicifc.it
SUMMARY:Forlì. Guerra e Salute. Dalle evidenze scientifiche alla promozione della pace
DESCRIPTION:locandina_guerra o salute 24 maggio-modifiche 08-05 \n  \nL’iniziativa è aperta a tutti. Gli organizzatori  auspicano l’ampia partecipazione di  coloro\, singoli e/o associazioni\,i che vogliono essere operatori e promotori di Pace\, consapevoli che ogni guerra distrugge e si oppone a tutti i Diritti  e che \, al contrario\, favorisce povertà\, crisi\, distruzione\, disparità\, diseguaglianze\, regressione totale\, sofferenza e  morte.  \n“Abbiamo organizzato questo momento di riflessione  – spiegano gli organizzatori – sulle gravi conseguenze che una condizione di guerra provoca a tutti i livelli e\, in particolare\, sulla Salute di ogni paese e quindi sulla Salute Globale. E’ argomento purtroppo drammaticamente attuale ed ogni persona\, in quanto essere umano  e ogni operatore in sanità  è chiamato a riflettere e ad agire per contrastare questa deriva. L’ approccio al tema sarà scientifico\, basato su  dati epidemiologici\, condotto dal Dr Pirous Fateh- Moghadam\, medico epidemiologo\, del Dipartimento di Prevenzione dell’azienda provinciale per i servizi sanitari di Trento\, autore del libro”Guerra o Salute”\,  insieme a esperti del Centro Studi e Ricerche in Salute Internazionale e Interculturale dell’Università di Bologna. \nL’evento sarà moderato dal Dr. Francesco Sintoni\, direttore del Distretto sanitario di Forlì e del Rubicone e la dott.ssa  Francesca Bravi\, direttrice sanitaria dell’ AUSL Romagna concluderà i lavori.” \nCordiali saluti \nDaniela Valpiani \nCentro Studi Az. USL Romagna “Giovanni Donati” per il Volontariato e la Solidarietà
URL:https://www.ordinemedicifc.it/evento/forli-guerra-e-salute-dalle-evidenze-scientifiche-alla-promozione-della-pace/
CATEGORIES:Altri eventi
END:VEVENT
BEGIN:VEVENT
DTSTART;VALUE=DATE:20240516
DTEND;VALUE=DATE:20240518
DTSTAMP:20260424T144233
CREATED:20240117T104742Z
LAST-MODIFIED:20240117T104742Z
UID:22123-1715821200-1715907599@www.ordinemedicifc.it
SUMMARY:Rimini: Congresso Nazionale dell'Associazione Nazionale Medici Cardiologi Ospedalieri (ANMCO)
DESCRIPTION:Si informa che la 55a edizione del Congresso Nazionale dell’Associazione Nazionale Medici Cardiologi Ospedalieri (ANMCO) avrà luogo dal 16 al 18 maggio 2024\, al Palacongressi di Rimini.\nPer motivi organizzativi\, si richiede cortesemente di effettuare la procedura di iscrizione online entro il prossimo 30 aprile 2024 collegandosi al link https://congress.anmco.it/iscrizioni-congresso-2024/ .\nDopo tale data gli iscritti che vorranno partecipare potranno comunque recarsi direttamente al Palacongressi e rivolgersi al desk iscrizioni e pre-iscrizioni per ritirare lo speciale pass e partecipare ai lavori congressuali\, ottenendo i relativi crediti ECM.
URL:https://www.ordinemedicifc.it/evento/rimini-congresso-nazionale-dellassociazione-nazionale-medici-cardiologi-ospedalieri-anmco/
CATEGORIES:Altri eventi
END:VEVENT
BEGIN:VEVENT
DTSTART;VALUE=DATE:20240504
DTEND;VALUE=DATE:20240506
DTSTAMP:20260424T144233
CREATED:20240422T072713Z
LAST-MODIFIED:20240422T072832Z
UID:22969-1714784400-1714870799@www.ordinemedicifc.it
SUMMARY:Ravenna. Appropriatezza prescrittiva degli Antibiotici e resistenze batteriche
DESCRIPTION:Continua 
URL:https://www.ordinemedicifc.it/evento/ravenna-appropriatezza-prescrittiva-degli-antibiotici-e-resistenze-batteriche/
CATEGORIES:Altri eventi
END:VEVENT
BEGIN:VEVENT
DTSTART;VALUE=DATE:20240414
DTEND;VALUE=DATE:20240416
DTSTAMP:20260424T144233
CREATED:20240326T154849Z
LAST-MODIFIED:20240326T154849Z
UID:22744-1713056400-1713142799@www.ordinemedicifc.it
SUMMARY:Cesena. La violenza: prevenirla\, riconoscerla\, disinnescarla
DESCRIPTION:Volantino
URL:https://www.ordinemedicifc.it/evento/cesena-la-violenza-prevenirla-riconoscerla-disinnescarla/
CATEGORIES:Altri eventi
END:VEVENT
END:VCALENDAR