BEGIN:VCALENDAR
VERSION:2.0
PRODID:-//Ordine dei Medici Chirurghi e Odontoiatri di Forl&igrave;-Cesena - ECPv6.15.20//NONSGML v1.0//EN
CALSCALE:GREGORIAN
METHOD:PUBLISH
X-WR-CALNAME:Ordine dei Medici Chirurghi e Odontoiatri di Forl&igrave;-Cesena
X-ORIGINAL-URL:https://www.ordinemedicifc.it
X-WR-CALDESC:Eventi per Ordine dei Medici Chirurghi e Odontoiatri di Forl&igrave;-Cesena
REFRESH-INTERVAL;VALUE=DURATION:PT1H
X-Robots-Tag:noindex
X-PUBLISHED-TTL:PT1H
BEGIN:VTIMEZONE
TZID:Europe/Paris
BEGIN:DAYLIGHT
TZOFFSETFROM:+0100
TZOFFSETTO:+0200
TZNAME:CEST
DTSTART:20170326T010000
END:DAYLIGHT
BEGIN:STANDARD
TZOFFSETFROM:+0200
TZOFFSETTO:+0100
TZNAME:CET
DTSTART:20171029T010000
END:STANDARD
BEGIN:DAYLIGHT
TZOFFSETFROM:+0100
TZOFFSETTO:+0200
TZNAME:CEST
DTSTART:20180325T010000
END:DAYLIGHT
BEGIN:STANDARD
TZOFFSETFROM:+0200
TZOFFSETTO:+0100
TZNAME:CET
DTSTART:20181028T010000
END:STANDARD
BEGIN:DAYLIGHT
TZOFFSETFROM:+0100
TZOFFSETTO:+0200
TZNAME:CEST
DTSTART:20190331T010000
END:DAYLIGHT
BEGIN:STANDARD
TZOFFSETFROM:+0200
TZOFFSETTO:+0100
TZNAME:CET
DTSTART:20191027T010000
END:STANDARD
END:VTIMEZONE
BEGIN:VEVENT
DTSTART;TZID=Europe/Paris:20180915T083000
DTEND;TZID=Europe/Paris:20180915T153000
DTSTAMP:20260425T231142
CREATED:20180807T155641Z
LAST-MODIFIED:20180807T155641Z
UID:20880-1537000200-1537025400@www.ordinemedicifc.it
SUMMARY:Forlimpopoli: Alterazioni del neurosviluppo e disturbi del linguaggio: focus sul neurosviluppo
DESCRIPTION:locandina
URL:https://www.ordinemedicifc.it/evento/forlimpopoli-alterazioni-del-neurosviluppo-e-disturbi-del-linguaggio-focus-sul-neurosviluppo-2/
CATEGORIES:Patrocini
END:VEVENT
BEGIN:VEVENT
DTSTART;TZID=Europe/Paris:20180915T083000
DTEND;TZID=Europe/Paris:20180915T153000
DTSTAMP:20260425T231142
CREATED:20180807T155641Z
LAST-MODIFIED:20180807T155641Z
UID:7329-1537000200-1537025400@www.ordinemedicifc.it
SUMMARY:Forlimpopoli: Alterazioni del neurosviluppo e disturbi del linguaggio: focus sul neurosviluppo
DESCRIPTION:locandina
URL:https://www.ordinemedicifc.it/evento/forlimpopoli-alterazioni-del-neurosviluppo-e-disturbi-del-linguaggio-focus-sul-neurosviluppo/
CATEGORIES:Patrocini
END:VEVENT
BEGIN:VEVENT
DTSTART;VALUE=DATE:20180921
DTEND;VALUE=DATE:20180924
DTSTAMP:20260425T231142
CREATED:20180731T154012Z
LAST-MODIFIED:20180731T154012Z
UID:20877-1537491600-1537664399@www.ordinemedicifc.it
SUMMARY:Meldola: 1st International Translational Course in Rare Cancers (ITCRC)
DESCRIPTION:Locandina \n  \nProgramma \n 
URL:https://www.ordinemedicifc.it/evento/meldola-1st-international-translational-course-in-rare-cancers-itcrc-2/
CATEGORIES:Patrocini
END:VEVENT
BEGIN:VEVENT
DTSTART;VALUE=DATE:20180921
DTEND;VALUE=DATE:20180924
DTSTAMP:20260425T231142
CREATED:20180731T154012Z
LAST-MODIFIED:20180910T072100Z
UID:7304-1537491600-1537664399@www.ordinemedicifc.it
SUMMARY:Meldola: 1st International Translational Course in Rare Cancers (ITCRC)
DESCRIPTION:Locandina \n  \nProgramma \n 
URL:https://www.ordinemedicifc.it/evento/meldola-1st-international-translational-course-in-rare-cancers-itcrc/
CATEGORIES:Patrocini
END:VEVENT
BEGIN:VEVENT
DTSTART;TZID=Europe/Paris:20180922T090000
DTEND;TZID=Europe/Paris:20180922T130000
DTSTAMP:20260425T231142
CREATED:20180725T080744Z
LAST-MODIFIED:20180725T080744Z
UID:20876-1537606800-1537621200@www.ordinemedicifc.it
SUMMARY:Forlì: Endometriosi: conoscerla per affrontarla. facciamo il punto sulle novità
DESCRIPTION:Programma 22 settembre 2018
URL:https://www.ordinemedicifc.it/evento/forli-endometriosi-conoscerla-per-affrontarla-facciamo-il-punto-sulle-novita-2/
CATEGORIES:Patrocini
END:VEVENT
BEGIN:VEVENT
DTSTART;TZID=Europe/Paris:20180922T090000
DTEND;TZID=Europe/Paris:20180922T130000
DTSTAMP:20260425T231142
CREATED:20180725T080744Z
LAST-MODIFIED:20180725T080744Z
UID:7264-1537606800-1537621200@www.ordinemedicifc.it
SUMMARY:Forlì: Endometriosi: conoscerla per affrontarla. facciamo il punto sulle novità
DESCRIPTION:Programma 22 settembre 2018
URL:https://www.ordinemedicifc.it/evento/forli-endometriosi-conoscerla-per-affrontarla-facciamo-il-punto-sulle-novita/
CATEGORIES:Patrocini
END:VEVENT
BEGIN:VEVENT
DTSTART;VALUE=DATE:20180926
DTEND;VALUE=DATE:20180928
DTSTAMP:20260425T231142
CREATED:20180917T070958Z
LAST-MODIFIED:20180917T070958Z
UID:7500-1537923600-1538009999@www.ordinemedicifc.it
SUMMARY:Forlì: Garantire e promuovere il diritto alla salute per tutti
DESCRIPTION:Locandina
URL:https://www.ordinemedicifc.it/evento/forli-garantire-e-promuovere-il-diritto-alla-salute-per-tutti/
CATEGORIES:Patrocini
END:VEVENT
BEGIN:VEVENT
DTSTART;VALUE=DATE:20180926
DTEND;VALUE=DATE:20180928
DTSTAMP:20260425T231142
CREATED:20180917T070958Z
LAST-MODIFIED:20180917T070958Z
UID:20884-1537923600-1538009999@www.ordinemedicifc.it
SUMMARY:Forlì: Garantire e promuovere il diritto alla salute per tutti
DESCRIPTION:Locandina
URL:https://www.ordinemedicifc.it/evento/forli-garantire-e-promuovere-il-diritto-alla-salute-per-tutti-2/
CATEGORIES:Patrocini
END:VEVENT
BEGIN:VEVENT
DTSTART;TZID=Europe/Paris:20180929T083000
DTEND;TZID=Europe/Paris:20180929T133000
DTSTAMP:20260425T231142
CREATED:20180725T080354Z
LAST-MODIFIED:20180725T080354Z
UID:20875-1538209800-1538227800@www.ordinemedicifc.it
SUMMARY:Castrocaro Terme: Acqua da respirare. Naso e dintorni
DESCRIPTION:Programma e scheda di iscrizione
URL:https://www.ordinemedicifc.it/evento/castrocaro-terme-acqua-da-respirare-naso-e-dintorni-2/
CATEGORIES:Patrocini
END:VEVENT
BEGIN:VEVENT
DTSTART;TZID=Europe/Paris:20180929T083000
DTEND;TZID=Europe/Paris:20180929T133000
DTSTAMP:20260425T231142
CREATED:20180725T080354Z
LAST-MODIFIED:20180727T080646Z
UID:7261-1538209800-1538227800@www.ordinemedicifc.it
SUMMARY:Castrocaro Terme: Acqua da respirare. Naso e dintorni
DESCRIPTION:Programma e scheda di iscrizione
URL:https://www.ordinemedicifc.it/evento/castrocaro-terme-acqua-da-respirare-naso-e-dintorni/
CATEGORIES:Patrocini
END:VEVENT
END:VCALENDAR