BEGIN:VCALENDAR
VERSION:2.0
PRODID:-//Ordine dei Medici Chirurghi e Odontoiatri di Forl&igrave;-Cesena - ECPv6.15.20//NONSGML v1.0//EN
CALSCALE:GREGORIAN
METHOD:PUBLISH
X-WR-CALNAME:Ordine dei Medici Chirurghi e Odontoiatri di Forl&igrave;-Cesena
X-ORIGINAL-URL:https://www.ordinemedicifc.it
X-WR-CALDESC:Eventi per Ordine dei Medici Chirurghi e Odontoiatri di Forl&igrave;-Cesena
REFRESH-INTERVAL;VALUE=DURATION:PT1H
X-Robots-Tag:noindex
X-PUBLISHED-TTL:PT1H
BEGIN:VTIMEZONE
TZID:Europe/Paris
BEGIN:DAYLIGHT
TZOFFSETFROM:+0100
TZOFFSETTO:+0200
TZNAME:CEST
DTSTART:20170326T010000
END:DAYLIGHT
BEGIN:STANDARD
TZOFFSETFROM:+0200
TZOFFSETTO:+0100
TZNAME:CET
DTSTART:20171029T010000
END:STANDARD
BEGIN:DAYLIGHT
TZOFFSETFROM:+0100
TZOFFSETTO:+0200
TZNAME:CEST
DTSTART:20180325T010000
END:DAYLIGHT
BEGIN:STANDARD
TZOFFSETFROM:+0200
TZOFFSETTO:+0100
TZNAME:CET
DTSTART:20181028T010000
END:STANDARD
BEGIN:DAYLIGHT
TZOFFSETFROM:+0100
TZOFFSETTO:+0200
TZNAME:CEST
DTSTART:20190331T010000
END:DAYLIGHT
BEGIN:STANDARD
TZOFFSETFROM:+0200
TZOFFSETTO:+0100
TZNAME:CET
DTSTART:20191027T010000
END:STANDARD
END:VTIMEZONE
BEGIN:VEVENT
DTSTART;TZID=Europe/Paris:20181215T090000
DTEND;TZID=Europe/Paris:20181215T130000
DTSTAMP:20260425T192737
CREATED:20181024T084440Z
LAST-MODIFIED:20181024T084440Z
UID:7852-1544864400-1544878800@www.ordinemedicifc.it
SUMMARY:Forlì: INTESTINO MADRE DI TUTTE LE MALATTIE. GASTROENTEROLOGIA E MEDICINA BIOLOGICA
DESCRIPTION:Hotel Globus City\nVia Traiano Imperatore\, 4 \nLocandina
URL:https://www.ordinemedicifc.it/evento/forli-intestino-madre-di-tutte-le-malattie-gastroenterologia-e-medicina-biologica/
CATEGORIES:Patrocini
END:VEVENT
BEGIN:VEVENT
DTSTART;TZID=Europe/Paris:20181215T090000
DTEND;TZID=Europe/Paris:20181215T130000
DTSTAMP:20260425T192737
CREATED:20181024T084440Z
LAST-MODIFIED:20181024T084440Z
UID:20895-1544864400-1544878800@www.ordinemedicifc.it
SUMMARY:Forlì: INTESTINO MADRE DI TUTTE LE MALATTIE. GASTROENTEROLOGIA E MEDICINA BIOLOGICA
DESCRIPTION:Hotel Globus City\nVia Traiano Imperatore\, 4 \nLocandina
URL:https://www.ordinemedicifc.it/evento/forli-intestino-madre-di-tutte-le-malattie-gastroenterologia-e-medicina-biologica-2/
CATEGORIES:Patrocini
END:VEVENT
END:VCALENDAR