BEGIN:VCALENDAR
VERSION:2.0
PRODID:-//Ordine dei Medici Chirurghi e Odontoiatri di Forl&igrave;-Cesena - ECPv6.15.20//NONSGML v1.0//EN
CALSCALE:GREGORIAN
METHOD:PUBLISH
X-ORIGINAL-URL:https://www.ordinemedicifc.it
X-WR-CALDESC:Eventi per Ordine dei Medici Chirurghi e Odontoiatri di Forl&igrave;-Cesena
REFRESH-INTERVAL;VALUE=DURATION:PT1H
X-Robots-Tag:noindex
X-PUBLISHED-TTL:PT1H
BEGIN:VTIMEZONE
TZID:Europe/Paris
BEGIN:DAYLIGHT
TZOFFSETFROM:+0100
TZOFFSETTO:+0200
TZNAME:CEST
DTSTART:20180325T010000
END:DAYLIGHT
BEGIN:STANDARD
TZOFFSETFROM:+0200
TZOFFSETTO:+0100
TZNAME:CET
DTSTART:20181028T010000
END:STANDARD
BEGIN:DAYLIGHT
TZOFFSETFROM:+0100
TZOFFSETTO:+0200
TZNAME:CEST
DTSTART:20190331T010000
END:DAYLIGHT
BEGIN:STANDARD
TZOFFSETFROM:+0200
TZOFFSETTO:+0100
TZNAME:CET
DTSTART:20191027T010000
END:STANDARD
BEGIN:DAYLIGHT
TZOFFSETFROM:+0100
TZOFFSETTO:+0200
TZNAME:CEST
DTSTART:20200329T010000
END:DAYLIGHT
BEGIN:STANDARD
TZOFFSETFROM:+0200
TZOFFSETTO:+0100
TZNAME:CET
DTSTART:20201025T010000
END:STANDARD
END:VTIMEZONE
BEGIN:VEVENT
DTSTART;TZID=Europe/Paris:20190316T083000
DTEND;TZID=Europe/Paris:20190316T130000
DTSTAMP:20260425T155635
CREATED:20190226T074230Z
LAST-MODIFIED:20190226T074230Z
UID:20912-1552725000-1552741200@www.ordinemedicifc.it
SUMMARY:Forlì: Salute e umanizzazione della cura
DESCRIPTION:Programma
URL:https://www.ordinemedicifc.it/evento/forli-salute-e-umanizzazione-della-cura-2/
LOCATION:Sala Conferenze\, Viale Italia\, 153 - scala C - 1° piano\, Forlì\, Italia
CATEGORIES:Patrocini
END:VEVENT
BEGIN:VEVENT
DTSTART;TZID=Europe/Paris:20190316T083000
DTEND;TZID=Europe/Paris:20190316T130000
DTSTAMP:20260425T155635
CREATED:20190226T074230Z
LAST-MODIFIED:20190226T074230Z
UID:8637-1552725000-1552741200@www.ordinemedicifc.it
SUMMARY:Forlì: Salute e umanizzazione della cura
DESCRIPTION:Programma
URL:https://www.ordinemedicifc.it/evento/forli-salute-e-umanizzazione-della-cura/
LOCATION:Sala Conferenze\, Viale Italia\, 153 - scala C - 1° piano\, Forlì\, Italia
CATEGORIES:Patrocini
END:VEVENT
BEGIN:VEVENT
DTSTART;VALUE=DATE:20190330
DTEND;VALUE=DATE:20190401
DTSTAMP:20260425T155635
CREATED:20190319T111045Z
LAST-MODIFIED:20190319T111045Z
UID:8807-1553907600-1553993999@www.ordinemedicifc.it
SUMMARY:Forlì: Novità tecnologiche in chirurgia plastica e medicina estetica
DESCRIPTION:Continua
URL:https://www.ordinemedicifc.it/evento/forli-novita-tecnologiche-in-chirurgia-plastica-e-medicina-estetica-2/
CATEGORIES:Patrocini
END:VEVENT
BEGIN:VEVENT
DTSTART;VALUE=DATE:20190330
DTEND;VALUE=DATE:20190401
DTSTAMP:20260425T155635
CREATED:20190319T111045Z
LAST-MODIFIED:20190319T111045Z
UID:20927-1553907600-1553993999@www.ordinemedicifc.it
SUMMARY:Forlì: Novità tecnologiche in chirurgia plastica e medicina estetica
DESCRIPTION:Continua
URL:https://www.ordinemedicifc.it/evento/forli-novita-tecnologiche-in-chirurgia-plastica-e-medicina-estetica-2-2/
CATEGORIES:Patrocini
END:VEVENT
END:VCALENDAR