BEGIN:VCALENDAR
VERSION:2.0
PRODID:-//Ordine dei Medici Chirurghi e Odontoiatri di Forl&igrave;-Cesena - ECPv6.15.20//NONSGML v1.0//EN
CALSCALE:GREGORIAN
METHOD:PUBLISH
X-WR-CALNAME:Ordine dei Medici Chirurghi e Odontoiatri di Forl&igrave;-Cesena
X-ORIGINAL-URL:https://www.ordinemedicifc.it
X-WR-CALDESC:Eventi per Ordine dei Medici Chirurghi e Odontoiatri di Forl&igrave;-Cesena
REFRESH-INTERVAL;VALUE=DURATION:PT1H
X-Robots-Tag:noindex
X-PUBLISHED-TTL:PT1H
BEGIN:VTIMEZONE
TZID:Europe/Paris
BEGIN:DAYLIGHT
TZOFFSETFROM:+0100
TZOFFSETTO:+0200
TZNAME:CEST
DTSTART:20180325T010000
END:DAYLIGHT
BEGIN:STANDARD
TZOFFSETFROM:+0200
TZOFFSETTO:+0100
TZNAME:CET
DTSTART:20181028T010000
END:STANDARD
BEGIN:DAYLIGHT
TZOFFSETFROM:+0100
TZOFFSETTO:+0200
TZNAME:CEST
DTSTART:20190331T010000
END:DAYLIGHT
BEGIN:STANDARD
TZOFFSETFROM:+0200
TZOFFSETTO:+0100
TZNAME:CET
DTSTART:20191027T010000
END:STANDARD
BEGIN:DAYLIGHT
TZOFFSETFROM:+0100
TZOFFSETTO:+0200
TZNAME:CEST
DTSTART:20200329T010000
END:DAYLIGHT
BEGIN:STANDARD
TZOFFSETFROM:+0200
TZOFFSETTO:+0100
TZNAME:CET
DTSTART:20201025T010000
END:STANDARD
END:VTIMEZONE
BEGIN:VEVENT
DTSTART;TZID=Europe/Paris:20191206T130000
DTEND;TZID=Europe/Paris:20191206T193000
DTSTAMP:20260425T043128
CREATED:20191119T075850Z
LAST-MODIFIED:20191119T075850Z
UID:10273-1575637200-1575660600@www.ordinemedicifc.it
SUMMARY:Cesena: Occhio al Diabete focus su screening e attualità diagnostico terapeutiche
DESCRIPTION:Continua
URL:https://www.ordinemedicifc.it/evento/cesena-occhio-al-diabete-focus-su-screening-e-attualita-diagnostico-terapeutiche/
CATEGORIES:Patrocini
END:VEVENT
BEGIN:VEVENT
DTSTART;TZID=Europe/Paris:20191206T130000
DTEND;TZID=Europe/Paris:20191206T193000
DTSTAMP:20260425T043128
CREATED:20191119T075850Z
LAST-MODIFIED:20191119T075850Z
UID:20959-1575637200-1575660600@www.ordinemedicifc.it
SUMMARY:Cesena: Occhio al Diabete focus su screening e attualità diagnostico terapeutiche
DESCRIPTION:Continua
URL:https://www.ordinemedicifc.it/evento/cesena-occhio-al-diabete-focus-su-screening-e-attualita-diagnostico-terapeutiche-2/
CATEGORIES:Patrocini
END:VEVENT
END:VCALENDAR