BEGIN:VCALENDAR
VERSION:2.0
PRODID:-//Ordine dei Medici Chirurghi e Odontoiatri di Forl&igrave;-Cesena - ECPv6.15.20//NONSGML v1.0//EN
CALSCALE:GREGORIAN
METHOD:PUBLISH
X-ORIGINAL-URL:https://www.ordinemedicifc.it
X-WR-CALDESC:Eventi per Ordine dei Medici Chirurghi e Odontoiatri di Forl&igrave;-Cesena
REFRESH-INTERVAL;VALUE=DURATION:PT1H
X-Robots-Tag:noindex
X-PUBLISHED-TTL:PT1H
BEGIN:VTIMEZONE
TZID:Europe/Paris
BEGIN:DAYLIGHT
TZOFFSETFROM:+0100
TZOFFSETTO:+0200
TZNAME:CEST
DTSTART:20190331T010000
END:DAYLIGHT
BEGIN:STANDARD
TZOFFSETFROM:+0200
TZOFFSETTO:+0100
TZNAME:CET
DTSTART:20191027T010000
END:STANDARD
BEGIN:DAYLIGHT
TZOFFSETFROM:+0100
TZOFFSETTO:+0200
TZNAME:CEST
DTSTART:20200329T010000
END:DAYLIGHT
BEGIN:STANDARD
TZOFFSETFROM:+0200
TZOFFSETTO:+0100
TZNAME:CET
DTSTART:20201025T010000
END:STANDARD
BEGIN:DAYLIGHT
TZOFFSETFROM:+0100
TZOFFSETTO:+0200
TZNAME:CEST
DTSTART:20210328T010000
END:DAYLIGHT
BEGIN:STANDARD
TZOFFSETFROM:+0200
TZOFFSETTO:+0100
TZNAME:CET
DTSTART:20211031T010000
END:STANDARD
END:VTIMEZONE
BEGIN:VEVENT
DTSTART;TZID=Europe/Paris:20200511T203000
DTEND;TZID=Europe/Paris:20200511T230000
DTSTAMP:20260424T222939
CREATED:20200121T094549Z
LAST-MODIFIED:20200121T094549Z
UID:20971-1589229000-1589238000@www.ordinemedicifc.it
SUMMARY:Cesena: Inquinamento da onde elettromagnetiche ed avvento del 5G
DESCRIPTION:Sala Cacciaguerra\, Viale Bovio 52 \ncontinua
URL:https://www.ordinemedicifc.it/evento/cesena-inquinamento-da-onde-elettromagnetiche-ed-avvento-del-5g-2/
CATEGORIES:Patrocini
END:VEVENT
BEGIN:VEVENT
DTSTART;TZID=Europe/Paris:20200511T203000
DTEND;TZID=Europe/Paris:20200511T230000
DTSTAMP:20260424T222939
CREATED:20200121T094549Z
LAST-MODIFIED:20200121T094549Z
UID:10702-1589229000-1589238000@www.ordinemedicifc.it
SUMMARY:Cesena: Inquinamento da onde elettromagnetiche ed avvento del 5G
DESCRIPTION:Sala Cacciaguerra\, Viale Bovio 52 \ncontinua
URL:https://www.ordinemedicifc.it/evento/cesena-inquinamento-da-onde-elettromagnetiche-ed-avvento-del-5g/
CATEGORIES:Patrocini
END:VEVENT
END:VCALENDAR