BEGIN:VCALENDAR
VERSION:2.0
PRODID:-//Ordine dei Medici Chirurghi e Odontoiatri di Forl&igrave;-Cesena - ECPv6.15.20//NONSGML v1.0//EN
CALSCALE:GREGORIAN
METHOD:PUBLISH
X-ORIGINAL-URL:https://www.ordinemedicifc.it
X-WR-CALDESC:Eventi per Ordine dei Medici Chirurghi e Odontoiatri di Forl&igrave;-Cesena
REFRESH-INTERVAL;VALUE=DURATION:PT1H
X-Robots-Tag:noindex
X-PUBLISHED-TTL:PT1H
BEGIN:VTIMEZONE
TZID:Europe/Paris
BEGIN:DAYLIGHT
TZOFFSETFROM:+0100
TZOFFSETTO:+0200
TZNAME:CEST
DTSTART:20190331T010000
END:DAYLIGHT
BEGIN:STANDARD
TZOFFSETFROM:+0200
TZOFFSETTO:+0100
TZNAME:CET
DTSTART:20191027T010000
END:STANDARD
BEGIN:DAYLIGHT
TZOFFSETFROM:+0100
TZOFFSETTO:+0200
TZNAME:CEST
DTSTART:20200329T010000
END:DAYLIGHT
BEGIN:STANDARD
TZOFFSETFROM:+0200
TZOFFSETTO:+0100
TZNAME:CET
DTSTART:20201025T010000
END:STANDARD
BEGIN:DAYLIGHT
TZOFFSETFROM:+0100
TZOFFSETTO:+0200
TZNAME:CEST
DTSTART:20210328T010000
END:DAYLIGHT
BEGIN:STANDARD
TZOFFSETFROM:+0200
TZOFFSETTO:+0100
TZNAME:CET
DTSTART:20211031T010000
END:STANDARD
END:VTIMEZONE
BEGIN:VEVENT
DTSTART;VALUE=DATE:20200905
DTEND;VALUE=DATE:20200908
DTSTAMP:20260424T181919
CREATED:20200513T083513Z
LAST-MODIFIED:20200513T083513Z
UID:11894-1599267600-1599440399@www.ordinemedicifc.it
SUMMARY:Not(t)e di Respiri
DESCRIPTION:https://www.nottedirespiri.com/
URL:https://www.ordinemedicifc.it/evento/notte-di-respiri/
CATEGORIES:Patrocini
END:VEVENT
BEGIN:VEVENT
DTSTART;VALUE=DATE:20200905
DTEND;VALUE=DATE:20200908
DTSTAMP:20260424T181919
CREATED:20200513T083513Z
LAST-MODIFIED:20200513T083513Z
UID:20975-1599267600-1599440399@www.ordinemedicifc.it
SUMMARY:Not(t)e di Respiri
DESCRIPTION:https://www.nottedirespiri.com/
URL:https://www.ordinemedicifc.it/evento/notte-di-respiri-2/
CATEGORIES:Patrocini
END:VEVENT
END:VCALENDAR