BEGIN:VCALENDAR
VERSION:2.0
PRODID:-//Ordine dei Medici Chirurghi e Odontoiatri di Forl&igrave;-Cesena - ECPv6.15.20//NONSGML v1.0//EN
CALSCALE:GREGORIAN
METHOD:PUBLISH
X-WR-CALNAME:Ordine dei Medici Chirurghi e Odontoiatri di Forl&igrave;-Cesena
X-ORIGINAL-URL:https://www.ordinemedicifc.it
X-WR-CALDESC:Eventi per Ordine dei Medici Chirurghi e Odontoiatri di Forl&igrave;-Cesena
REFRESH-INTERVAL;VALUE=DURATION:PT1H
X-Robots-Tag:noindex
X-PUBLISHED-TTL:PT1H
BEGIN:VTIMEZONE
TZID:Europe/Paris
BEGIN:DAYLIGHT
TZOFFSETFROM:+0100
TZOFFSETTO:+0200
TZNAME:CEST
DTSTART:20190331T010000
END:DAYLIGHT
BEGIN:STANDARD
TZOFFSETFROM:+0200
TZOFFSETTO:+0100
TZNAME:CET
DTSTART:20191027T010000
END:STANDARD
BEGIN:DAYLIGHT
TZOFFSETFROM:+0100
TZOFFSETTO:+0200
TZNAME:CEST
DTSTART:20200329T010000
END:DAYLIGHT
BEGIN:STANDARD
TZOFFSETFROM:+0200
TZOFFSETTO:+0100
TZNAME:CET
DTSTART:20201025T010000
END:STANDARD
BEGIN:DAYLIGHT
TZOFFSETFROM:+0100
TZOFFSETTO:+0200
TZNAME:CEST
DTSTART:20210328T010000
END:DAYLIGHT
BEGIN:STANDARD
TZOFFSETFROM:+0200
TZOFFSETTO:+0100
TZNAME:CET
DTSTART:20211031T010000
END:STANDARD
END:VTIMEZONE
BEGIN:VEVENT
DTSTART;TZID=Europe/Paris:20201218T141500
DTEND;TZID=Europe/Paris:20201218T185000
DTSTAMP:20260424T143803
CREATED:20201202T112344Z
LAST-MODIFIED:20201202T112459Z
UID:13512-1608300900-1608317400@www.ordinemedicifc.it
SUMMARY:CHRONICITY: PERCORSI E MODELLI DI CURA IN GASTROENTEROLOGIA
DESCRIPTION:TIPOLOGIA DI FORMAZIONE: WEBINAR \nSCHEDA ISCRIZIONE \nCHRONICITY
URL:https://www.ordinemedicifc.it/evento/chronicity-percorsi-e-modelli-di-cura-in-gastroenterologia/
CATEGORIES:Patrocini
END:VEVENT
BEGIN:VEVENT
DTSTART;TZID=Europe/Paris:20201218T141500
DTEND;TZID=Europe/Paris:20201218T185000
DTSTAMP:20260424T143803
CREATED:20201202T112344Z
LAST-MODIFIED:20201202T112344Z
UID:20976-1608300900-1608317400@www.ordinemedicifc.it
SUMMARY:CHRONICITY: PERCORSI E MODELLI DI CURA IN GASTROENTEROLOGIA
DESCRIPTION:TIPOLOGIA DI FORMAZIONE: WEBINAR \nSCHEDA ISCRIZIONE \nCHRONICITY
URL:https://www.ordinemedicifc.it/evento/chronicity-percorsi-e-modelli-di-cura-in-gastroenterologia-2/
CATEGORIES:Patrocini
END:VEVENT
END:VCALENDAR