BEGIN:VCALENDAR
VERSION:2.0
PRODID:-//Ordine dei Medici Chirurghi e Odontoiatri di Forl&igrave;-Cesena - ECPv6.15.18//NONSGML v1.0//EN
CALSCALE:GREGORIAN
METHOD:PUBLISH
X-ORIGINAL-URL:https://www.ordinemedicifc.it
X-WR-CALDESC:Eventi per Ordine dei Medici Chirurghi e Odontoiatri di Forl&igrave;-Cesena
REFRESH-INTERVAL;VALUE=DURATION:PT1H
X-Robots-Tag:noindex
X-PUBLISHED-TTL:PT1H
BEGIN:VTIMEZONE
TZID:Europe/Paris
BEGIN:DAYLIGHT
TZOFFSETFROM:+0100
TZOFFSETTO:+0200
TZNAME:CEST
DTSTART:20230326T010000
END:DAYLIGHT
BEGIN:STANDARD
TZOFFSETFROM:+0200
TZOFFSETTO:+0100
TZNAME:CET
DTSTART:20231029T010000
END:STANDARD
BEGIN:DAYLIGHT
TZOFFSETFROM:+0100
TZOFFSETTO:+0200
TZNAME:CEST
DTSTART:20240331T010000
END:DAYLIGHT
BEGIN:STANDARD
TZOFFSETFROM:+0200
TZOFFSETTO:+0100
TZNAME:CET
DTSTART:20241027T010000
END:STANDARD
BEGIN:DAYLIGHT
TZOFFSETFROM:+0100
TZOFFSETTO:+0200
TZNAME:CEST
DTSTART:20250330T010000
END:DAYLIGHT
BEGIN:STANDARD
TZOFFSETFROM:+0200
TZOFFSETTO:+0100
TZNAME:CET
DTSTART:20251026T010000
END:STANDARD
END:VTIMEZONE
BEGIN:VEVENT
DTSTART;VALUE=DATE:20240320
DTEND;VALUE=DATE:20240322
DTSTAMP:20260420T110831
CREATED:20240220T093439Z
LAST-MODIFIED:20240220T093439Z
UID:22414-1710896400-1710982799@www.ordinemedicifc.it
SUMMARY:Forlì. ENDOBOAT: TUS-EUS
DESCRIPTION:https://www.adbcongressi.it/evento_1081_adbcongressiedeventi
URL:https://www.ordinemedicifc.it/evento/forli-endoboat-tus-eus/
CATEGORIES:Patrocini
END:VEVENT
BEGIN:VEVENT
DTSTART;VALUE=DATE:20240320
DTEND;VALUE=DATE:20240323
DTSTAMP:20260420T110831
CREATED:20240124T102528Z
LAST-MODIFIED:20240124T102528Z
UID:22178-1710896400-1711069199@www.ordinemedicifc.it
SUMMARY:Forlì. CHRONICITY: EPATOPATIE CRONICHE E MALATTIE INFIAMMATORIE CRONICHE INTESTINALI
DESCRIPTION:https://www.adbcongressi.it/evento_1082_adbcongressiedeventi
URL:https://www.ordinemedicifc.it/evento/forli-chronicity-epatopatie-croniche-e-malattie-infiammatorie-croniche-intestinali/
CATEGORIES:Patrocini
END:VEVENT
END:VCALENDAR