BEGIN:VCALENDAR
VERSION:2.0
PRODID:-//Ordine dei Medici Chirurghi e Odontoiatri di Forl&igrave;-Cesena - ECPv6.15.18//NONSGML v1.0//EN
CALSCALE:GREGORIAN
METHOD:PUBLISH
X-WR-CALNAME:Ordine dei Medici Chirurghi e Odontoiatri di Forl&igrave;-Cesena
X-ORIGINAL-URL:https://www.ordinemedicifc.it
X-WR-CALDESC:Eventi per Ordine dei Medici Chirurghi e Odontoiatri di Forl&igrave;-Cesena
REFRESH-INTERVAL;VALUE=DURATION:PT1H
X-Robots-Tag:noindex
X-PUBLISHED-TTL:PT1H
BEGIN:VTIMEZONE
TZID:Europe/Paris
BEGIN:DAYLIGHT
TZOFFSETFROM:+0100
TZOFFSETTO:+0200
TZNAME:CEST
DTSTART:20230326T010000
END:DAYLIGHT
BEGIN:STANDARD
TZOFFSETFROM:+0200
TZOFFSETTO:+0100
TZNAME:CET
DTSTART:20231029T010000
END:STANDARD
BEGIN:DAYLIGHT
TZOFFSETFROM:+0100
TZOFFSETTO:+0200
TZNAME:CEST
DTSTART:20240331T010000
END:DAYLIGHT
BEGIN:STANDARD
TZOFFSETFROM:+0200
TZOFFSETTO:+0100
TZNAME:CET
DTSTART:20241027T010000
END:STANDARD
BEGIN:DAYLIGHT
TZOFFSETFROM:+0100
TZOFFSETTO:+0200
TZNAME:CEST
DTSTART:20250330T010000
END:DAYLIGHT
BEGIN:STANDARD
TZOFFSETFROM:+0200
TZOFFSETTO:+0100
TZNAME:CET
DTSTART:20251026T010000
END:STANDARD
END:VTIMEZONE
BEGIN:VEVENT
DTSTART;VALUE=DATE:20240413
DTEND;VALUE=DATE:20240415
DTSTAMP:20260420T105326
CREATED:20240124T102034Z
LAST-MODIFIED:20240124T102256Z
UID:22171-1712970000-1713056399@www.ordinemedicifc.it
SUMMARY:Forlì. Malattia Renale Cronica: prospettive terapeutiche e ruolo del territorio
DESCRIPTION:https://www.comunicazioneventi.it/events/malattia-renale-cronica-prospettive-terapeutiche-e-ruolo-del-territorio/
URL:https://www.ordinemedicifc.it/evento/forli-malattia-renale-cronica-prospettive-terapeutiche-e-ruolo-del-territorio/
CATEGORIES:Patrocini
END:VEVENT
BEGIN:VEVENT
DTSTART;VALUE=DATE:20240418
DTEND;VALUE=DATE:20240420
DTSTAMP:20260420T105326
CREATED:20240220T100512Z
LAST-MODIFIED:20240220T100512Z
UID:22419-1713402000-1713488399@www.ordinemedicifc.it
SUMMARY:Forlì. Le terapie avanzate nella malattia di Parkinson
DESCRIPTION:Presso Casa di Riposo Petro Zangheri \n  \nhttps://www.laretemagica.it/
URL:https://www.ordinemedicifc.it/evento/forli-le-terapie-avanzate-nella-malattia-di-parkinson/
CATEGORIES:Patrocini
END:VEVENT
BEGIN:VEVENT
DTSTART;VALUE=DATE:20240418
DTEND;VALUE=DATE:20240421
DTSTAMP:20260420T105326
CREATED:20240220T101049Z
LAST-MODIFIED:20240220T101049Z
UID:22421-1713402000-1713574799@www.ordinemedicifc.it
SUMMARY:Forlì. PANCREAS REUNION 2024
DESCRIPTION:https://www.adbcongressi.it/evento_1083_adbcongressiedeventi
URL:https://www.ordinemedicifc.it/evento/forli-pancreas-reunion-2024/
CATEGORIES:Patrocini
END:VEVENT
BEGIN:VEVENT
DTSTART;VALUE=DATE:20240419
DTEND;VALUE=DATE:20240422
DTSTAMP:20260420T105326
CREATED:20240220T095615Z
LAST-MODIFIED:20240220T095649Z
UID:22416-1713488400-1713661199@www.ordinemedicifc.it
SUMMARY:Cesena: Dall’alimento alla chirurgia: il trattamento integrato dell’obesità
DESCRIPTION:https://sicobcesenatico.cloud/index.html
URL:https://www.ordinemedicifc.it/evento/cesena-dallalimento-alla-chirurgia-il-trattamento-integrato-dellobesita/
CATEGORIES:Patrocini
END:VEVENT
END:VCALENDAR