BEGIN:VCALENDAR
VERSION:2.0
PRODID:-//Ordine dei Medici Chirurghi e Odontoiatri di Forl&igrave;-Cesena - ECPv6.15.20//NONSGML v1.0//EN
CALSCALE:GREGORIAN
METHOD:PUBLISH
X-WR-CALNAME:Ordine dei Medici Chirurghi e Odontoiatri di Forl&igrave;-Cesena
X-ORIGINAL-URL:https://www.ordinemedicifc.it
X-WR-CALDESC:Eventi per Ordine dei Medici Chirurghi e Odontoiatri di Forl&igrave;-Cesena
REFRESH-INTERVAL;VALUE=DURATION:PT1H
X-Robots-Tag:noindex
X-PUBLISHED-TTL:PT1H
BEGIN:VTIMEZONE
TZID:Europe/Paris
BEGIN:DAYLIGHT
TZOFFSETFROM:+0100
TZOFFSETTO:+0200
TZNAME:CEST
DTSTART:20230326T010000
END:DAYLIGHT
BEGIN:STANDARD
TZOFFSETFROM:+0200
TZOFFSETTO:+0100
TZNAME:CET
DTSTART:20231029T010000
END:STANDARD
BEGIN:DAYLIGHT
TZOFFSETFROM:+0100
TZOFFSETTO:+0200
TZNAME:CEST
DTSTART:20240331T010000
END:DAYLIGHT
BEGIN:STANDARD
TZOFFSETFROM:+0200
TZOFFSETTO:+0100
TZNAME:CET
DTSTART:20241027T010000
END:STANDARD
BEGIN:DAYLIGHT
TZOFFSETFROM:+0100
TZOFFSETTO:+0200
TZNAME:CEST
DTSTART:20250330T010000
END:DAYLIGHT
BEGIN:STANDARD
TZOFFSETFROM:+0200
TZOFFSETTO:+0100
TZNAME:CET
DTSTART:20251026T010000
END:STANDARD
END:VTIMEZONE
BEGIN:VEVENT
DTSTART;TZID=Europe/Paris:20240307T203000
DTEND;TZID=Europe/Paris:20240307T223000
DTSTAMP:20260425T180429
CREATED:20240208T084734Z
LAST-MODIFIED:20240208T084734Z
UID:22292-1709843400-1709850600@www.ordinemedicifc.it
SUMMARY:OMCeO FC: Il percorso delle donne che subiscono violenza
DESCRIPTION:Programma 7 marzo 2024 \n  \nREGISTRAZIONE ONLINE OBBLIGATORIA ENTRO IL GIORNO PRIMA \nCliccare qui per registrarsi come medico convenzionato SSN o dipendente AUSL \nCliccare qui per registrarsi come esterno (non convenzionato del SSN e non dipendente AUSL)
URL:https://www.ordinemedicifc.it/evento/omceo-fc-il-percorso-delle-donne-che-subiscono-violenza-3/
CATEGORIES:OMCeO FC
END:VEVENT
BEGIN:VEVENT
DTSTART;TZID=Europe/Paris:20240309T090000
DTEND;TZID=Europe/Paris:20240309T120000
DTSTAMP:20260425T180429
CREATED:20240208T085004Z
LAST-MODIFIED:20240208T085038Z
UID:22295-1709974800-1709985600@www.ordinemedicifc.it
SUMMARY:OMCeO FC: Il termalismo tra Tecnologia\, Cure e Ricerca Scientifica nei centri termali della provincia di Forlì e Cesena
DESCRIPTION:Programma 9 marzo 2024 \n  \nREGISTRAZIONE ONLINE OBBLIGATORIA ENTRO IL GIORNO PRIMA \nCliccare qui per registrarsi come medico convenzionato SSN o dipendente AUSL \nCliccare qui per registrarsi come esterno (non convenzionato del SSN e non dipendente AUSL)
URL:https://www.ordinemedicifc.it/evento/omceo-fc-il-termalismo-tra-tecnologia-cure-e-ricerca-scientifica-nei-centri-termali-della-provincia-di-forli-e-cesena/
CATEGORIES:OMCeO FC
END:VEVENT
BEGIN:VEVENT
DTSTART;TZID=Europe/Paris:20240321T203000
DTEND;TZID=Europe/Paris:20240321T233000
DTSTAMP:20260425T180429
CREATED:20240208T085227Z
LAST-MODIFIED:20240208T085227Z
UID:22298-1711053000-1711063800@www.ordinemedicifc.it
SUMMARY:OMCeO FC. L’esame Ecografico: criticità e reali indicazioni
DESCRIPTION:Programma 21 marzo 2024 \n  \nREGISTRAZIONE ONLINE OBBLIGATORIA ENTRO IL GIORNO PRIMA \nCliccare qui per registrarsi come medico convenzionato SSN o dipendente AUSL \nCliccare qui per registrarsi come esterno (non convenzionato del SSN e non dipendente AUSL)
URL:https://www.ordinemedicifc.it/evento/omceo-fc-lesame-ecografico-criticita-e-reali-indicazioni/
CATEGORIES:OMCeO FC
END:VEVENT
END:VCALENDAR