BEGIN:VCALENDAR
VERSION:2.0
PRODID:-//Ordine dei Medici Chirurghi e Odontoiatri di Forl&igrave;-Cesena - ECPv6.15.20//NONSGML v1.0//EN
CALSCALE:GREGORIAN
METHOD:PUBLISH
X-ORIGINAL-URL:https://www.ordinemedicifc.it
X-WR-CALDESC:Eventi per Ordine dei Medici Chirurghi e Odontoiatri di Forl&igrave;-Cesena
REFRESH-INTERVAL;VALUE=DURATION:PT1H
X-Robots-Tag:noindex
X-PUBLISHED-TTL:PT1H
BEGIN:VTIMEZONE
TZID:Europe/Paris
BEGIN:DAYLIGHT
TZOFFSETFROM:+0100
TZOFFSETTO:+0200
TZNAME:CEST
DTSTART:20230326T010000
END:DAYLIGHT
BEGIN:STANDARD
TZOFFSETFROM:+0200
TZOFFSETTO:+0100
TZNAME:CET
DTSTART:20231029T010000
END:STANDARD
BEGIN:DAYLIGHT
TZOFFSETFROM:+0100
TZOFFSETTO:+0200
TZNAME:CEST
DTSTART:20240331T010000
END:DAYLIGHT
BEGIN:STANDARD
TZOFFSETFROM:+0200
TZOFFSETTO:+0100
TZNAME:CET
DTSTART:20241027T010000
END:STANDARD
BEGIN:DAYLIGHT
TZOFFSETFROM:+0100
TZOFFSETTO:+0200
TZNAME:CEST
DTSTART:20250330T010000
END:DAYLIGHT
BEGIN:STANDARD
TZOFFSETFROM:+0200
TZOFFSETTO:+0100
TZNAME:CET
DTSTART:20251026T010000
END:STANDARD
END:VTIMEZONE
BEGIN:VEVENT
DTSTART;TZID=Europe/Paris:20240411T203000
DTEND;TZID=Europe/Paris:20240411T233000
DTSTAMP:20260425T165749
CREATED:20240307T133814Z
LAST-MODIFIED:20240307T133814Z
UID:22547-1712867400-1712878200@www.ordinemedicifc.it
SUMMARY:OMCeO FC. Il Dolore Pelvico: la necessità di un trattamento multidisciplinare
DESCRIPTION:Programma 11 aprile 2024 \n  \nREGISTRAZIONE ONLINE OBBLIGATORIA ENTRO IL GIORNO PRIMA \nCliccare qui per registrarsi come medico convenzionato SSN o dipendente AUSL \nCliccare qui per registrarsi come esterno (non convenzionato del SSN e non dipendente AUSL)
URL:https://www.ordinemedicifc.it/evento/omceo-fc-il-dolore-pelvico-la-necessita-di-un-trattamento-multidisciplinare/
CATEGORIES:OMCeO FC
END:VEVENT
BEGIN:VEVENT
DTSTART;TZID=Europe/Paris:20240418T203000
DTEND;TZID=Europe/Paris:20240418T233000
DTSTAMP:20260425T165749
CREATED:20240327T083326Z
LAST-MODIFIED:20240327T083326Z
UID:22749-1713472200-1713483000@www.ordinemedicifc.it
SUMMARY:OMCeO FC. Neuroendocrinologia: protocolli di studio e sinergie fra Neurochirurgia ed Endocrinologia in Romagna
DESCRIPTION:Programma 18 aprile 2024 \n  \nREGISTRAZIONE ONLINE OBBLIGATORIA ENTRO IL GIORNO PRIMA \nCliccare qui per registrarsi come medico convenzionato SSN o dipendente AUSL \nCliccare qui per registrarsi come esterno (non convenzionato del SSN e non dipendente AUSL)
URL:https://www.ordinemedicifc.it/evento/omceo-fc-neuroendocrinologia-protocolli-di-studio-e-sinergie-fra-neurochirurgia-ed-endocrinologia-in-romagna/
CATEGORIES:OMCeO FC
END:VEVENT
END:VCALENDAR