BEGIN:VCALENDAR
VERSION:2.0
PRODID:-//Ordine dei Medici Chirurghi e Odontoiatri di Forl&igrave;-Cesena - ECPv6.15.20//NONSGML v1.0//EN
CALSCALE:GREGORIAN
METHOD:PUBLISH
X-ORIGINAL-URL:https://www.ordinemedicifc.it
X-WR-CALDESC:Eventi per Ordine dei Medici Chirurghi e Odontoiatri di Forl&igrave;-Cesena
REFRESH-INTERVAL;VALUE=DURATION:PT1H
X-Robots-Tag:noindex
X-PUBLISHED-TTL:PT1H
BEGIN:VTIMEZONE
TZID:Europe/Paris
BEGIN:DAYLIGHT
TZOFFSETFROM:+0100
TZOFFSETTO:+0200
TZNAME:CEST
DTSTART:20240331T010000
END:DAYLIGHT
BEGIN:STANDARD
TZOFFSETFROM:+0200
TZOFFSETTO:+0100
TZNAME:CET
DTSTART:20241027T010000
END:STANDARD
BEGIN:DAYLIGHT
TZOFFSETFROM:+0100
TZOFFSETTO:+0200
TZNAME:CEST
DTSTART:20250330T010000
END:DAYLIGHT
BEGIN:STANDARD
TZOFFSETFROM:+0200
TZOFFSETTO:+0100
TZNAME:CET
DTSTART:20251026T010000
END:STANDARD
BEGIN:DAYLIGHT
TZOFFSETFROM:+0100
TZOFFSETTO:+0200
TZNAME:CEST
DTSTART:20260329T010000
END:DAYLIGHT
BEGIN:STANDARD
TZOFFSETFROM:+0200
TZOFFSETTO:+0100
TZNAME:CET
DTSTART:20261025T010000
END:STANDARD
END:VTIMEZONE
BEGIN:VEVENT
DTSTART;TZID=Europe/Paris:20250605T203000
DTEND;TZID=Europe/Paris:20250605T233000
DTSTAMP:20260424T231829
CREATED:20250429T081008Z
LAST-MODIFIED:20250429T081008Z
UID:26179-1749155400-1749166200@www.ordinemedicifc.it
SUMMARY:OMCeO FC. Malattia renale cronica oggi: epidemiologia\, gestione e prospettive
DESCRIPTION:Programma 5 giugno 2025 \n  \nREGISTRAZIONE ONLINE OBBLIGATORIA ENTRO DUE GIORNI PRIMA \nCliccare qui per registrarsi come medico convenzionato SSN o dipendente AUSL \nCliccare qui per registrarsi come esterno (non convenzionato del SSN e non dipendente AUSL)
URL:https://www.ordinemedicifc.it/evento/omceo-fc-malattia-renale-cronica-oggi-epidemiologia-gestione-e-prospettive/
CATEGORIES:OMCeO FC
END:VEVENT
BEGIN:VEVENT
DTSTART;TZID=Europe/Paris:20250611T203000
DTEND;TZID=Europe/Paris:20250611T233000
DTSTAMP:20260424T231829
CREATED:20250415T064335Z
LAST-MODIFIED:20250429T081457Z
UID:26089-1749673800-1749684600@www.ordinemedicifc.it
SUMMARY:OMCeO FC.: Il D.Lgs.n. 101/2020: la radioprotezione in odontoiatria nell’esercizio della radiologia complementare
DESCRIPTION:Programma 11 giugno \n  \nREGISTRAZIONE ONLINE OBBLIGATORIA ENTRO DUE GIORNI PRIMA \nCliccare qui per registrarsi come medico convenzionato SSN o dipendente AUSL \nCliccare qui per registrarsi come esterno (non convenzionato del SSN e non dipendente AUSL)
URL:https://www.ordinemedicifc.it/evento/la-radioprotezione-in-odontoiatria-nellesercizio-della-radiologia-complementare/
CATEGORIES:OMCeO FC
END:VEVENT
END:VCALENDAR