BEGIN:VCALENDAR
VERSION:2.0
PRODID:-//Ordine dei Medici Chirurghi e Odontoiatri di Forl&igrave;-Cesena - ECPv6.15.20//NONSGML v1.0//EN
CALSCALE:GREGORIAN
METHOD:PUBLISH
X-ORIGINAL-URL:https://www.ordinemedicifc.it
X-WR-CALDESC:Eventi per Ordine dei Medici Chirurghi e Odontoiatri di Forl&igrave;-Cesena
REFRESH-INTERVAL;VALUE=DURATION:PT1H
X-Robots-Tag:noindex
X-PUBLISHED-TTL:PT1H
BEGIN:VTIMEZONE
TZID:Europe/Paris
BEGIN:DAYLIGHT
TZOFFSETFROM:+0100
TZOFFSETTO:+0200
TZNAME:CEST
DTSTART:20240331T010000
END:DAYLIGHT
BEGIN:STANDARD
TZOFFSETFROM:+0200
TZOFFSETTO:+0100
TZNAME:CET
DTSTART:20241027T010000
END:STANDARD
BEGIN:DAYLIGHT
TZOFFSETFROM:+0100
TZOFFSETTO:+0200
TZNAME:CEST
DTSTART:20250330T010000
END:DAYLIGHT
BEGIN:STANDARD
TZOFFSETFROM:+0200
TZOFFSETTO:+0100
TZNAME:CET
DTSTART:20251026T010000
END:STANDARD
BEGIN:DAYLIGHT
TZOFFSETFROM:+0100
TZOFFSETTO:+0200
TZNAME:CEST
DTSTART:20260329T010000
END:DAYLIGHT
BEGIN:STANDARD
TZOFFSETFROM:+0200
TZOFFSETTO:+0100
TZNAME:CET
DTSTART:20261025T010000
END:STANDARD
END:VTIMEZONE
BEGIN:VEVENT
DTSTART;TZID=Europe/Paris:20251009T203000
DTEND;TZID=Europe/Paris:20251009T233000
DTSTAMP:20260424T183940
CREATED:20250728T080259Z
LAST-MODIFIED:20250728T080259Z
UID:26895-1760041800-1760052600@www.ordinemedicifc.it
SUMMARY:OMCeO FC. Riscoprire l’esame obiettivo dell’orecchio
DESCRIPTION:Programma 9 ottobre 2025 \n  \n\nREGISTRAZIONE ONLINE OBBLIGATORIA ENTRO DUE GIORNI PRIMA \nCliccare qui per registrarsi come medico convenzionato SSN o dipendente AUSL \nCliccare qui per registrarsi come esterno (non convenzionato del SSN e non dipendente AUSL) \n\n\n\n\n Salva nel tuo calendario
URL:https://www.ordinemedicifc.it/evento/omceo-fc-riscoprire-lesame-obiettivo-dellorecchio/
CATEGORIES:OMCeO FC
END:VEVENT
BEGIN:VEVENT
DTSTART;TZID=Europe/Paris:20251016T203000
DTEND;TZID=Europe/Paris:20251016T233000
DTSTAMP:20260424T183940
CREATED:20250728T083736Z
LAST-MODIFIED:20250929T084320Z
UID:26898-1760646600-1760657400@www.ordinemedicifc.it
SUMMARY:OMCeO FC. FIBROSI CISTICA:  uno sguardo oltre l’età evolutiva
DESCRIPTION:Programma 16 10 2025 \n  \n\nREGISTRAZIONE ONLINE OBBLIGATORIA ENTRO DUE GIORNI PRIMA \nCliccare qui per registrarsi come medico convenzionato SSN o dipendente AUSL \nCliccare qui per registrarsi come esterno (non convenzionato del SSN e non dipendente AUSL) \n\n\n\n\n Salva nel tuo calendario
URL:https://www.ordinemedicifc.it/evento/omceo-fc-fibrosi-cistica-uno-sguardo-oltre-leta-evolutiva/
CATEGORIES:OMCeO FC
END:VEVENT
BEGIN:VEVENT
DTSTART;TZID=Europe/Paris:20251025T090000
DTEND;TZID=Europe/Paris:20251025T130000
DTSTAMP:20260424T183940
CREATED:20250929T074917Z
LAST-MODIFIED:20251014T154052Z
UID:27305-1761382800-1761397200@www.ordinemedicifc.it
SUMMARY:OMCEO FC. LA VIOLENZA SUGLI OPERATORI SANITARI
DESCRIPTION:Programma 25 10 2025 \nREGISTRAZIONE ONLINE OBBLIGATORIA ENTRO DUE GIORNI PRIMA \nCliccare qui per registrarsi come medico convenzionato SSN o dipendente AUSL \nCliccare qui per registrarsi come esterno (non convenzionato del SSN e non dipendente AUSL)
URL:https://www.ordinemedicifc.it/evento/omceo-fc-la-violenza-sugli-operatori-sanitari/
CATEGORIES:OMCeO FC
END:VEVENT
BEGIN:VEVENT
DTSTART;TZID=Europe/Paris:20251030T203000
DTEND;TZID=Europe/Paris:20251030T233000
DTSTAMP:20260424T183940
CREATED:20250909T160935Z
LAST-MODIFIED:20250909T160935Z
UID:27125-1761856200-1761867000@www.ordinemedicifc.it
SUMMARY:OMCeO FC. La salute dei migranti e la loro presa in carico
DESCRIPTION:Programma 30 ottobre 2025 \n  \n\nREGISTRAZIONE ONLINE OBBLIGATORIA ENTRO DUE GIORNI PRIMA \nCliccare qui per registrarsi come medico convenzionato SSN o dipendente AUSL \nCliccare qui per registrarsi come esterno (non convenzionato del SSN e non dipendente AUSL) \n\n\n\n\n Salva nel tuo calendario
URL:https://www.ordinemedicifc.it/evento/omceo-fc-la-salute-dei-migranti-e-la-loro-presa-in-carico/
CATEGORIES:OMCeO FC
END:VEVENT
END:VCALENDAR