BEGIN:VCALENDAR
VERSION:2.0
PRODID:-//Ordine dei Medici Chirurghi e Odontoiatri di Forl&igrave;-Cesena - ECPv6.15.20//NONSGML v1.0//EN
CALSCALE:GREGORIAN
METHOD:PUBLISH
X-WR-CALNAME:Ordine dei Medici Chirurghi e Odontoiatri di Forl&igrave;-Cesena
X-ORIGINAL-URL:https://www.ordinemedicifc.it
X-WR-CALDESC:Eventi per Ordine dei Medici Chirurghi e Odontoiatri di Forl&igrave;-Cesena
REFRESH-INTERVAL;VALUE=DURATION:PT1H
X-Robots-Tag:noindex
X-PUBLISHED-TTL:PT1H
BEGIN:VTIMEZONE
TZID:Europe/Paris
BEGIN:DAYLIGHT
TZOFFSETFROM:+0100
TZOFFSETTO:+0200
TZNAME:CEST
DTSTART:20240331T010000
END:DAYLIGHT
BEGIN:STANDARD
TZOFFSETFROM:+0200
TZOFFSETTO:+0100
TZNAME:CET
DTSTART:20241027T010000
END:STANDARD
BEGIN:DAYLIGHT
TZOFFSETFROM:+0100
TZOFFSETTO:+0200
TZNAME:CEST
DTSTART:20250330T010000
END:DAYLIGHT
BEGIN:STANDARD
TZOFFSETFROM:+0200
TZOFFSETTO:+0100
TZNAME:CET
DTSTART:20251026T010000
END:STANDARD
BEGIN:DAYLIGHT
TZOFFSETFROM:+0100
TZOFFSETTO:+0200
TZNAME:CEST
DTSTART:20260329T010000
END:DAYLIGHT
BEGIN:STANDARD
TZOFFSETFROM:+0200
TZOFFSETTO:+0100
TZNAME:CET
DTSTART:20261025T010000
END:STANDARD
END:VTIMEZONE
BEGIN:VEVENT
DTSTART;TZID=Europe/Paris:20251106T203000
DTEND;TZID=Europe/Paris:20251106T233000
DTSTAMP:20260424T172617
CREATED:20251016T125243Z
LAST-MODIFIED:20251016T125243Z
UID:27510-1762461000-1762471800@www.ordinemedicifc.it
SUMMARY:OMCeO FC. Cure Palliative Precoci\, la risposta analgesica agli oppioidi e le differenze di genere
DESCRIPTION:Programma 6 novembre 2025 \n  \nREGISTRAZIONE ONLINE OBBLIGATORIA ENTRO DUE GIORNI PRIMA \nCliccare qui per registrarsi come medico convenzionato SSN o dipendente AUSL \nCliccare qui per registrarsi come esterno (non convenzionato del SSN e non dipendente AUSL)
URL:https://www.ordinemedicifc.it/evento/omceo-fc-cure-palliative-precoci-la-risposta-analgesica-agli-oppioidi-e-le-differenze-di-genere/
CATEGORIES:OMCeO FC
END:VEVENT
BEGIN:VEVENT
DTSTART;TZID=Europe/Paris:20251115T090000
DTEND;TZID=Europe/Paris:20251115T130000
DTSTAMP:20260424T172617
CREATED:20251016T125818Z
LAST-MODIFIED:20251016T130032Z
UID:27513-1763197200-1763211600@www.ordinemedicifc.it
SUMMARY:OMCeO FC. LA RIFORMA DELLA DISABILITÀ  NELLA PROVINCIA DI FORLÌ-CESENA: un anno dopo l’avvio
DESCRIPTION:Programma 15 novembre 2025 \n  \nREGISTRAZIONE ONLINE OBBLIGATORIA ENTRO DUE GIORNI PRIMA \nCliccare qui per registrarsi come medico convenzionato SSN o dipendente AUSL \nCliccare qui per registrarsi come esterno (non convenzionato del SSN e non dipendente AUSL)
URL:https://www.ordinemedicifc.it/evento/omceo-fc-la-riforma-della-disabilita-nella-provincia-di-forli-cesena-un-anno-dopo-lavvio/
CATEGORIES:OMCeO FC
END:VEVENT
BEGIN:VEVENT
DTSTART;TZID=Europe/Paris:20251120T203000
DTEND;TZID=Europe/Paris:20251120T233000
DTSTAMP:20260424T172617
CREATED:20251016T130202Z
LAST-MODIFIED:20251117T083118Z
UID:27516-1763670600-1763681400@www.ordinemedicifc.it
SUMMARY:OMCeO FC. Il Percorso Diagnostico Terapeutico Assistenziale (PDTA) Auslromagna sul Carcinoma Gastrico  tra pubblico e convenzionato
DESCRIPTION:Programma 20 novembre 2025 \n  \nREGISTRAZIONE ONLINE OBBLIGATORIA ENTRO DUE GIORNI PRIMA \nCliccare qui per registrarsi come medico convenzionato SSN o dipendente AUSL \nCliccare qui per registrarsi come esterno (non convenzionato del SSN e non dipendente AUSL)
URL:https://www.ordinemedicifc.it/evento/omceo-fc-il-percorso-diagnostico-terapeutico-assistenziale-pdta-auslromagna-sul-carcinoma-gastrico-tra-pubblico-e-convenzionato/
CATEGORIES:OMCeO FC
END:VEVENT
BEGIN:VEVENT
DTSTART;TZID=Europe/Paris:20251127T203000
DTEND;TZID=Europe/Paris:20251127T233000
DTSTAMP:20260424T172617
CREATED:20251016T130359Z
LAST-MODIFIED:20251016T130359Z
UID:27519-1764275400-1764286200@www.ordinemedicifc.it
SUMMARY:Giocattoli Eco-Friendly\, liberi di giocare senza PFAS e Bisfenoli\, è possibile?
DESCRIPTION:Programma 27 novembre 2025 \n  \nREGISTRAZIONE ONLINE OBBLIGATORIA ENTRO DUE GIORNI PRIMA \nCliccare qui per registrarsi come medico convenzionato SSN o dipendente AUSL \nCliccare qui per registrarsi come esterno (non convenzionato del SSN e non dipendente AUSL)
URL:https://www.ordinemedicifc.it/evento/giocattoli-eco-friendly-liberi-di-giocare-senza-pfas-e-bisfenoli-e-possibile/
CATEGORIES:OMCeO FC
END:VEVENT
END:VCALENDAR