BEGIN:VCALENDAR
VERSION:2.0
PRODID:-//Ordine dei Medici Chirurghi e Odontoiatri di Forl&igrave;-Cesena - ECPv6.15.20//NONSGML v1.0//EN
CALSCALE:GREGORIAN
METHOD:PUBLISH
X-WR-CALNAME:Ordine dei Medici Chirurghi e Odontoiatri di Forl&igrave;-Cesena
X-ORIGINAL-URL:https://www.ordinemedicifc.it
X-WR-CALDESC:Eventi per Ordine dei Medici Chirurghi e Odontoiatri di Forl&igrave;-Cesena
REFRESH-INTERVAL;VALUE=DURATION:PT1H
X-Robots-Tag:noindex
X-PUBLISHED-TTL:PT1H
BEGIN:VTIMEZONE
TZID:Europe/Paris
BEGIN:DAYLIGHT
TZOFFSETFROM:+0100
TZOFFSETTO:+0200
TZNAME:CEST
DTSTART:20250330T010000
END:DAYLIGHT
BEGIN:STANDARD
TZOFFSETFROM:+0200
TZOFFSETTO:+0100
TZNAME:CET
DTSTART:20251026T010000
END:STANDARD
BEGIN:DAYLIGHT
TZOFFSETFROM:+0100
TZOFFSETTO:+0200
TZNAME:CEST
DTSTART:20260329T010000
END:DAYLIGHT
BEGIN:STANDARD
TZOFFSETFROM:+0200
TZOFFSETTO:+0100
TZNAME:CET
DTSTART:20261025T010000
END:STANDARD
BEGIN:DAYLIGHT
TZOFFSETFROM:+0100
TZOFFSETTO:+0200
TZNAME:CEST
DTSTART:20270328T010000
END:DAYLIGHT
BEGIN:STANDARD
TZOFFSETFROM:+0200
TZOFFSETTO:+0100
TZNAME:CET
DTSTART:20271031T010000
END:STANDARD
END:VTIMEZONE
BEGIN:VEVENT
DTSTART;TZID=Europe/Paris:20260212T203000
DTEND;TZID=Europe/Paris:20260212T233000
DTSTAMP:20260425T160056
CREATED:20260120T084854Z
LAST-MODIFIED:20260210T083650Z
UID:28312-1770928200-1770939000@www.ordinemedicifc.it
SUMMARY:OMCeO FC. Tumori Neuroendocrini e Sindrome da Carcinoide: dalla diagnosi al management integrato. Presentazione del gruppo MDT tumori neuroendocrini-ghiandole surrenali-tumori della tiroide
DESCRIPTION:Programma 12 02 2026 \n  \nREGISTRAZIONE ONLINE OBBLIGATORIA ENTRO DUE GIORNI PRIMA \nCliccare qui per registrarsi come medico convenzionato SSN o dipendente AUSL \nCliccare qui per registrarsi come esterno (non convenzionato del SSN e non dipendente AUSL)
URL:https://www.ordinemedicifc.it/evento/tumori-neuroendocrini-e-sindrome-da-carcinoide-dalla-diagnosi-al-management-integrato-presentazione-del-gruppo-mdt-tumori-neuroendocrini-ghiandole-surrenali-tumori-della-tiroide/
CATEGORIES:OMCeO FC
END:VEVENT
BEGIN:VEVENT
DTSTART;TZID=Europe/Paris:20260226T203000
DTEND;TZID=Europe/Paris:20260226T233000
DTSTAMP:20260425T160056
CREATED:20260120T085326Z
LAST-MODIFIED:20260120T085419Z
UID:28315-1772137800-1772148600@www.ordinemedicifc.it
SUMMARY:OMCEO FC. Chirurgia Vascolare Cesena-Forlì:  innovazione e percorsi
DESCRIPTION:Programma 26 02 2026 \n  \nREGISTRAZIONE ONLINE OBBLIGATORIA ENTRO DUE GIORNI PRIMA \nCliccare qui per registrarsi come medico convenzionato SSN o dipendente AUSL \nCliccare qui per registrarsi come esterno (non convenzionato del SSN e non dipendente AUSL)
URL:https://www.ordinemedicifc.it/evento/omceo-fc-chirurgia-vascolare-cesena-forli-innovazione-e-percorsi/
CATEGORIES:OMCeO FC
END:VEVENT
BEGIN:VEVENT
DTSTART;TZID=Europe/Paris:20260312T203000
DTEND;TZID=Europe/Paris:20260312T233000
DTSTAMP:20260425T160056
CREATED:20260126T093846Z
LAST-MODIFIED:20260227T082944Z
UID:28725-1773347400-1773358200@www.ordinemedicifc.it
SUMMARY:OMCeO FC. Odontoiatria e Medicina Estetica: stesso paziente\, nuove possibilità terapeutiche
DESCRIPTION:Programma 12 03 2026 \n  \nREGISTRAZIONE ONLINE OBBLIGATORIA ENTRO DUE GIORNI PRIMA \nCliccare qui per registrarsi come medico convenzionato SSN o dipendente AUSL \nCliccare qui per registrarsi come esterno (non convenzionato del SSN e non dipendente AUSL)
URL:https://www.ordinemedicifc.it/evento/omceo-fc-odontoiatria-e-medicina-estetica-stesso-paziente-nuove-possibilita-terapeutiche/
CATEGORIES:OMCeO FC
END:VEVENT
BEGIN:VEVENT
DTSTART;TZID=Europe/Paris:20260321T090000
DTEND;TZID=Europe/Paris:20260321T130000
DTSTAMP:20260425T160056
CREATED:20260223T082134Z
LAST-MODIFIED:20260317T143533Z
UID:29065-1774083600-1774098000@www.ordinemedicifc.it
SUMMARY:OMCeO FC. Comunità\, terzo settore\, assistenza primaria e specialistica: le nuove frontiere nella gestione delle persone con Demenza Late Onset
DESCRIPTION:Programma 21 03 2026 \n  \nREGISTRAZIONE ONLINE OBBLIGATORIA ENTRO DUE GIORNI PRIMA \nCliccare qui per registrarsi come medico convenzionato SSN o dipendente AUSL \nCliccare qui per registrarsi come esterno (non convenzionato del SSN e non dipendente AUSL)
URL:https://www.ordinemedicifc.it/evento/omceo-fc-comunita-terzo-settore-assistenza-primaria-e-specialistica-le-nuove-frontiere-nella-gestione-delle-persone-con-demenza-late-onset/
CATEGORIES:OMCeO FC
END:VEVENT
BEGIN:VEVENT
DTSTART;TZID=Europe/Paris:20260411T090000
DTEND;TZID=Europe/Paris:20260411T130000
DTSTAMP:20260425T160056
CREATED:20260305T170135Z
LAST-MODIFIED:20260318T103346Z
UID:29157-1775898000-1775912400@www.ordinemedicifc.it
SUMMARY:OMCeO FC.: Team che evolvono per la persona assistita:  dal cambiamento dei bisogni ai cambiamenti dei team
DESCRIPTION:Programma \n  \nREGISTRAZIONE ONLINE OBBLIGATORIA ENTRO DUE GIORNI PRIMA \nCliccare qui per registrarsi come medico convenzionato SSN o dipendente AUSL \nCliccare qui per registrarsi come esterno (non convenzionato del SSN e non dipendente AUSL)
URL:https://www.ordinemedicifc.it/evento/omceo-fc-team-che-evolvono-per-la-persona-assistita-dal-cambiamento-dei-bisogni-ai-cambiamenti-dei-team/
CATEGORIES:OMCeO FC
END:VEVENT
BEGIN:VEVENT
DTSTART;TZID=Europe/Paris:20260416T203000
DTEND;TZID=Europe/Paris:20260416T233000
DTSTAMP:20260425T160056
CREATED:20260324T094144Z
LAST-MODIFIED:20260324T100518Z
UID:29385-1776371400-1776382200@www.ordinemedicifc.it
SUMMARY:OMCeO FC. Indicazioni sulla gestione del trauma in età pediatrica
DESCRIPTION:Programma 16 aprile 2026 \n  \nREGISTRAZIONE ONLINE OBBLIGATORIA ENTRO DUE GIORNI PRIMA \nCliccare qui per registrarsi come medico convenzionato SSN o dipendente AUSL \nCliccare qui per registrarsi come esterno (non convenzionato del SSN e non dipendente AUSL)
URL:https://www.ordinemedicifc.it/evento/indicazioni-sulla-gestione-del-trauma-in-eta-pediatrica/
CATEGORIES:OMCeO FC
END:VEVENT
BEGIN:VEVENT
DTSTART;VALUE=DATE:20260422
DTEND;VALUE=DATE:20260424
DTSTAMP:20260425T160056
CREATED:20260421T063126Z
LAST-MODIFIED:20260421T063305Z
UID:29636-1776819600-1776905999@www.ordinemedicifc.it
SUMMARY:Webinar fiscale Aggiornamento sugli adempimenti fiscali e previdenziali per i liberi professionisti\, strategie di pianificazione per ottimizzare il carico fiscale dei liberi professionisti. 22/04/2026
DESCRIPTION:Gentili Colleghi\, \nin collaborazione con lo Studio Bertoni & Partners\, é stato organizzato un incontro formativo in data 22/04/2026 dalle ore 17:00 alle ore 19:00: \n“Aggiornamento sugli adempimenti fiscali e previdenziali per i liberi professionisti\, strategie di pianificazione per ottimizzare il carico fiscale dei liberi professionisti” al seguente link: \nhttps://kmeet.infomaniak.com/fi7bqepkf4ws1ojfxfdov7xc \n  \nIl webinar è pensato sia per chi sta valutando l’apertura della partita IVA\, sia per chi esercita già la libera professione e desidera approfondire i principali aspetti fiscali e previdenziali\, con particolare attenzione alla pianificazione fiscale e alla corretta gestione degli adempimenti. \nResto a disposizione per eventuali integrazioni o necessità organizzative e ringrazio sin d’ora per la collaborazione e la consueta disponibilità. \nCordiali saluti\,\nDr. Jacopo Pieri\nCoordinatore Gruppo Giovani Medici\nOrdine dei Medici Chirurghi e Odontoiatri di Forlì-Cesena
URL:https://www.ordinemedicifc.it/evento/webinar-fiscale-aggiornamento-sugli-adempimenti-fiscali-e-previdenziali-per-i-liberi-professionisti-strategie-di-pianificazione-per-ottimizzare-il-carico-fiscale-dei-liberi-professionisti-22-04-2026/
CATEGORIES:OMCeO FC
END:VEVENT
BEGIN:VEVENT
DTSTART;TZID=Europe/Paris:20260507T203000
DTEND;TZID=Europe/Paris:20260507T233000
DTSTAMP:20260425T160056
CREATED:20260324T100806Z
LAST-MODIFIED:20260324T100806Z
UID:29391-1778185800-1778196600@www.ordinemedicifc.it
SUMMARY:OMCeO FC. Dolore Cervico - Facciale e Sindrome di Eagle: conoscere per riconoscere
DESCRIPTION:Programma 7 maggio 2026 \n  \nREGISTRAZIONE ONLINE OBBLIGATORIA ENTRO DUE GIORNI PRIMA \nCliccare qui per registrarsi come medico convenzionato SSN o dipendente AUSL \nCliccare qui per registrarsi come esterno (non convenzionato del SSN e non dipendente AUSL)
URL:https://www.ordinemedicifc.it/evento/omceo-fc-dolore-cervico-facciale-e-sindrome-di-eagle-conoscere-per-riconoscere/
CATEGORIES:OMCeO FC
END:VEVENT
BEGIN:VEVENT
DTSTART;TZID=Europe/Paris:20260509T090000
DTEND;TZID=Europe/Paris:20260509T130000
DTSTAMP:20260425T160056
CREATED:20260225T112648Z
LAST-MODIFIED:20260225T112648Z
UID:29091-1778317200-1778331600@www.ordinemedicifc.it
SUMMARY:OMCeO FC. Il recente riconoscimento dell’Obesità come malattia cronica\, progressiva e recidivante
DESCRIPTION:Programma 9 maggio 2026 \n  \nREGISTRAZIONE ONLINE OBBLIGATORIA ENTRO DUE GIORNI PRIMA \nCliccare qui per registrarsi come medico convenzionato SSN o dipendente AUSL \nCliccare qui per registrarsi come esterno (non convenzionato del SSN e non dipendente AUSL)
URL:https://www.ordinemedicifc.it/evento/omceo-fc-il-recente-riconoscimento-dellobesita-come-malattia-cronica-progressiva-e-recidivante/
CATEGORIES:OMCeO FC
END:VEVENT
BEGIN:VEVENT
DTSTART;TZID=Europe/Paris:20260514T203000
DTEND;TZID=Europe/Paris:20260514T233000
DTSTAMP:20260425T160056
CREATED:20260413T062510Z
LAST-MODIFIED:20260413T062554Z
UID:29542-1778790600-1778801400@www.ordinemedicifc.it
SUMMARY:OMCeo FC. L’Intelligenza Artificiale in Medicina:  Fondamenti Teorici\, Applicazioni Cliniche e Governance
DESCRIPTION:Programma 14 maggio 2026 \n  \nREGISTRAZIONE ONLINE OBBLIGATORIA ENTRO DUE GIORNI PRIMA \nCliccare qui per registrarsi come medico convenzionato SSN o dipendente AUSL \nCliccare qui per registrarsi come esterno (non convenzionato del SSN e non dipendente AUSL)
URL:https://www.ordinemedicifc.it/evento/omceo-fc-lintelligenza-artificiale-in-medicina-fondamenti-teorici-applicazioni-cliniche-e-governance/
CATEGORIES:OMCeO FC
END:VEVENT
BEGIN:VEVENT
DTSTART;TZID=Europe/Paris:20260528T203000
DTEND;TZID=Europe/Paris:20260528T233000
DTSTAMP:20260425T160056
CREATED:20260413T062109Z
LAST-MODIFIED:20260413T062532Z
UID:29539-1780000200-1780011000@www.ordinemedicifc.it
SUMMARY:OMCEO FC. Sindrome Climaterica e Strategie Terapeutiche: organizzazione di un servizio ambulatoriale di diagnosi e cura
DESCRIPTION:Programma 28 maggio 2026 \n  \nREGISTRAZIONE ONLINE OBBLIGATORIA ENTRO DUE GIORNI PRIMA \nCliccare qui per registrarsi come medico convenzionato SSN o dipendente AUSL \nCliccare qui per registrarsi come esterno (non convenzionato del SSN e non dipendente AUSL)
URL:https://www.ordinemedicifc.it/evento/omceo-fc-sindrome-climaterica-e-strategie-terapeutiche-organizzazione-di-un-servizio-ambulatoriale-di-diagnosi-e-cura/
CATEGORIES:OMCeO FC
END:VEVENT
END:VCALENDAR