BEGIN:VCALENDAR
VERSION:2.0
PRODID:-//Ordine dei Medici Chirurghi e Odontoiatri di Forl&igrave;-Cesena - ECPv6.15.20//NONSGML v1.0//EN
CALSCALE:GREGORIAN
METHOD:PUBLISH
X-WR-CALNAME:Ordine dei Medici Chirurghi e Odontoiatri di Forl&igrave;-Cesena
X-ORIGINAL-URL:https://www.ordinemedicifc.it
X-WR-CALDESC:Eventi per Ordine dei Medici Chirurghi e Odontoiatri di Forl&igrave;-Cesena
REFRESH-INTERVAL;VALUE=DURATION:PT1H
X-Robots-Tag:noindex
X-PUBLISHED-TTL:PT1H
BEGIN:VTIMEZONE
TZID:Europe/Paris
BEGIN:DAYLIGHT
TZOFFSETFROM:+0100
TZOFFSETTO:+0200
TZNAME:CEST
DTSTART:20200329T010000
END:DAYLIGHT
BEGIN:STANDARD
TZOFFSETFROM:+0200
TZOFFSETTO:+0100
TZNAME:CET
DTSTART:20201025T010000
END:STANDARD
BEGIN:DAYLIGHT
TZOFFSETFROM:+0100
TZOFFSETTO:+0200
TZNAME:CEST
DTSTART:20210328T010000
END:DAYLIGHT
BEGIN:STANDARD
TZOFFSETFROM:+0200
TZOFFSETTO:+0100
TZNAME:CET
DTSTART:20211031T010000
END:STANDARD
BEGIN:DAYLIGHT
TZOFFSETFROM:+0100
TZOFFSETTO:+0200
TZNAME:CEST
DTSTART:20220327T010000
END:DAYLIGHT
BEGIN:STANDARD
TZOFFSETFROM:+0200
TZOFFSETTO:+0100
TZNAME:CET
DTSTART:20221030T010000
END:STANDARD
BEGIN:DAYLIGHT
TZOFFSETFROM:+0100
TZOFFSETTO:+0200
TZNAME:CEST
DTSTART:20230326T010000
END:DAYLIGHT
BEGIN:STANDARD
TZOFFSETFROM:+0200
TZOFFSETTO:+0100
TZNAME:CET
DTSTART:20231029T010000
END:STANDARD
END:VTIMEZONE
BEGIN:VEVENT
DTSTART;TZID=Europe/Paris:20220924T083000
DTEND;TZID=Europe/Paris:20220924T130000
DTSTAMP:20260424T221221
CREATED:20220726T102555Z
LAST-MODIFIED:20220920T084834Z
UID:18061-1664008200-1664024400@www.ordinemedicifc.it
SUMMARY:OMCeO FC: Alimentazione e Salute: dal bambino all’adulto
DESCRIPTION:Programma \n  \nREGISTRAZIONE ONLINE OBBLIGATORIA ENTRO DUE GIORNI PRIMA \nCliccare qui per registrarsi come medico convenzionato SSN o dipendente AUSL \nCliccare qui per registrarsi come esterno (non convenzionato del SSN e non dipendente AUSL)
URL:https://www.ordinemedicifc.it/evento/omceo-fc-alimentazione-e-salute-dal-bambino-alladulto/
LOCATION:Sala Conferenze\, Viale Italia\, 153 - scala C - 1° piano\, Forlì\, Italia
CATEGORIES:OMCeO FC
END:VEVENT
BEGIN:VEVENT
DTSTART;TZID=Europe/Paris:20220924T083000
DTEND;TZID=Europe/Paris:20220924T130000
DTSTAMP:20260424T221221
CREATED:20220726T102555Z
LAST-MODIFIED:20220726T102555Z
UID:21052-1664008200-1664024400@www.ordinemedicifc.it
SUMMARY:OMCeO FC: Alimentazione e Salute: dal bambino all’adulto
DESCRIPTION:Programma \n  \nREGISTRAZIONE ONLINE OBBLIGATORIA ENTRO DUE GIORNI PRIMA \nCliccare qui per registrarsi come medico convenzionato SSN o dipendente AUSL \nCliccare qui per registrarsi come esterno (non convenzionato del SSN e non dipendente AUSL)
URL:https://www.ordinemedicifc.it/evento/omceo-fc-alimentazione-e-salute-dal-bambino-alladulto-2/
LOCATION:Sala Conferenze\, Viale Italia\, 153 - scala C - 1° piano\, Forlì\, Italia
CATEGORIES:OMCeO FC
END:VEVENT
BEGIN:VEVENT
DTSTART;TZID=Europe/Paris:20220908T203000
DTEND;TZID=Europe/Paris:20220908T233000
DTSTAMP:20260424T221221
CREATED:20220726T102024Z
LAST-MODIFIED:20220726T102024Z
UID:18058-1662669000-1662679800@www.ordinemedicifc.it
SUMMARY:OMCeO FC: Percorso di presa in carico dell’obesità in età evolutiva (0-18 anni) sul territorio di Forlì-Cesena
DESCRIPTION:Programma  \n  \nREGISTRAZIONE ONLINE OBBLIGATORIA ENTRO DUE GIORNI PRIMA \nCliccare qui per registrarsi come medico convenzionato SSN o dipendente AUSL \nCliccare qui per registrarsi come esterno (non convenzionato del SSN e non dipendente AUSL) \n 
URL:https://www.ordinemedicifc.it/evento/omceo-fc-percorso-di-presa-in-carico-dellobesita-in-eta-evolutiva-0-18-anni-sul-territorio-di-forli-cesena/
LOCATION:Sala Conferenze\, Viale Italia\, 153 - scala C - 1° piano\, Forlì\, Italia
CATEGORIES:OMCeO FC
END:VEVENT
BEGIN:VEVENT
DTSTART;TZID=Europe/Paris:20220908T203000
DTEND;TZID=Europe/Paris:20220908T233000
DTSTAMP:20260424T221221
CREATED:20220726T102024Z
LAST-MODIFIED:20220726T102024Z
UID:21051-1662669000-1662679800@www.ordinemedicifc.it
SUMMARY:OMCeO FC: Percorso di presa in carico dell’obesità in età evolutiva (0-18 anni) sul territorio di Forlì-Cesena
DESCRIPTION:Programma  \n  \nREGISTRAZIONE ONLINE OBBLIGATORIA ENTRO DUE GIORNI PRIMA \nCliccare qui per registrarsi come medico convenzionato SSN o dipendente AUSL \nCliccare qui per registrarsi come esterno (non convenzionato del SSN e non dipendente AUSL) \n 
URL:https://www.ordinemedicifc.it/evento/omceo-fc-percorso-di-presa-in-carico-dellobesita-in-eta-evolutiva-0-18-anni-sul-territorio-di-forli-cesena-2/
LOCATION:Sala Conferenze\, Viale Italia\, 153 - scala C - 1° piano\, Forlì\, Italia
CATEGORIES:OMCeO FC
END:VEVENT
BEGIN:VEVENT
DTSTART;TZID=Europe/Paris:20220609T203000
DTEND;TZID=Europe/Paris:20220609T233000
DTSTAMP:20260424T221221
CREATED:20220513T084336Z
LAST-MODIFIED:20220513T084336Z
UID:21043-1654806600-1654817400@www.ordinemedicifc.it
SUMMARY:OMCeO FC: Nuovi approcci di diagnostica molecolare integrata: next generation sequencing e armonizzazione con test di laboratorio di secondo livello
DESCRIPTION:Programma \n  \nREGISTRAZIONE ONLINE OBBLIGATORIA ENTRO DUE GIORNI PRIMA \n  \nCliccare qui per registrarsi come medico convenzionato SSN o dipendente AUSL \nCliccare qui per registrarsi come esterno (non convenzionato del SSN e non dipendente AUSL)
URL:https://www.ordinemedicifc.it/evento/omceo-fc-nuovi-approcci-di-diagnostica-molecolare-integrata-next-generation-sequencing-e-armonizzazione-con-test-di-laboratorio-di-secondo-livello-2/
LOCATION:Sala Conferenze\, Viale Italia\, 153 - scala C - 1° piano\, Forlì\, Italia
CATEGORIES:OMCeO FC
END:VEVENT
BEGIN:VEVENT
DTSTART;TZID=Europe/Paris:20220609T203000
DTEND;TZID=Europe/Paris:20220609T233000
DTSTAMP:20260424T221221
CREATED:20220513T084336Z
LAST-MODIFIED:20220525T090303Z
UID:17636-1654806600-1654817400@www.ordinemedicifc.it
SUMMARY:OMCeO FC: Nuovi approcci di diagnostica molecolare integrata: next generation sequencing e armonizzazione con test di laboratorio di secondo livello
DESCRIPTION:Programma \n  \nREGISTRAZIONE ONLINE OBBLIGATORIA ENTRO DUE GIORNI PRIMA \n  \nCliccare qui per registrarsi come medico convenzionato SSN o dipendente AUSL \nCliccare qui per registrarsi come esterno (non convenzionato del SSN e non dipendente AUSL)
URL:https://www.ordinemedicifc.it/evento/omceo-fc-nuovi-approcci-di-diagnostica-molecolare-integrata-next-generation-sequencing-e-armonizzazione-con-test-di-laboratorio-di-secondo-livello/
LOCATION:Sala Conferenze\, Viale Italia\, 153 - scala C - 1° piano\, Forlì\, Italia
CATEGORIES:OMCeO FC
END:VEVENT
BEGIN:VEVENT
DTSTART;TZID=Europe/Paris:20220526T203000
DTEND;TZID=Europe/Paris:20220526T233000
DTSTAMP:20260424T221221
CREATED:20220426T074018Z
LAST-MODIFIED:20220525T090234Z
UID:17492-1653597000-1653607800@www.ordinemedicifc.it
SUMMARY:OMCeO FC. Dolore cronico non oncologico e linee guida regionali
DESCRIPTION:programma \n  \nREGISTRAZIONE ONLINE OBBLIGATORIA ENTRO DUE GIORNI PRIMA \n  \nCliccare qui per registrarsi come medico convenzionato SSN o dipendente AUSL \nCliccare qui per registrarsi come esterno (non convenzionato del SSN e non dipendente AUSL)
URL:https://www.ordinemedicifc.it/evento/omceo-fc-dolore-cronico-non-oncologico-e-linee-guida-regionali/
LOCATION:Sala Conferenze\, Viale Italia\, 153 - scala C - 1° piano\, Forlì\, Italia
CATEGORIES:OMCeO FC
END:VEVENT
BEGIN:VEVENT
DTSTART;TZID=Europe/Paris:20220526T203000
DTEND;TZID=Europe/Paris:20220526T233000
DTSTAMP:20260424T221221
CREATED:20220426T074018Z
LAST-MODIFIED:20220426T074018Z
UID:21039-1653597000-1653607800@www.ordinemedicifc.it
SUMMARY:OMCeO FC. Dolore cronico non oncologico e linee guida regionali
DESCRIPTION:programma \n  \nREGISTRAZIONE ONLINE OBBLIGATORIA ENTRO DUE GIORNI PRIMA \n  \nCliccare qui per registrarsi come medico convenzionato SSN o dipendente AUSL \nCliccare qui per registrarsi come esterno (non convenzionato del SSN e non dipendente AUSL)
URL:https://www.ordinemedicifc.it/evento/omceo-fc-dolore-cronico-non-oncologico-e-linee-guida-regionali-2/
LOCATION:Sala Conferenze\, Viale Italia\, 153 - scala C - 1° piano\, Forlì\, Italia
CATEGORIES:OMCeO FC
END:VEVENT
BEGIN:VEVENT
DTSTART;TZID=Europe/Paris:20220514T090000
DTEND;TZID=Europe/Paris:20220514T130000
DTSTAMP:20260424T221221
CREATED:20220426T073645Z
LAST-MODIFIED:20220428T101501Z
UID:17489-1652518800-1652533200@www.ordinemedicifc.it
SUMMARY:OMCeO FC. La lezione del Covid:  spunti per un miglioramento del SSN
DESCRIPTION:Programma \n  \nREGISTRAZIONE ONLINE OBBLIGATORIA ENTRO IL GIORNO PRIMA \n  \nCliccare qui per registrarsi come medico convenzionato SSN o dipendente AUSL \nCliccare qui per registrarsi come esterno (non convenzionato del SSN e non dipendente AUSL) \n  \n  \n  \n 
URL:https://www.ordinemedicifc.it/evento/omceo-fc-la-lezione-del-covid-spunti-per-un-miglioramento-del-ssn/
LOCATION:Sala Conferenze\, Viale Italia\, 153 - scala C - 1° piano\, Forlì\, Italia
CATEGORIES:OMCeO FC
END:VEVENT
BEGIN:VEVENT
DTSTART;TZID=Europe/Paris:20220514T090000
DTEND;TZID=Europe/Paris:20220514T130000
DTSTAMP:20260424T221221
CREATED:20220426T073645Z
LAST-MODIFIED:20220426T073645Z
UID:21038-1652518800-1652533200@www.ordinemedicifc.it
SUMMARY:OMCeO FC. La lezione del Covid:  spunti per un miglioramento del SSN
DESCRIPTION:Programma \n  \nREGISTRAZIONE ONLINE OBBLIGATORIA ENTRO IL GIORNO PRIMA \n  \nCliccare qui per registrarsi come medico convenzionato SSN o dipendente AUSL \nCliccare qui per registrarsi come esterno (non convenzionato del SSN e non dipendente AUSL) \n  \n  \n  \n 
URL:https://www.ordinemedicifc.it/evento/omceo-fc-la-lezione-del-covid-spunti-per-un-miglioramento-del-ssn-2/
LOCATION:Sala Conferenze\, Viale Italia\, 153 - scala C - 1° piano\, Forlì\, Italia
CATEGORIES:OMCeO FC
END:VEVENT
BEGIN:VEVENT
DTSTART;TZID=Europe/Paris:20220421T203000
DTEND;TZID=Europe/Paris:20220421T233000
DTSTAMP:20260424T221221
CREATED:20220404T091040Z
LAST-MODIFIED:20220404T091040Z
UID:17379-1650573000-1650583800@www.ordinemedicifc.it
SUMMARY:OMCeO FC: ERNIE E DIFETTI DELLA PARETE ADDOMINALE: orientamenti di tecnica attuali
DESCRIPTION:Programma \n  \nREGISTRAZIONE ONLINE OBBLIGATORIA ENTRO IL GIORNO PRIMA \n  \nCliccare qui per registrarsi come medico convenzionato SSN o dipendente AUSL \nCliccare qui per registrarsi come esterno (non convenzionato del SSN e non dipendente AUSL)
URL:https://www.ordinemedicifc.it/evento/omceo-fc-ernie-e-difetti-della-parete-addominale-orientamenti-di-tecnica-attuali/
LOCATION:Sala Conferenze\, Viale Italia\, 153 - scala C - 1° piano\, Forlì\, Italia
CATEGORIES:OMCeO FC
END:VEVENT
BEGIN:VEVENT
DTSTART;TZID=Europe/Paris:20220421T203000
DTEND;TZID=Europe/Paris:20220421T233000
DTSTAMP:20260424T221221
CREATED:20220404T091040Z
LAST-MODIFIED:20220404T091040Z
UID:21036-1650573000-1650583800@www.ordinemedicifc.it
SUMMARY:OMCeO FC: ERNIE E DIFETTI DELLA PARETE ADDOMINALE: orientamenti di tecnica attuali
DESCRIPTION:Programma \n  \nREGISTRAZIONE ONLINE OBBLIGATORIA ENTRO IL GIORNO PRIMA \n  \nCliccare qui per registrarsi come medico convenzionato SSN o dipendente AUSL \nCliccare qui per registrarsi come esterno (non convenzionato del SSN e non dipendente AUSL)
URL:https://www.ordinemedicifc.it/evento/omceo-fc-ernie-e-difetti-della-parete-addominale-orientamenti-di-tecnica-attuali-2/
LOCATION:Sala Conferenze\, Viale Italia\, 153 - scala C - 1° piano\, Forlì\, Italia
CATEGORIES:OMCeO FC
END:VEVENT
BEGIN:VEVENT
DTSTART;TZID=Europe/Paris:20220407T203000
DTEND;TZID=Europe/Paris:20220407T233000
DTSTAMP:20260424T221221
CREATED:20220317T073400Z
LAST-MODIFIED:20220317T073400Z
UID:17244-1649363400-1649374200@www.ordinemedicifc.it
SUMMARY:OMCeO FC: La Nevralgia Trigeminale
DESCRIPTION:Programma  \n  \nREGISTRAZIONE ONLINE OBBLIGATORIA ENTRO IL GIORNO PRIMA \n  \nCliccare qui per registrarsi come medico convenzionato SSN o dipendente AUSL \nCliccare qui per registrarsi come esterno (non convenzionato del SSN e non dipendente AUSL)
URL:https://www.ordinemedicifc.it/evento/omceo-fc-la-nevralgia-trigeminale/
LOCATION:Sala Conferenze\, Viale Italia\, 153 - scala C - 1° piano\, Forlì\, Italia
CATEGORIES:OMCeO FC
END:VEVENT
BEGIN:VEVENT
DTSTART;TZID=Europe/Paris:20220407T203000
DTEND;TZID=Europe/Paris:20220407T233000
DTSTAMP:20260424T221221
CREATED:20220317T073400Z
LAST-MODIFIED:20220317T073400Z
UID:21028-1649363400-1649374200@www.ordinemedicifc.it
SUMMARY:OMCeO FC: La Nevralgia Trigeminale
DESCRIPTION:Programma  \n  \nREGISTRAZIONE ONLINE OBBLIGATORIA ENTRO IL GIORNO PRIMA \n  \nCliccare qui per registrarsi come medico convenzionato SSN o dipendente AUSL \nCliccare qui per registrarsi come esterno (non convenzionato del SSN e non dipendente AUSL)
URL:https://www.ordinemedicifc.it/evento/omceo-fc-la-nevralgia-trigeminale-2/
LOCATION:Sala Conferenze\, Viale Italia\, 153 - scala C - 1° piano\, Forlì\, Italia
CATEGORIES:OMCeO FC
END:VEVENT
BEGIN:VEVENT
DTSTART;TZID=Europe/Paris:20220324T203000
DTEND;TZID=Europe/Paris:20220324T233000
DTSTAMP:20260424T221221
CREATED:20220303T083307Z
LAST-MODIFIED:20220303T083307Z
UID:17160-1648153800-1648164600@www.ordinemedicifc.it
SUMMARY:COVID-19: fine di una pandemia
DESCRIPTION:Programma 24 marzo 2022 \n  \nREGISTRAZIONE ONLINE OBBLIGATORIA ENTRO IL GIORNO PRIMA \n  \nCliccare qui per registrarsi come medico convenzionato SSN o dipendente AUSL \nCliccare qui per registrarsi come esterno (non convenzionato del SSN e non dipendente AUSL)
URL:https://www.ordinemedicifc.it/evento/covid-19-fine-di-una-pandemia/
LOCATION:Sala Conferenze\, Viale Italia\, 153 - scala C - 1° piano\, Forlì\, Italia
CATEGORIES:OMCeO FC
END:VEVENT
BEGIN:VEVENT
DTSTART;TZID=Europe/Paris:20220324T203000
DTEND;TZID=Europe/Paris:20220324T233000
DTSTAMP:20260424T221221
CREATED:20220303T083307Z
LAST-MODIFIED:20220303T083307Z
UID:21025-1648153800-1648164600@www.ordinemedicifc.it
SUMMARY:COVID-19: fine di una pandemia
DESCRIPTION:Programma 24 marzo 2022 \n  \nREGISTRAZIONE ONLINE OBBLIGATORIA ENTRO IL GIORNO PRIMA \n  \nCliccare qui per registrarsi come medico convenzionato SSN o dipendente AUSL \nCliccare qui per registrarsi come esterno (non convenzionato del SSN e non dipendente AUSL)
URL:https://www.ordinemedicifc.it/evento/covid-19-fine-di-una-pandemia-2/
LOCATION:Sala Conferenze\, Viale Italia\, 153 - scala C - 1° piano\, Forlì\, Italia
CATEGORIES:OMCeO FC
END:VEVENT
BEGIN:VEVENT
DTSTART;TZID=Europe/Paris:20220310T203000
DTEND;TZID=Europe/Paris:20220310T233000
DTSTAMP:20260424T221221
CREATED:20220303T083125Z
LAST-MODIFIED:20220303T083125Z
UID:21024-1646944200-1646955000@www.ordinemedicifc.it
SUMMARY:AGGIORNAMENTI DIAGNOSTICI E TERAPEUTICI  IN MATERIA DI ENDOMETRIOSI OVARICA E PELVICA
DESCRIPTION:Programma 10 marzo 2022 \n  \nREGISTRAZIONE ONLINE OBBLIGATORIA ENTRO IL GIORNO PRIMA \n  \nCliccare qui per registrarsi come medico convenzionato SSN o dipendente AUSL \nCliccare qui per registrarsi come esterno (non convenzionato del SSN e non dipendente AUSL)
URL:https://www.ordinemedicifc.it/evento/aggiornamenti-diagnostici-e-terapeutici-in-materia-di-endometriosi-ovarica-e-pelvica-2/
LOCATION:Sala Conferenze\, Viale Italia\, 153 - scala C - 1° piano\, Forlì\, Italia
CATEGORIES:OMCeO FC
END:VEVENT
BEGIN:VEVENT
DTSTART;TZID=Europe/Paris:20220310T203000
DTEND;TZID=Europe/Paris:20220310T233000
DTSTAMP:20260424T221221
CREATED:20220303T083125Z
LAST-MODIFIED:20220303T083125Z
UID:17156-1646944200-1646955000@www.ordinemedicifc.it
SUMMARY:AGGIORNAMENTI DIAGNOSTICI E TERAPEUTICI  IN MATERIA DI ENDOMETRIOSI OVARICA E PELVICA
DESCRIPTION:Programma 10 marzo 2022 \n  \nREGISTRAZIONE ONLINE OBBLIGATORIA ENTRO IL GIORNO PRIMA \n  \nCliccare qui per registrarsi come medico convenzionato SSN o dipendente AUSL \nCliccare qui per registrarsi come esterno (non convenzionato del SSN e non dipendente AUSL)
URL:https://www.ordinemedicifc.it/evento/aggiornamenti-diagnostici-e-terapeutici-in-materia-di-endometriosi-ovarica-e-pelvica/
LOCATION:Sala Conferenze\, Viale Italia\, 153 - scala C - 1° piano\, Forlì\, Italia
CATEGORIES:OMCeO FC
END:VEVENT
BEGIN:VEVENT
DTSTART;TZID=Europe/Paris:20220224T203000
DTEND;TZID=Europe/Paris:20220224T233000
DTSTAMP:20260424T221221
CREATED:20220207T103316Z
LAST-MODIFIED:20220207T103609Z
UID:16949-1645734600-1645745400@www.ordinemedicifc.it
SUMMARY:OMCeO FC: UPDATE 2022 Cosa cambia nella gestione  della calcolosi renoureterale
DESCRIPTION:Programma \nREGISTRAZIONE ONLINE OBBLIGATORIA ENTRO IL GIORNO PRIMA \n  \nCliccare qui per registrarsi come medico convenzionato SSN o dipendente AUSL \nCliccare qui per registrarsi come esterno (non convenzionato del SSN e non dipendente AUSL) \n 
URL:https://www.ordinemedicifc.it/evento/omceo-fc-update-2022-cosa-cambia-nella-gestione-della-calcolosi-renoureterale/
LOCATION:Sala Conferenze\, Viale Italia\, 153 - scala C - 1° piano\, Forlì\, Italia
CATEGORIES:OMCeO FC
END:VEVENT
BEGIN:VEVENT
DTSTART;TZID=Europe/Paris:20220224T203000
DTEND;TZID=Europe/Paris:20220224T233000
DTSTAMP:20260424T221221
CREATED:20220207T103316Z
LAST-MODIFIED:20220207T103316Z
UID:21019-1645734600-1645745400@www.ordinemedicifc.it
SUMMARY:OMCeO FC: UPDATE 2022 Cosa cambia nella gestione  della calcolosi renoureterale
DESCRIPTION:Programma \nREGISTRAZIONE ONLINE OBBLIGATORIA ENTRO IL GIORNO PRIMA \n  \nCliccare qui per registrarsi come medico convenzionato SSN o dipendente AUSL \nCliccare qui per registrarsi come esterno (non convenzionato del SSN e non dipendente AUSL) \n 
URL:https://www.ordinemedicifc.it/evento/omceo-fc-update-2022-cosa-cambia-nella-gestione-della-calcolosi-renoureterale-2/
LOCATION:Sala Conferenze\, Viale Italia\, 153 - scala C - 1° piano\, Forlì\, Italia
CATEGORIES:OMCeO FC
END:VEVENT
BEGIN:VEVENT
DTSTART;TZID=Europe/Paris:20220210T203000
DTEND;TZID=Europe/Paris:20220210T230000
DTSTAMP:20260424T221221
CREATED:20220201T075831Z
LAST-MODIFIED:20220201T075831Z
UID:16914-1644525000-1644534000@www.ordinemedicifc.it
SUMMARY:OMCeO FC: La Terapia Antalgica:  integrazione Ospedale- Territorio
DESCRIPTION:programma 10 02 2022 \n  \nREGISTRAZIONE ONLINE OBBLIGATORIA ENTRO IL GIORNO PRIMA \n  \nCliccare qui per registrarsi come medico convenzionato SSN o dipendente AUSL \nCliccare qui per registrarsi come esterno (non convenzionato del SSN e non dipendente AUSL)
URL:https://www.ordinemedicifc.it/evento/omceo-fc-la-terapia-antalgica-integrazione-ospedale-territorio/
LOCATION:Sala Conferenze\, Viale Italia\, 153 - scala C - 1° piano\, Forlì\, Italia
CATEGORIES:OMCeO FC
END:VEVENT
BEGIN:VEVENT
DTSTART;TZID=Europe/Paris:20220210T203000
DTEND;TZID=Europe/Paris:20220210T230000
DTSTAMP:20260424T221221
CREATED:20220201T075831Z
LAST-MODIFIED:20220201T075831Z
UID:21018-1644525000-1644534000@www.ordinemedicifc.it
SUMMARY:OMCeO FC: La Terapia Antalgica:  integrazione Ospedale- Territorio
DESCRIPTION:programma 10 02 2022 \n  \nREGISTRAZIONE ONLINE OBBLIGATORIA ENTRO IL GIORNO PRIMA \n  \nCliccare qui per registrarsi come medico convenzionato SSN o dipendente AUSL \nCliccare qui per registrarsi come esterno (non convenzionato del SSN e non dipendente AUSL)
URL:https://www.ordinemedicifc.it/evento/omceo-fc-la-terapia-antalgica-integrazione-ospedale-territorio-2/
LOCATION:Sala Conferenze\, Viale Italia\, 153 - scala C - 1° piano\, Forlì\, Italia
CATEGORIES:OMCeO FC
END:VEVENT
BEGIN:VEVENT
DTSTART;TZID=Europe/Paris:20220127T203000
DTEND;TZID=Europe/Paris:20220127T233000
DTSTAMP:20260424T221221
CREATED:20220111T102758Z
LAST-MODIFIED:20220111T102758Z
UID:16782-1643315400-1643326200@www.ordinemedicifc.it
SUMMARY:OMCeO FC: Gestione della Tossicità da Immunoterapia nel paziente Oncologico
DESCRIPTION:Programma 27 21 2022 \n  \nREGISTRAZIONE ONLINE ENTRO IL GIORNO PRIMA \nCliccare qui per registrarsi come medico convenzionato SSN o dipendente AUSL \nCliccare qui per registrarsi come esterno (non convenzionato del SSN e non dipendente AUSL)
URL:https://www.ordinemedicifc.it/evento/omceo-fc-https-gestione-della-tossicita-da-immunoterapia-nel-paziente-oncologico/
LOCATION:Sala Conferenze\, Viale Italia\, 153 - scala C - 1° piano\, Forlì\, Italia
CATEGORIES:OMCeO FC
END:VEVENT
BEGIN:VEVENT
DTSTART;TZID=Europe/Paris:20220127T203000
DTEND;TZID=Europe/Paris:20220127T233000
DTSTAMP:20260424T221221
CREATED:20220111T102758Z
LAST-MODIFIED:20220111T102758Z
UID:21017-1643315400-1643326200@www.ordinemedicifc.it
SUMMARY:OMCeO FC: Gestione della Tossicità da Immunoterapia nel paziente Oncologico
DESCRIPTION:Programma 27 21 2022 \n  \nREGISTRAZIONE ONLINE ENTRO IL GIORNO PRIMA \nCliccare qui per registrarsi come medico convenzionato SSN o dipendente AUSL \nCliccare qui per registrarsi come esterno (non convenzionato del SSN e non dipendente AUSL)
URL:https://www.ordinemedicifc.it/evento/omceo-fc-https-gestione-della-tossicita-da-immunoterapia-nel-paziente-oncologico-2/
LOCATION:Sala Conferenze\, Viale Italia\, 153 - scala C - 1° piano\, Forlì\, Italia
CATEGORIES:OMCeO FC
END:VEVENT
BEGIN:VEVENT
DTSTART;TZID=Europe/Paris:20220120T203000
DTEND;TZID=Europe/Paris:20220120T233000
DTSTAMP:20260424T221221
CREATED:20220111T100758Z
LAST-MODIFIED:20220111T100758Z
UID:16779-1642710600-1642721400@www.ordinemedicifc.it
SUMMARY:OMCeO FC: Malattie neuromuscolari in corso di infezione da SARS-COV-2
DESCRIPTION:Programma 20 01 2022 \nREGISTRAZIONE ONLINE ENTRO IL GIORNO PRIMA \nCliccare qui per registrarsi come medico convenzionato SSN o dipendente AUSL \nCliccare qui per registrarsi come esterno (non convenzionato del SSN e non dipendente AUSL)
URL:https://www.ordinemedicifc.it/evento/omceo-fc-malattie-neuromuscolari-in-corso-di-infezione-da-sars-cov-2/
LOCATION:Sala Conferenze\, Viale Italia\, 153 - scala C - 1° piano\, Forlì\, Italia
CATEGORIES:OMCeO FC
END:VEVENT
BEGIN:VEVENT
DTSTART;TZID=Europe/Paris:20220120T203000
DTEND;TZID=Europe/Paris:20220120T233000
DTSTAMP:20260424T221221
CREATED:20220111T100758Z
LAST-MODIFIED:20220111T100758Z
UID:21016-1642710600-1642721400@www.ordinemedicifc.it
SUMMARY:OMCeO FC: Malattie neuromuscolari in corso di infezione da SARS-COV-2
DESCRIPTION:Programma 20 01 2022 \nREGISTRAZIONE ONLINE ENTRO IL GIORNO PRIMA \nCliccare qui per registrarsi come medico convenzionato SSN o dipendente AUSL \nCliccare qui per registrarsi come esterno (non convenzionato del SSN e non dipendente AUSL)
URL:https://www.ordinemedicifc.it/evento/omceo-fc-malattie-neuromuscolari-in-corso-di-infezione-da-sars-cov-2-2/
LOCATION:Sala Conferenze\, Viale Italia\, 153 - scala C - 1° piano\, Forlì\, Italia
CATEGORIES:OMCeO FC
END:VEVENT
BEGIN:VEVENT
DTSTART;TZID=Europe/Paris:20211030T090000
DTEND;TZID=Europe/Paris:20211030T130000
DTSTAMP:20260424T221221
CREATED:20211005T130122Z
LAST-MODIFIED:20211005T130122Z
UID:21005-1635584400-1635598800@www.ordinemedicifc.it
SUMMARY:OMCeO FC: Enpam\, un anno di pandemia: cosa è stato fatto
DESCRIPTION:REGISTRAZIONE ONLINE ENTRO DUE GIORNI PRIMA \nCliccare qui per registrarsi come medico convenzionato SSN o dipendente AUSL \nCliccare qui per registrarsi come esterno (non convenzionato del SSN e non dipendente AUSL) \n  \nProgramma 30 ottobre 2021 enpam
URL:https://www.ordinemedicifc.it/evento/omceo-fc-enpam-un-anno-di-pandemia-cosa-e-stato-fatto-2/
LOCATION:Sala Conferenze\, Viale Italia\, 153 - scala C - 1° piano\, Forlì\, Italia
CATEGORIES:OMCeO FC
END:VEVENT
BEGIN:VEVENT
DTSTART;TZID=Europe/Paris:20211030T090000
DTEND;TZID=Europe/Paris:20211030T130000
DTSTAMP:20260424T221221
CREATED:20211005T130122Z
LAST-MODIFIED:20211005T130515Z
UID:16117-1635584400-1635598800@www.ordinemedicifc.it
SUMMARY:OMCeO FC: Enpam\, un anno di pandemia: cosa è stato fatto
DESCRIPTION:REGISTRAZIONE ONLINE ENTRO DUE GIORNI PRIMA \nCliccare qui per registrarsi come medico convenzionato SSN o dipendente AUSL \nCliccare qui per registrarsi come esterno (non convenzionato del SSN e non dipendente AUSL) \n  \nProgramma 30 ottobre 2021 enpam
URL:https://www.ordinemedicifc.it/evento/omceo-fc-enpam-un-anno-di-pandemia-cosa-e-stato-fatto/
LOCATION:Sala Conferenze\, Viale Italia\, 153 - scala C - 1° piano\, Forlì\, Italia
CATEGORIES:OMCeO FC
END:VEVENT
BEGIN:VEVENT
DTSTART;TZID=Europe/Paris:20211028T203000
DTEND;TZID=Europe/Paris:20211028T233000
DTSTAMP:20260424T221221
CREATED:20210907T093945Z
LAST-MODIFIED:20210907T130446Z
UID:15705-1635453000-1635463800@www.ordinemedicifc.it
SUMMARY:OMCeO FC: Endodonzia clinica dall’anatomia alla preparazione canalare con strumenti rotanti in Ni-Ti
DESCRIPTION:Programma \n  \nREGISTRAZIONE ONLINE ENTRO DUE GIORNI PRIMA \nCliccare qui per registrarsi come medico convenzionato SSN o dipendente AUSL \nCliccare qui per registrarsi come esterno (non convenzionato del SSN e non dipendente AUSL)
URL:https://www.ordinemedicifc.it/evento/omceo-fc-endodonzia-clinica-dallanatomia-alla-preparazione-canalare-con-strumenti-rotanti-in-ni-ti/
LOCATION:Sala Conferenze\, Viale Italia\, 153 - scala C - 1° piano\, Forlì\, Italia
CATEGORIES:OMCeO FC
END:VEVENT
BEGIN:VEVENT
DTSTART;TZID=Europe/Paris:20211028T203000
DTEND;TZID=Europe/Paris:20211028T233000
DTSTAMP:20260424T221221
CREATED:20210907T093945Z
LAST-MODIFIED:20210907T093945Z
UID:20992-1635453000-1635463800@www.ordinemedicifc.it
SUMMARY:OMCeO FC: Endodonzia clinica dall’anatomia alla preparazione canalare con strumenti rotanti in Ni-Ti
DESCRIPTION:Programma \n  \nREGISTRAZIONE ONLINE ENTRO DUE GIORNI PRIMA \nCliccare qui per registrarsi come medico convenzionato SSN o dipendente AUSL \nCliccare qui per registrarsi come esterno (non convenzionato del SSN e non dipendente AUSL)
URL:https://www.ordinemedicifc.it/evento/omceo-fc-endodonzia-clinica-dallanatomia-alla-preparazione-canalare-con-strumenti-rotanti-in-ni-ti-2/
LOCATION:Sala Conferenze\, Viale Italia\, 153 - scala C - 1° piano\, Forlì\, Italia
CATEGORIES:OMCeO FC
END:VEVENT
END:VCALENDAR