BEGIN:VCALENDAR
VERSION:2.0
PRODID:-//Ordine dei Medici Chirurghi e Odontoiatri di Forl&igrave;-Cesena - ECPv6.15.20//NONSGML v1.0//EN
CALSCALE:GREGORIAN
METHOD:PUBLISH
X-WR-CALNAME:Ordine dei Medici Chirurghi e Odontoiatri di Forl&igrave;-Cesena
X-ORIGINAL-URL:https://www.ordinemedicifc.it
X-WR-CALDESC:Eventi per Ordine dei Medici Chirurghi e Odontoiatri di Forl&igrave;-Cesena
REFRESH-INTERVAL;VALUE=DURATION:PT1H
X-Robots-Tag:noindex
X-PUBLISHED-TTL:PT1H
BEGIN:VTIMEZONE
TZID:Europe/Paris
BEGIN:DAYLIGHT
TZOFFSETFROM:+0100
TZOFFSETTO:+0200
TZNAME:CEST
DTSTART:20210328T010000
END:DAYLIGHT
BEGIN:STANDARD
TZOFFSETFROM:+0200
TZOFFSETTO:+0100
TZNAME:CET
DTSTART:20211031T010000
END:STANDARD
BEGIN:DAYLIGHT
TZOFFSETFROM:+0100
TZOFFSETTO:+0200
TZNAME:CEST
DTSTART:20220327T010000
END:DAYLIGHT
BEGIN:STANDARD
TZOFFSETFROM:+0200
TZOFFSETTO:+0100
TZNAME:CET
DTSTART:20221030T010000
END:STANDARD
BEGIN:DAYLIGHT
TZOFFSETFROM:+0100
TZOFFSETTO:+0200
TZNAME:CEST
DTSTART:20230326T010000
END:DAYLIGHT
BEGIN:STANDARD
TZOFFSETFROM:+0200
TZOFFSETTO:+0100
TZNAME:CET
DTSTART:20231029T010000
END:STANDARD
END:VTIMEZONE
BEGIN:VEVENT
DTSTART;VALUE=DATE:20221028
DTEND;VALUE=DATE:20221030
DTSTAMP:20260423T001828
CREATED:20220627T065738Z
LAST-MODIFIED:20220627T065738Z
UID:17914-1666918800-1667005199@www.ordinemedicifc.it
SUMMARY:Forlì: CONGRESSO GLAUCOMA REVOLUTION Live Surgery
DESCRIPTION:https://www.comunicazioneventi.it/event/glaucoma-revolution/
URL:https://www.ordinemedicifc.it/evento/forli-congresso-glaucoma-revolution-live-surgery/
CATEGORIES:Patrocini
END:VEVENT
BEGIN:VEVENT
DTSTART;TZID=Europe/Paris:20221027T203000
DTEND;TZID=Europe/Paris:20221027T233000
DTSTAMP:20260423T001828
CREATED:20221004T090520Z
LAST-MODIFIED:20221004T090520Z
UID:18488-1666902600-1666913400@www.ordinemedicifc.it
SUMMARY:OMCeO FC: La diastasi dei retti: Una patologia misconosciuta
DESCRIPTION:Programma \n  \nREGISTRAZIONE ONLINE OBBLIGATORIA ENTRO DUE GIORNI PRIMA \nCliccare qui per registrarsi come medico convenzionato SSN o dipendente AUSL \nCliccare qui per registrarsi come esterno (non convenzionato del SSN e non dipendente AUSL)
URL:https://www.ordinemedicifc.it/evento/omceo-fc-la-diastasi-dei-retti-una-patologia-misconosciuta/
LOCATION:Sala Conferenze\, Viale Italia\, 153 - scala C - 1° piano\, Forlì\, Italia
CATEGORIES:OMCeO FC
END:VEVENT
BEGIN:VEVENT
DTSTART;TZID=Europe/Paris:20221027T203000
DTEND;TZID=Europe/Paris:20221027T233000
DTSTAMP:20260423T001828
CREATED:20221004T090520Z
LAST-MODIFIED:20221004T090520Z
UID:21064-1666902600-1666913400@www.ordinemedicifc.it
SUMMARY:OMCeO FC: La diastasi dei retti: Una patologia misconosciuta
DESCRIPTION:Programma \n  \nREGISTRAZIONE ONLINE OBBLIGATORIA ENTRO DUE GIORNI PRIMA \nCliccare qui per registrarsi come medico convenzionato SSN o dipendente AUSL \nCliccare qui per registrarsi come esterno (non convenzionato del SSN e non dipendente AUSL)
URL:https://www.ordinemedicifc.it/evento/omceo-fc-la-diastasi-dei-retti-una-patologia-misconosciuta-2/
LOCATION:Sala Conferenze\, Viale Italia\, 153 - scala C - 1° piano\, Forlì\, Italia
CATEGORIES:OMCeO FC
END:VEVENT
BEGIN:VEVENT
DTSTART;VALUE=DATE:20221025
DTEND;VALUE=DATE:20221027
DTSTAMP:20260423T001828
CREATED:20221024T075329Z
LAST-MODIFIED:20221024T075329Z
UID:18624-1666659600-1666745999@www.ordinemedicifc.it
SUMMARY:Webinar: La salute sostenibile in età pediatrica
DESCRIPTION:
URL:https://www.ordinemedicifc.it/evento/webinar-la-salute-sostenibile-in-eta-pediatrica/
CATEGORIES:Altri eventi
END:VEVENT
BEGIN:VEVENT
DTSTART;VALUE=DATE:20221025
DTEND;VALUE=DATE:20221027
DTSTAMP:20260423T001828
CREATED:20221024T075329Z
LAST-MODIFIED:20221024T075329Z
UID:21068-1666659600-1666745999@www.ordinemedicifc.it
SUMMARY:Webinar: La salute sostenibile in età pediatrica
DESCRIPTION:
URL:https://www.ordinemedicifc.it/evento/webinar-la-salute-sostenibile-in-eta-pediatrica-2/
CATEGORIES:Altri eventi
END:VEVENT
BEGIN:VEVENT
DTSTART;VALUE=DATE:20221020
DTEND;VALUE=DATE:20221022
DTSTAMP:20260423T001828
CREATED:20220919T091411Z
LAST-MODIFIED:20220919T091517Z
UID:18309-1666227600-1666313999@www.ordinemedicifc.it
SUMMARY:Forlì: ENDOBOAT: ECOENDOSCOPIA ED ECOGRAFIA
DESCRIPTION:https://www.adbcongressi.it/evento_1055_adbcongressiedeventi
URL:https://www.ordinemedicifc.it/evento/forli-endoboat-ecoendoscopia-ed-ecografia/
CATEGORIES:Patrocini
END:VEVENT
BEGIN:VEVENT
DTSTART;VALUE=DATE:20221020
DTEND;VALUE=DATE:20221022
DTSTAMP:20260423T001828
CREATED:20220919T091411Z
LAST-MODIFIED:20220919T091411Z
UID:21060-1666227600-1666313999@www.ordinemedicifc.it
SUMMARY:Forlì: ENDOBOAT: ECOENDOSCOPIA ED ECOGRAFIA
DESCRIPTION:https://www.adbcongressi.it/evento_1055_adbcongressiedeventi
URL:https://www.ordinemedicifc.it/evento/forli-endoboat-ecoendoscopia-ed-ecografia-2/
CATEGORIES:Patrocini
END:VEVENT
BEGIN:VEVENT
DTSTART;VALUE=DATE:20221018
DTEND;VALUE=DATE:20221020
DTSTAMP:20260423T001828
CREATED:20221011T091201Z
LAST-MODIFIED:20221011T091201Z
UID:18528-1666054800-1666141199@www.ordinemedicifc.it
SUMMARY:Bologna: l'impatto della pandemia sulle libere professioni Una lettura di genere sulle specificità dell’Emilia-Romagna
DESCRIPTION:iscrizioni entro il 16 ottobre \n  \nInvito e istruzioni 18.10 impatto Pandemia \nLocandina_18 ottobre definitiva
URL:https://www.ordinemedicifc.it/evento/bologna-limpatto-della-pandemia-sulle-libere-professioni-una-lettura-di-genere-sulle-specificita-dellemilia-romagna/
CATEGORIES:Altri eventi
END:VEVENT
BEGIN:VEVENT
DTSTART;VALUE=DATE:20221018
DTEND;VALUE=DATE:20221020
DTSTAMP:20260423T001828
CREATED:20221011T091201Z
LAST-MODIFIED:20221011T091201Z
UID:21065-1666054800-1666141199@www.ordinemedicifc.it
SUMMARY:Bologna: l'impatto della pandemia sulle libere professioni Una lettura di genere sulle specificità dell’Emilia-Romagna
DESCRIPTION:iscrizioni entro il 16 ottobre \n  \nInvito e istruzioni 18.10 impatto Pandemia \nLocandina_18 ottobre definitiva
URL:https://www.ordinemedicifc.it/evento/bologna-limpatto-della-pandemia-sulle-libere-professioni-una-lettura-di-genere-sulle-specificita-dellemilia-romagna-2/
CATEGORIES:Altri eventi
END:VEVENT
BEGIN:VEVENT
DTSTART;TZID=Europe/Paris:20221015T090000
DTEND;TZID=Europe/Paris:20221015T130000
DTSTAMP:20260423T001828
CREATED:20220922T130338Z
LAST-MODIFIED:20220922T130338Z
UID:18424-1665824400-1665838800@www.ordinemedicifc.it
SUMMARY:OMCeO FC: Approccio multidisciplinare alle Patologie Pancreatiche
DESCRIPTION:programma \n  \nREGISTRAZIONE ONLINE OBBLIGATORIA ENTRO DUE GIORNI PRIMA \nCliccare qui per registrarsi come medico convenzionato SSN o dipendente AUSL \nCliccare qui per registrarsi come esterno (non convenzionato del SSN e non dipendente AUSL)
URL:https://www.ordinemedicifc.it/evento/omceo-fc-approccio-multidisciplinare-alle-patologie-pancreatiche/
LOCATION:Sala Conferenze\, Viale Italia\, 153 - scala C - 1° piano\, Forlì\, Italia
CATEGORIES:Altri eventi
END:VEVENT
BEGIN:VEVENT
DTSTART;TZID=Europe/Paris:20221015T090000
DTEND;TZID=Europe/Paris:20221015T130000
DTSTAMP:20260423T001828
CREATED:20220922T130338Z
LAST-MODIFIED:20220922T130338Z
UID:21063-1665824400-1665838800@www.ordinemedicifc.it
SUMMARY:OMCeO FC: Approccio multidisciplinare alle Patologie Pancreatiche
DESCRIPTION:programma \n  \nREGISTRAZIONE ONLINE OBBLIGATORIA ENTRO DUE GIORNI PRIMA \nCliccare qui per registrarsi come medico convenzionato SSN o dipendente AUSL \nCliccare qui per registrarsi come esterno (non convenzionato del SSN e non dipendente AUSL)
URL:https://www.ordinemedicifc.it/evento/omceo-fc-approccio-multidisciplinare-alle-patologie-pancreatiche-2/
LOCATION:Sala Conferenze\, Viale Italia\, 153 - scala C - 1° piano\, Forlì\, Italia
CATEGORIES:Altri eventi
END:VEVENT
BEGIN:VEVENT
DTSTART;VALUE=DATE:20221014
DTEND;VALUE=DATE:20221016
DTSTAMP:20260423T001828
CREATED:20220919T085800Z
LAST-MODIFIED:20220919T085800Z
UID:21058-1665709200-1665795599@www.ordinemedicifc.it
SUMMARY:Sogliano al Rubicone. Endurance\, perchè lo facciamo?
DESCRIPTION:https://www.rubiconeforsport.it/serata-endurance/
URL:https://www.ordinemedicifc.it/evento/sogliano-al-rubicone-endurance-perche-lo-facciamo-2/
CATEGORIES:Patrocini
END:VEVENT
BEGIN:VEVENT
DTSTART;VALUE=DATE:20221014
DTEND;VALUE=DATE:20221016
DTSTAMP:20260423T001828
CREATED:20220919T085800Z
LAST-MODIFIED:20220922T063349Z
UID:18304-1665709200-1665795599@www.ordinemedicifc.it
SUMMARY:Sogliano al Rubicone. Endurance\, perchè lo facciamo?
DESCRIPTION:https://www.rubiconeforsport.it/serata-endurance/
URL:https://www.ordinemedicifc.it/evento/sogliano-al-rubicone-endurance-perche-lo-facciamo/
CATEGORIES:Patrocini
END:VEVENT
BEGIN:VEVENT
DTSTART;VALUE=DATE:20221007
DTEND;VALUE=DATE:20221010
DTSTAMP:20260423T001828
CREATED:20220919T071040Z
LAST-MODIFIED:20220919T071040Z
UID:18301-1665104400-1665277199@www.ordinemedicifc.it
SUMMARY:Cervia: Il Low Back Pain: Il Percorso Diagnostico Terapeutico Assistenziale (PDTA)
DESCRIPTION:programma \n\nsi svolgerà a Cervia (RA) presso i Magazzini del Sale – via Nazario Sauro\, 18 – nei giorni 7 – 8 Ottobre 2022. \nIl Corso Pre-congressuale Pain nurse del giorno 7 Ottobre è accreditato per medici chirurghi (area interdisciplinare)\, infermieri\, infermieri pediatrici e prevede 4 crediti ecm. \nIl Congresso Pain Rer – Il LBP: Il PDTA del giorno 8 Ottobre è accreditato per medici chirurghi (area interdisciplinare)\, infermieri\, fisioterapisti\, psicologi e prevede 8\,4 crediti ecm. \nAlleghiamo il programma dell’evento. \nLa partecipazione è gratuita. E’ possibile iscriversi tramite il sito www.fimo.biz nella sezione “Eventi” o tramite mail all’indirizzo info@fimo.biz \nRicordiamo che la partecipazione sia al corso Pain Nurse che al congresso Pain Rer prevede due iscrizioni distinte. \nLa Segreteria rimane a disposizione per ogni necessità. \n\n\n\n—\n\nDott. Massimo Innamorato\nDirettore UO Terapia Antalgica Romagna\nDipartimento delle Neuroscienze\nDirettore Programma Dolore Acuto e Cronico
URL:https://www.ordinemedicifc.it/evento/cervia-il-low-back-pain-il-percorso-diagnostico-terapeutico-assistenziale-pdta/
CATEGORIES:Altri eventi
END:VEVENT
BEGIN:VEVENT
DTSTART;VALUE=DATE:20221007
DTEND;VALUE=DATE:20221010
DTSTAMP:20260423T001828
CREATED:20220919T071040Z
LAST-MODIFIED:20220919T071040Z
UID:21057-1665104400-1665277199@www.ordinemedicifc.it
SUMMARY:Cervia: Il Low Back Pain: Il Percorso Diagnostico Terapeutico Assistenziale (PDTA)
DESCRIPTION:programma \n\nsi svolgerà a Cervia (RA) presso i Magazzini del Sale – via Nazario Sauro\, 18 – nei giorni 7 – 8 Ottobre 2022. \nIl Corso Pre-congressuale Pain nurse del giorno 7 Ottobre è accreditato per medici chirurghi (area interdisciplinare)\, infermieri\, infermieri pediatrici e prevede 4 crediti ecm. \nIl Congresso Pain Rer – Il LBP: Il PDTA del giorno 8 Ottobre è accreditato per medici chirurghi (area interdisciplinare)\, infermieri\, fisioterapisti\, psicologi e prevede 8\,4 crediti ecm. \nAlleghiamo il programma dell’evento. \nLa partecipazione è gratuita. E’ possibile iscriversi tramite il sito www.fimo.biz nella sezione “Eventi” o tramite mail all’indirizzo info@fimo.biz \nRicordiamo che la partecipazione sia al corso Pain Nurse che al congresso Pain Rer prevede due iscrizioni distinte. \nLa Segreteria rimane a disposizione per ogni necessità. \n\n\n\n—\n\nDott. Massimo Innamorato\nDirettore UO Terapia Antalgica Romagna\nDipartimento delle Neuroscienze\nDirettore Programma Dolore Acuto e Cronico
URL:https://www.ordinemedicifc.it/evento/cervia-il-low-back-pain-il-percorso-diagnostico-terapeutico-assistenziale-pdta-2/
CATEGORIES:Altri eventi
END:VEVENT
BEGIN:VEVENT
DTSTART;TZID=Europe/Paris:20221006T203000
DTEND;TZID=Europe/Paris:20221006T233000
DTSTAMP:20260423T001828
CREATED:20220726T102825Z
LAST-MODIFIED:20220726T102825Z
UID:21053-1665088200-1665099000@www.ordinemedicifc.it
SUMMARY:OMCeO FC: Sanguinamenti uterini anomali in età fertile e in post menopausa
DESCRIPTION:Programma \n  \nREGISTRAZIONE ONLINE OBBLIGATORIA ENTRO DUE GIORNI PRIMA \nCliccare qui per registrarsi come medico convenzionato SSN o dipendente AUSL \nCliccare qui per registrarsi come esterno (non convenzionato del SSN e non dipendente AUSL)
URL:https://www.ordinemedicifc.it/evento/omceo-fc-sanguinamenti-uterini-anomali-in-eta-fertile-e-in-post-menopausa-2/
LOCATION:Sala Conferenze\, Viale Italia\, 153 - scala C - 1° piano\, Forlì\, Italia
CATEGORIES:OMCeO FC
END:VEVENT
BEGIN:VEVENT
DTSTART;TZID=Europe/Paris:20221006T203000
DTEND;TZID=Europe/Paris:20221006T233000
DTSTAMP:20260423T001828
CREATED:20220726T102825Z
LAST-MODIFIED:20220726T102825Z
UID:18064-1665088200-1665099000@www.ordinemedicifc.it
SUMMARY:OMCeO FC: Sanguinamenti uterini anomali in età fertile e in post menopausa
DESCRIPTION:Programma \n  \nREGISTRAZIONE ONLINE OBBLIGATORIA ENTRO DUE GIORNI PRIMA \nCliccare qui per registrarsi come medico convenzionato SSN o dipendente AUSL \nCliccare qui per registrarsi come esterno (non convenzionato del SSN e non dipendente AUSL)
URL:https://www.ordinemedicifc.it/evento/omceo-fc-sanguinamenti-uterini-anomali-in-eta-fertile-e-in-post-menopausa/
LOCATION:Sala Conferenze\, Viale Italia\, 153 - scala C - 1° piano\, Forlì\, Italia
CATEGORIES:OMCeO FC
END:VEVENT
BEGIN:VEVENT
DTSTART;VALUE=DATE:20221006
DTEND;VALUE=DATE:20221008
DTSTAMP:20260423T001828
CREATED:20220919T091147Z
LAST-MODIFIED:20220919T091147Z
UID:18307-1665018000-1665104399@www.ordinemedicifc.it
SUMMARY:Forlì: ENDOBOAT: URGENZE IN GASTROENTEROLOGIA
DESCRIPTION:https://www.adbcongressi.it/evento_1053_adbcongressiedeventi
URL:https://www.ordinemedicifc.it/evento/forli-endoboat-urgenze-in-gastroenterologia/
CATEGORIES:Patrocini
END:VEVENT
BEGIN:VEVENT
DTSTART;VALUE=DATE:20221006
DTEND;VALUE=DATE:20221008
DTSTAMP:20260423T001828
CREATED:20220919T091147Z
LAST-MODIFIED:20220919T091147Z
UID:21059-1665018000-1665104399@www.ordinemedicifc.it
SUMMARY:Forlì: ENDOBOAT: URGENZE IN GASTROENTEROLOGIA
DESCRIPTION:https://www.adbcongressi.it/evento_1053_adbcongressiedeventi
URL:https://www.ordinemedicifc.it/evento/forli-endoboat-urgenze-in-gastroenterologia-2/
CATEGORIES:Patrocini
END:VEVENT
BEGIN:VEVENT
DTSTART;TZID=Europe/Paris:20220930T080000
DTEND;TZID=Europe/Paris:20220930T190000
DTSTAMP:20260423T001828
CREATED:20220906T130057Z
LAST-MODIFIED:20220906T130057Z
UID:18224-1664524800-1664564400@www.ordinemedicifc.it
SUMMARY:ASPETTI NEUROPSICOLOGICI NEL MALATO NEURO-ONCOLOGICO. CAPIRE PER AIUTARE- 30 SETTEMBRE 2022 MARIA CECILIA HOSPITAL
DESCRIPTION:Siamo con la presente ad inviare il programma dell’evento “ASPETTI NEUROPSICOLOGICI NEL MALATO NEURO-ONCOLOGICO. CAPIRE PER AIUTARE ” che si terrà presso l’Area Convegni di Maria Cecilia Hospital (Via Corriera 1\, Cotignola RA) venerdì 30 Settembre 2022. \n  \nI Responsabili Scientifici dell’evento sono il Dr. I. Borghesi\, il Prof. F. Calbucci\, il Dr. R. Draghi\, la Prof.ssa M.M. Fontanella\, la Dr.ssa S. Serioli. \n  \nIl Corso si occuperà dell’inquadramento clinico\, della gestione e del trattamento del Malato neuro-oncologico\, con l’intervento di figure professionali specialistiche provenienti da tutto il territorio della Romagna\, oltre che di professionisti di rilevanza nazionale. \nIn questo contesto clinico l’aspetto neuropsicologico riveste un ruolo centrale sia per il supporto al paziente sia per il sostegno al “care-giver”\, che quotidianamente assiste il familiare durante il percorso della malattia. \nL’obiettivo del Corso è acquisire competenze sul complesso percorso diagnostico-terapeutico ed assistenziale del malato neuro-oncologico e interfacciarsi con professionisti operanti in Romagna\, al fine di stabilire una stretta collaborazione a livello territoriale. \n  \nIl Corso è gratuito e si può effettuare l’iscrizione on line tramite il sito www.GvmCampus.it o inviando la scheda di iscrizione all’indirizzo gvmcampusegreteria@gvmnet.it \n  \nL’evento ha ottenuto n. 8 crediti formativi ECM per le figure professionali del Medico Chirurgo (Geriatria\, Medicina e Chirurgia di Accettazione e di Urgenza\, Medicina Fisica e Riabilitazione\, Medicina Interna\, Medicina dello Sport\, Neurologia\, Oncologia\, Psichiatria\, Radioterapia\, Neurochirurgia\, Anestesia e Rianimazione\, Neurofisiopatologia\, Neuroradiologia\, Radiodiagnostica\, Medicina Generale\, Continuità Assistenziale\, Cure Palliative\, Psicoterapia\, Igiene\, epidemiologia e sanità pubblica )\, Infermiere\, Fisioterapista\, Psicologo\, Logopedista\, Tecnico di Neurofisiopatologia\, Terapista della Neuro e Psicomotricità dell’età evolutiva. \n  \nNella speranza di averLa nostro gradito ospite\, restiamo a disposizione per ulteriori informazioni e porgiamo cordiali saluti. \n  \nProgramma \n 
URL:https://www.ordinemedicifc.it/evento/aspetti-neuropsicologici-nel-malato-neuro-oncologico-capire-per-aiutare-30-settembre-2022-maria-cecilia-hospital/
CATEGORIES:Altri eventi
END:VEVENT
BEGIN:VEVENT
DTSTART;TZID=Europe/Paris:20220930T080000
DTEND;TZID=Europe/Paris:20220930T190000
DTSTAMP:20260423T001828
CREATED:20220906T130057Z
LAST-MODIFIED:20220906T130057Z
UID:21055-1664524800-1664564400@www.ordinemedicifc.it
SUMMARY:ASPETTI NEUROPSICOLOGICI NEL MALATO NEURO-ONCOLOGICO. CAPIRE PER AIUTARE- 30 SETTEMBRE 2022 MARIA CECILIA HOSPITAL
DESCRIPTION:Siamo con la presente ad inviare il programma dell’evento “ASPETTI NEUROPSICOLOGICI NEL MALATO NEURO-ONCOLOGICO. CAPIRE PER AIUTARE ” che si terrà presso l’Area Convegni di Maria Cecilia Hospital (Via Corriera 1\, Cotignola RA) venerdì 30 Settembre 2022. \n  \nI Responsabili Scientifici dell’evento sono il Dr. I. Borghesi\, il Prof. F. Calbucci\, il Dr. R. Draghi\, la Prof.ssa M.M. Fontanella\, la Dr.ssa S. Serioli. \n  \nIl Corso si occuperà dell’inquadramento clinico\, della gestione e del trattamento del Malato neuro-oncologico\, con l’intervento di figure professionali specialistiche provenienti da tutto il territorio della Romagna\, oltre che di professionisti di rilevanza nazionale. \nIn questo contesto clinico l’aspetto neuropsicologico riveste un ruolo centrale sia per il supporto al paziente sia per il sostegno al “care-giver”\, che quotidianamente assiste il familiare durante il percorso della malattia. \nL’obiettivo del Corso è acquisire competenze sul complesso percorso diagnostico-terapeutico ed assistenziale del malato neuro-oncologico e interfacciarsi con professionisti operanti in Romagna\, al fine di stabilire una stretta collaborazione a livello territoriale. \n  \nIl Corso è gratuito e si può effettuare l’iscrizione on line tramite il sito www.GvmCampus.it o inviando la scheda di iscrizione all’indirizzo gvmcampusegreteria@gvmnet.it \n  \nL’evento ha ottenuto n. 8 crediti formativi ECM per le figure professionali del Medico Chirurgo (Geriatria\, Medicina e Chirurgia di Accettazione e di Urgenza\, Medicina Fisica e Riabilitazione\, Medicina Interna\, Medicina dello Sport\, Neurologia\, Oncologia\, Psichiatria\, Radioterapia\, Neurochirurgia\, Anestesia e Rianimazione\, Neurofisiopatologia\, Neuroradiologia\, Radiodiagnostica\, Medicina Generale\, Continuità Assistenziale\, Cure Palliative\, Psicoterapia\, Igiene\, epidemiologia e sanità pubblica )\, Infermiere\, Fisioterapista\, Psicologo\, Logopedista\, Tecnico di Neurofisiopatologia\, Terapista della Neuro e Psicomotricità dell’età evolutiva. \n  \nNella speranza di averLa nostro gradito ospite\, restiamo a disposizione per ulteriori informazioni e porgiamo cordiali saluti. \n  \nProgramma \n 
URL:https://www.ordinemedicifc.it/evento/aspetti-neuropsicologici-nel-malato-neuro-oncologico-capire-per-aiutare-30-settembre-2022-maria-cecilia-hospital-2/
CATEGORIES:Altri eventi
END:VEVENT
BEGIN:VEVENT
DTSTART;VALUE=DATE:20220929
DTEND;VALUE=DATE:20221001
DTSTAMP:20260423T001828
CREATED:20220527T075307Z
LAST-MODIFIED:20220527T075549Z
UID:17730-1664413200-1664499599@www.ordinemedicifc.it
SUMMARY:Cesena: L'internista nella continua ricerca dell'appropriatezza
DESCRIPTION:https://www.auslromagna.it/notizie/comunicati/item/4289-l-internista-nella-continua-ricerca-dell-appropriatezza-9-giugno-2022-forli
URL:https://www.ordinemedicifc.it/evento/cesena-linternista-nella-continua-ricerca-dellappropriatezza/
CATEGORIES:Altri eventi
END:VEVENT
BEGIN:VEVENT
DTSTART;VALUE=DATE:20220929
DTEND;VALUE=DATE:20221001
DTSTAMP:20260423T001828
CREATED:20220527T075307Z
LAST-MODIFIED:20220527T075307Z
UID:21047-1664413200-1664499599@www.ordinemedicifc.it
SUMMARY:Cesena: L'internista nella continua ricerca dell'appropriatezza
DESCRIPTION:https://www.auslromagna.it/notizie/comunicati/item/4289-l-internista-nella-continua-ricerca-dell-appropriatezza-9-giugno-2022-forli
URL:https://www.ordinemedicifc.it/evento/cesena-linternista-nella-continua-ricerca-dellappropriatezza-2/
CATEGORIES:Altri eventi
END:VEVENT
BEGIN:VEVENT
DTSTART;VALUE=DATE:20220929
DTEND;VALUE=DATE:20221001
DTSTAMP:20260423T001828
CREATED:20220322T102217Z
LAST-MODIFIED:20220322T102217Z
UID:21034-1664413200-1664499599@www.ordinemedicifc.it
SUMMARY:Cesena: L’INTERNISTA NELLA CONTINUA RICERCA DELL’APPROPRIATEZZA: NUOVI ORIZZONTI PER UNA MEDICINA INTERNA DEL FUTURO
DESCRIPTION:https://www.adbcongressi.it/evento_1046_adbcongressiedeventi
URL:https://www.ordinemedicifc.it/evento/cesena-linternista-nella-continua-ricerca-dellappropriatezza-nuovi-orizzonti-per-una-medicina-interna-del-futuro-2/
CATEGORIES:Patrocini
END:VEVENT
BEGIN:VEVENT
DTSTART;VALUE=DATE:20220929
DTEND;VALUE=DATE:20221001
DTSTAMP:20260423T001828
CREATED:20220322T102217Z
LAST-MODIFIED:20220322T102217Z
UID:17279-1664413200-1664499599@www.ordinemedicifc.it
SUMMARY:Cesena: L’INTERNISTA NELLA CONTINUA RICERCA DELL’APPROPRIATEZZA: NUOVI ORIZZONTI PER UNA MEDICINA INTERNA DEL FUTURO
DESCRIPTION:https://www.adbcongressi.it/evento_1046_adbcongressiedeventi
URL:https://www.ordinemedicifc.it/evento/cesena-linternista-nella-continua-ricerca-dellappropriatezza-nuovi-orizzonti-per-una-medicina-interna-del-futuro/
CATEGORIES:Patrocini
END:VEVENT
BEGIN:VEVENT
DTSTART;TZID=Europe/Paris:20220924T083000
DTEND;TZID=Europe/Paris:20220924T130000
DTSTAMP:20260423T001828
CREATED:20220726T102555Z
LAST-MODIFIED:20220920T084834Z
UID:18061-1664008200-1664024400@www.ordinemedicifc.it
SUMMARY:OMCeO FC: Alimentazione e Salute: dal bambino all’adulto
DESCRIPTION:Programma \n  \nREGISTRAZIONE ONLINE OBBLIGATORIA ENTRO DUE GIORNI PRIMA \nCliccare qui per registrarsi come medico convenzionato SSN o dipendente AUSL \nCliccare qui per registrarsi come esterno (non convenzionato del SSN e non dipendente AUSL)
URL:https://www.ordinemedicifc.it/evento/omceo-fc-alimentazione-e-salute-dal-bambino-alladulto/
LOCATION:Sala Conferenze\, Viale Italia\, 153 - scala C - 1° piano\, Forlì\, Italia
CATEGORIES:OMCeO FC
END:VEVENT
BEGIN:VEVENT
DTSTART;TZID=Europe/Paris:20220924T083000
DTEND;TZID=Europe/Paris:20220924T130000
DTSTAMP:20260423T001828
CREATED:20220726T102555Z
LAST-MODIFIED:20220726T102555Z
UID:21052-1664008200-1664024400@www.ordinemedicifc.it
SUMMARY:OMCeO FC: Alimentazione e Salute: dal bambino all’adulto
DESCRIPTION:Programma \n  \nREGISTRAZIONE ONLINE OBBLIGATORIA ENTRO DUE GIORNI PRIMA \nCliccare qui per registrarsi come medico convenzionato SSN o dipendente AUSL \nCliccare qui per registrarsi come esterno (non convenzionato del SSN e non dipendente AUSL)
URL:https://www.ordinemedicifc.it/evento/omceo-fc-alimentazione-e-salute-dal-bambino-alladulto-2/
LOCATION:Sala Conferenze\, Viale Italia\, 153 - scala C - 1° piano\, Forlì\, Italia
CATEGORIES:OMCeO FC
END:VEVENT
BEGIN:VEVENT
DTSTART;VALUE=DATE:20220924
DTEND;VALUE=DATE:20220926
DTSTAMP:20260423T001828
CREATED:20220919T065647Z
LAST-MODIFIED:20220919T065647Z
UID:18294-1663981200-1664067599@www.ordinemedicifc.it
SUMMARY:OMCeO Ravenna:  LA RADIOPROTEZIONE DEL PAZIENTE SECONDO LE REGOLE PREVISTE DAL D.LGS 101/2020
DESCRIPTION:https://omceora.irideweb.it/events/3137d84b-1ba6-4abb-abe2-08da8f24685f
URL:https://www.ordinemedicifc.it/evento/omceo-ravenna-la-radioprotezione-del-paziente-secondo-le-regole-previste-dal-d-lgs-101-2020/
CATEGORIES:Altri eventi
END:VEVENT
BEGIN:VEVENT
DTSTART;VALUE=DATE:20220924
DTEND;VALUE=DATE:20220926
DTSTAMP:20260423T001828
CREATED:20220919T065647Z
LAST-MODIFIED:20220919T065647Z
UID:21056-1663981200-1664067599@www.ordinemedicifc.it
SUMMARY:OMCeO Ravenna:  LA RADIOPROTEZIONE DEL PAZIENTE SECONDO LE REGOLE PREVISTE DAL D.LGS 101/2020
DESCRIPTION:https://omceora.irideweb.it/events/3137d84b-1ba6-4abb-abe2-08da8f24685f
URL:https://www.ordinemedicifc.it/evento/omceo-ravenna-la-radioprotezione-del-paziente-secondo-le-regole-previste-dal-d-lgs-101-2020-2/
CATEGORIES:Altri eventi
END:VEVENT
BEGIN:VEVENT
DTSTART;TZID=Europe/Paris:20220911T210000
DTEND;TZID=Europe/Paris:20220911T210000
DTSTAMP:20260423T001828
CREATED:20220829T065943Z
LAST-MODIFIED:20220829T065943Z
UID:18167-1662930000-1662930000@www.ordinemedicifc.it
SUMMARY:Ventennale dell'Hospice Forlimpopoli e dell'Associazione Amici dell'Hospice Domenica 11 settembre alle 21
DESCRIPTION:Presso la Chiesa di San Giacomo\, P.zza Guido da Montefeltro\, 12  a Forlì in collaborazione con il Festival Buon  Vivere\, si svolgerà l’evento pubblico intitolato: “Le cure palliative. Una relazione umana”. \nParteciperanno Mons. Erio Castellucci\, arcivescovo di Modena-Nonantola\, il Prof. Augusto Caraceni\, primo Cattedratico italiano  di Medicina Palliativa  e la dott.ssa Monica Fantini\,  protagonista di un’esperienza sulla relazione di cura. Modera. il  Dott. Marco Maltoni\, Direttore della Unità Operativa Cure Palliative Romagna \nDurante la  serata verrà presentata anche la mostra fotografica  “La bellezza che cura”\, composta da una quarantina di fotografie di non professionisti\, che verranno esposte all’Oratorio San Sebastiano di Forlì dall’11 al 18 settembre. \nlocandina
URL:https://www.ordinemedicifc.it/evento/ventennale-dellhospice-forlimpopoli-e-dellassociazione-amici-dellhospice-domenica-11-settembre-alle-21/
CATEGORIES:Altri eventi
END:VEVENT
END:VCALENDAR