BEGIN:VCALENDAR
VERSION:2.0
PRODID:-//Ordine dei Medici Chirurghi e Odontoiatri di Forl&igrave;-Cesena - ECPv6.15.20//NONSGML v1.0//EN
CALSCALE:GREGORIAN
METHOD:PUBLISH
X-WR-CALNAME:Ordine dei Medici Chirurghi e Odontoiatri di Forl&igrave;-Cesena
X-ORIGINAL-URL:https://www.ordinemedicifc.it
X-WR-CALDESC:Eventi per Ordine dei Medici Chirurghi e Odontoiatri di Forl&igrave;-Cesena
REFRESH-INTERVAL;VALUE=DURATION:PT1H
X-Robots-Tag:noindex
X-PUBLISHED-TTL:PT1H
BEGIN:VTIMEZONE
TZID:Europe/Paris
BEGIN:DAYLIGHT
TZOFFSETFROM:+0100
TZOFFSETTO:+0200
TZNAME:CEST
DTSTART:20210328T010000
END:DAYLIGHT
BEGIN:STANDARD
TZOFFSETFROM:+0200
TZOFFSETTO:+0100
TZNAME:CET
DTSTART:20211031T010000
END:STANDARD
BEGIN:DAYLIGHT
TZOFFSETFROM:+0100
TZOFFSETTO:+0200
TZNAME:CEST
DTSTART:20220327T010000
END:DAYLIGHT
BEGIN:STANDARD
TZOFFSETFROM:+0200
TZOFFSETTO:+0100
TZNAME:CET
DTSTART:20221030T010000
END:STANDARD
BEGIN:DAYLIGHT
TZOFFSETFROM:+0100
TZOFFSETTO:+0200
TZNAME:CEST
DTSTART:20230326T010000
END:DAYLIGHT
BEGIN:STANDARD
TZOFFSETFROM:+0200
TZOFFSETTO:+0100
TZNAME:CET
DTSTART:20231029T010000
END:STANDARD
END:VTIMEZONE
BEGIN:VEVENT
DTSTART;VALUE=DATE:20220602
DTEND;VALUE=DATE:20220607
DTSTAMP:20260423T081620
CREATED:20220505T085355Z
LAST-MODIFIED:20220505T085355Z
UID:21041-1654131600-1654477199@www.ordinemedicifc.it
SUMMARY:1° Congresso internazionale sulla Sindrome di Beckwith-Wiedemann
DESCRIPTION:https://2022.aibws.org/
URL:https://www.ordinemedicifc.it/evento/1-congresso-internazionale-sulla-sindrome-di-beckwith-wiedemann-2/
CATEGORIES:Patrocini
END:VEVENT
BEGIN:VEVENT
DTSTART;VALUE=DATE:20220528
DTEND;VALUE=DATE:20220530
DTSTAMP:20260423T081620
CREATED:20220506T100648Z
LAST-MODIFIED:20220506T100750Z
UID:17603-1653699600-1653785999@www.ordinemedicifc.it
SUMMARY:Cesena: LA DIASTASI DEI RETTI UNA PATOLOGIA MISCONOSCIUTA
DESCRIPTION:LOCANDINA \nProgramma
URL:https://www.ordinemedicifc.it/evento/cesena-la-diastasi-dei-retti-una-patologia-misconosciuta/
CATEGORIES:Patrocini
END:VEVENT
BEGIN:VEVENT
DTSTART;VALUE=DATE:20220528
DTEND;VALUE=DATE:20220530
DTSTAMP:20260423T081620
CREATED:20220506T100648Z
LAST-MODIFIED:20220506T100648Z
UID:21042-1653699600-1653785999@www.ordinemedicifc.it
SUMMARY:Cesena: LA DIASTASI DEI RETTI UNA PATOLOGIA MISCONOSCIUTA
DESCRIPTION:LOCANDINA \nProgramma
URL:https://www.ordinemedicifc.it/evento/cesena-la-diastasi-dei-retti-una-patologia-misconosciuta-2/
CATEGORIES:Patrocini
END:VEVENT
BEGIN:VEVENT
DTSTART;TZID=Europe/Paris:20220526T203000
DTEND;TZID=Europe/Paris:20220526T233000
DTSTAMP:20260423T081620
CREATED:20220426T074018Z
LAST-MODIFIED:20220525T090234Z
UID:17492-1653597000-1653607800@www.ordinemedicifc.it
SUMMARY:OMCeO FC. Dolore cronico non oncologico e linee guida regionali
DESCRIPTION:programma \n  \nREGISTRAZIONE ONLINE OBBLIGATORIA ENTRO DUE GIORNI PRIMA \n  \nCliccare qui per registrarsi come medico convenzionato SSN o dipendente AUSL \nCliccare qui per registrarsi come esterno (non convenzionato del SSN e non dipendente AUSL)
URL:https://www.ordinemedicifc.it/evento/omceo-fc-dolore-cronico-non-oncologico-e-linee-guida-regionali/
LOCATION:Sala Conferenze\, Viale Italia\, 153 - scala C - 1° piano\, Forlì\, Italia
CATEGORIES:OMCeO FC
END:VEVENT
BEGIN:VEVENT
DTSTART;TZID=Europe/Paris:20220526T203000
DTEND;TZID=Europe/Paris:20220526T233000
DTSTAMP:20260423T081620
CREATED:20220426T074018Z
LAST-MODIFIED:20220426T074018Z
UID:21039-1653597000-1653607800@www.ordinemedicifc.it
SUMMARY:OMCeO FC. Dolore cronico non oncologico e linee guida regionali
DESCRIPTION:programma \n  \nREGISTRAZIONE ONLINE OBBLIGATORIA ENTRO DUE GIORNI PRIMA \n  \nCliccare qui per registrarsi come medico convenzionato SSN o dipendente AUSL \nCliccare qui per registrarsi come esterno (non convenzionato del SSN e non dipendente AUSL)
URL:https://www.ordinemedicifc.it/evento/omceo-fc-dolore-cronico-non-oncologico-e-linee-guida-regionali-2/
LOCATION:Sala Conferenze\, Viale Italia\, 153 - scala C - 1° piano\, Forlì\, Italia
CATEGORIES:OMCeO FC
END:VEVENT
BEGIN:VEVENT
DTSTART;VALUE=DATE:20220519
DTEND;VALUE=DATE:20220521
DTSTAMP:20260423T081620
CREATED:20220322T101449Z
LAST-MODIFIED:20220322T101449Z
UID:17269-1652922000-1653008399@www.ordinemedicifc.it
SUMMARY:Forlì: CHRONICITY: PATOLOGIA EPATICA CRONICA
DESCRIPTION:https://www.adbcongressi.it/evento_1045_adbcongressiedeventi \n 
URL:https://www.ordinemedicifc.it/evento/forli-chronicity-patologia-epatica-cronica/
CATEGORIES:Patrocini
END:VEVENT
BEGIN:VEVENT
DTSTART;VALUE=DATE:20220519
DTEND;VALUE=DATE:20220521
DTSTAMP:20260423T081620
CREATED:20220322T101449Z
LAST-MODIFIED:20220322T101449Z
UID:21029-1652922000-1653008399@www.ordinemedicifc.it
SUMMARY:Forlì: CHRONICITY: PATOLOGIA EPATICA CRONICA
DESCRIPTION:https://www.adbcongressi.it/evento_1045_adbcongressiedeventi \n 
URL:https://www.ordinemedicifc.it/evento/forli-chronicity-patologia-epatica-cronica-2/
CATEGORIES:Patrocini
END:VEVENT
BEGIN:VEVENT
DTSTART;TZID=Europe/Paris:20220514T090000
DTEND;TZID=Europe/Paris:20220514T130000
DTSTAMP:20260423T081620
CREATED:20220426T073645Z
LAST-MODIFIED:20220428T101501Z
UID:17489-1652518800-1652533200@www.ordinemedicifc.it
SUMMARY:OMCeO FC. La lezione del Covid:  spunti per un miglioramento del SSN
DESCRIPTION:Programma \n  \nREGISTRAZIONE ONLINE OBBLIGATORIA ENTRO IL GIORNO PRIMA \n  \nCliccare qui per registrarsi come medico convenzionato SSN o dipendente AUSL \nCliccare qui per registrarsi come esterno (non convenzionato del SSN e non dipendente AUSL) \n  \n  \n  \n 
URL:https://www.ordinemedicifc.it/evento/omceo-fc-la-lezione-del-covid-spunti-per-un-miglioramento-del-ssn/
LOCATION:Sala Conferenze\, Viale Italia\, 153 - scala C - 1° piano\, Forlì\, Italia
CATEGORIES:OMCeO FC
END:VEVENT
BEGIN:VEVENT
DTSTART;TZID=Europe/Paris:20220514T090000
DTEND;TZID=Europe/Paris:20220514T130000
DTSTAMP:20260423T081620
CREATED:20220426T073645Z
LAST-MODIFIED:20220426T073645Z
UID:21038-1652518800-1652533200@www.ordinemedicifc.it
SUMMARY:OMCeO FC. La lezione del Covid:  spunti per un miglioramento del SSN
DESCRIPTION:Programma \n  \nREGISTRAZIONE ONLINE OBBLIGATORIA ENTRO IL GIORNO PRIMA \n  \nCliccare qui per registrarsi come medico convenzionato SSN o dipendente AUSL \nCliccare qui per registrarsi come esterno (non convenzionato del SSN e non dipendente AUSL) \n  \n  \n  \n 
URL:https://www.ordinemedicifc.it/evento/omceo-fc-la-lezione-del-covid-spunti-per-un-miglioramento-del-ssn-2/
LOCATION:Sala Conferenze\, Viale Italia\, 153 - scala C - 1° piano\, Forlì\, Italia
CATEGORIES:OMCeO FC
END:VEVENT
BEGIN:VEVENT
DTSTART;VALUE=DATE:20220430
DTEND;VALUE=DATE:20220503
DTSTAMP:20260423T081620
CREATED:20220224T094313Z
LAST-MODIFIED:20220224T094313Z
UID:17099-1651280400-1651453199@www.ordinemedicifc.it
SUMMARY:Bologna: I CONGRESSO NAZIONALE SULLA DIAGNOSI E CURA DELLA SARCOIDOSI: le nuove linee guida
DESCRIPTION:I CONGRESSO NAZIONALE SULLA SARCOIDOSI – PROGRAMMA PRELIMINARE
URL:https://www.ordinemedicifc.it/evento/bologna-i-congresso-nazionale-sulla-diagnosi-e-cura-della-sarcoidosi-le-nuove-linee-guida/
CATEGORIES:Altri eventi
END:VEVENT
BEGIN:VEVENT
DTSTART;VALUE=DATE:20220430
DTEND;VALUE=DATE:20220503
DTSTAMP:20260423T081620
CREATED:20220224T094313Z
LAST-MODIFIED:20220224T094313Z
UID:21023-1651280400-1651453199@www.ordinemedicifc.it
SUMMARY:Bologna: I CONGRESSO NAZIONALE SULLA DIAGNOSI E CURA DELLA SARCOIDOSI: le nuove linee guida
DESCRIPTION:I CONGRESSO NAZIONALE SULLA SARCOIDOSI – PROGRAMMA PRELIMINARE
URL:https://www.ordinemedicifc.it/evento/bologna-i-congresso-nazionale-sulla-diagnosi-e-cura-della-sarcoidosi-le-nuove-linee-guida-2/
CATEGORIES:Altri eventi
END:VEVENT
BEGIN:VEVENT
DTSTART;VALUE=DATE:20220427
DTEND;VALUE=DATE:20220429
DTSTAMP:20260423T081620
CREATED:20220426T091707Z
LAST-MODIFIED:20220426T091707Z
UID:21040-1651021200-1651107599@www.ordinemedicifc.it
SUMMARY:Sipps ( Società italiana pediatria preventiva e sociale). Vacciniamo i bambini. webinar live
DESCRIPTION:
URL:https://www.ordinemedicifc.it/evento/sipps-societa-italiana-pediatria-preventiva-e-sociale-vacciniamo-i-bambini-webinar-live-2/
CATEGORIES:Altri eventi
END:VEVENT
BEGIN:VEVENT
DTSTART;VALUE=DATE:20220427
DTEND;VALUE=DATE:20220429
DTSTAMP:20260423T081620
CREATED:20220426T091707Z
LAST-MODIFIED:20220426T113615Z
UID:17503-1651021200-1651107599@www.ordinemedicifc.it
SUMMARY:Sipps ( Società italiana pediatria preventiva e sociale). Vacciniamo i bambini. webinar live
DESCRIPTION:
URL:https://www.ordinemedicifc.it/evento/sipps-societa-italiana-pediatria-preventiva-e-sociale-vacciniamo-i-bambini-webinar-live/
CATEGORIES:Altri eventi
END:VEVENT
BEGIN:VEVENT
DTSTART;TZID=Europe/Paris:20220421T203000
DTEND;TZID=Europe/Paris:20220421T233000
DTSTAMP:20260423T081620
CREATED:20220404T091040Z
LAST-MODIFIED:20220404T091040Z
UID:17379-1650573000-1650583800@www.ordinemedicifc.it
SUMMARY:OMCeO FC: ERNIE E DIFETTI DELLA PARETE ADDOMINALE: orientamenti di tecnica attuali
DESCRIPTION:Programma \n  \nREGISTRAZIONE ONLINE OBBLIGATORIA ENTRO IL GIORNO PRIMA \n  \nCliccare qui per registrarsi come medico convenzionato SSN o dipendente AUSL \nCliccare qui per registrarsi come esterno (non convenzionato del SSN e non dipendente AUSL)
URL:https://www.ordinemedicifc.it/evento/omceo-fc-ernie-e-difetti-della-parete-addominale-orientamenti-di-tecnica-attuali/
LOCATION:Sala Conferenze\, Viale Italia\, 153 - scala C - 1° piano\, Forlì\, Italia
CATEGORIES:OMCeO FC
END:VEVENT
BEGIN:VEVENT
DTSTART;TZID=Europe/Paris:20220421T203000
DTEND;TZID=Europe/Paris:20220421T233000
DTSTAMP:20260423T081620
CREATED:20220404T091040Z
LAST-MODIFIED:20220404T091040Z
UID:21036-1650573000-1650583800@www.ordinemedicifc.it
SUMMARY:OMCeO FC: ERNIE E DIFETTI DELLA PARETE ADDOMINALE: orientamenti di tecnica attuali
DESCRIPTION:Programma \n  \nREGISTRAZIONE ONLINE OBBLIGATORIA ENTRO IL GIORNO PRIMA \n  \nCliccare qui per registrarsi come medico convenzionato SSN o dipendente AUSL \nCliccare qui per registrarsi come esterno (non convenzionato del SSN e non dipendente AUSL)
URL:https://www.ordinemedicifc.it/evento/omceo-fc-ernie-e-difetti-della-parete-addominale-orientamenti-di-tecnica-attuali-2/
LOCATION:Sala Conferenze\, Viale Italia\, 153 - scala C - 1° piano\, Forlì\, Italia
CATEGORIES:OMCeO FC
END:VEVENT
BEGIN:VEVENT
DTSTART;VALUE=DATE:20220409
DTEND;VALUE=DATE:20220411
DTSTAMP:20260423T081620
CREATED:20220316T121612Z
LAST-MODIFIED:20220316T121612Z
UID:17242-1649466000-1649552399@www.ordinemedicifc.it
SUMMARY:Forlì: Diagnosi e terapia innovative dell' endometriosi in una sanita’ di alto profilo: presentazione dell'ambulatorio endometriosi dell'Ospedale Morgagni-Pierantoni
DESCRIPTION:https://www.apendometriosi.it/it/forli-9-aprile:-conferenza-pubblica-sull’endometriosi
URL:https://www.ordinemedicifc.it/evento/forli-diagnosi-e-terapia-innovative-dell-endometriosi-in-una-sanita-di-alto-profilo-presentazione-dellambulatorio-endometriosi-dellospedale-morgagni-pierantoni/
CATEGORIES:Altri eventi
END:VEVENT
BEGIN:VEVENT
DTSTART;VALUE=DATE:20220409
DTEND;VALUE=DATE:20220411
DTSTAMP:20260423T081620
CREATED:20220316T121612Z
LAST-MODIFIED:20220316T121612Z
UID:21027-1649466000-1649552399@www.ordinemedicifc.it
SUMMARY:Forlì: Diagnosi e terapia innovative dell' endometriosi in una sanita’ di alto profilo: presentazione dell'ambulatorio endometriosi dell'Ospedale Morgagni-Pierantoni
DESCRIPTION:https://www.apendometriosi.it/it/forli-9-aprile:-conferenza-pubblica-sull’endometriosi
URL:https://www.ordinemedicifc.it/evento/forli-diagnosi-e-terapia-innovative-dell-endometriosi-in-una-sanita-di-alto-profilo-presentazione-dellambulatorio-endometriosi-dellospedale-morgagni-pierantoni-2/
CATEGORIES:Altri eventi
END:VEVENT
BEGIN:VEVENT
DTSTART;TZID=Europe/Paris:20220407T203000
DTEND;TZID=Europe/Paris:20220407T233000
DTSTAMP:20260423T081620
CREATED:20220317T073400Z
LAST-MODIFIED:20220317T073400Z
UID:17244-1649363400-1649374200@www.ordinemedicifc.it
SUMMARY:OMCeO FC: La Nevralgia Trigeminale
DESCRIPTION:Programma  \n  \nREGISTRAZIONE ONLINE OBBLIGATORIA ENTRO IL GIORNO PRIMA \n  \nCliccare qui per registrarsi come medico convenzionato SSN o dipendente AUSL \nCliccare qui per registrarsi come esterno (non convenzionato del SSN e non dipendente AUSL)
URL:https://www.ordinemedicifc.it/evento/omceo-fc-la-nevralgia-trigeminale/
LOCATION:Sala Conferenze\, Viale Italia\, 153 - scala C - 1° piano\, Forlì\, Italia
CATEGORIES:OMCeO FC
END:VEVENT
BEGIN:VEVENT
DTSTART;TZID=Europe/Paris:20220407T203000
DTEND;TZID=Europe/Paris:20220407T233000
DTSTAMP:20260423T081620
CREATED:20220317T073400Z
LAST-MODIFIED:20220317T073400Z
UID:21028-1649363400-1649374200@www.ordinemedicifc.it
SUMMARY:OMCeO FC: La Nevralgia Trigeminale
DESCRIPTION:Programma  \n  \nREGISTRAZIONE ONLINE OBBLIGATORIA ENTRO IL GIORNO PRIMA \n  \nCliccare qui per registrarsi come medico convenzionato SSN o dipendente AUSL \nCliccare qui per registrarsi come esterno (non convenzionato del SSN e non dipendente AUSL)
URL:https://www.ordinemedicifc.it/evento/omceo-fc-la-nevralgia-trigeminale-2/
LOCATION:Sala Conferenze\, Viale Italia\, 153 - scala C - 1° piano\, Forlì\, Italia
CATEGORIES:OMCeO FC
END:VEVENT
BEGIN:VEVENT
DTSTART;VALUE=DATE:20220402
DTEND;VALUE=DATE:20220404
DTSTAMP:20260423T081620
CREATED:20220224T093713Z
LAST-MODIFIED:20220224T093713Z
UID:17095-1648861200-1648947599@www.ordinemedicifc.it
SUMMARY:Forlì: L'andrologia nell'era Covid
DESCRIPTION:https://www.comunicazioneventi.it/event/020422/ \n 
URL:https://www.ordinemedicifc.it/evento/forli-landrologia-nellera-covid/
CATEGORIES:Patrocini
END:VEVENT
BEGIN:VEVENT
DTSTART;VALUE=DATE:20220402
DTEND;VALUE=DATE:20220404
DTSTAMP:20260423T081620
CREATED:20220224T093713Z
LAST-MODIFIED:20220224T093713Z
UID:21021-1648861200-1648947599@www.ordinemedicifc.it
SUMMARY:Forlì: L'andrologia nell'era Covid
DESCRIPTION:https://www.comunicazioneventi.it/event/020422/ \n 
URL:https://www.ordinemedicifc.it/evento/forli-landrologia-nellera-covid-2/
CATEGORIES:Patrocini
END:VEVENT
BEGIN:VEVENT
DTSTART;VALUE=DATE:20220327
DTEND;VALUE=DATE:20220329
DTSTAMP:20260423T081620
CREATED:20220303T124201Z
LAST-MODIFIED:20220303T124201Z
UID:17169-1648342800-1648429199@www.ordinemedicifc.it
SUMMARY:Forlì: Musica e Danza "L'altro Flamenco". RICAVATO  DEVOLUTO AL PROGETTO "MUSICOTERAPIA IN PEDIATRIA"
DESCRIPTION:LOCANDINA EVENTO
URL:https://www.ordinemedicifc.it/evento/forli-musica-e-danza-laltro-flamenco-ricavato-devoluto-al-progetto-musicoterapia-in-pediatria/
CATEGORIES:Altri eventi
END:VEVENT
BEGIN:VEVENT
DTSTART;VALUE=DATE:20220327
DTEND;VALUE=DATE:20220329
DTSTAMP:20260423T081620
CREATED:20220303T124201Z
LAST-MODIFIED:20220303T124201Z
UID:21026-1648342800-1648429199@www.ordinemedicifc.it
SUMMARY:Forlì: Musica e Danza "L'altro Flamenco". RICAVATO  DEVOLUTO AL PROGETTO "MUSICOTERAPIA IN PEDIATRIA"
DESCRIPTION:LOCANDINA EVENTO
URL:https://www.ordinemedicifc.it/evento/forli-musica-e-danza-laltro-flamenco-ricavato-devoluto-al-progetto-musicoterapia-in-pediatria-2/
CATEGORIES:Altri eventi
END:VEVENT
BEGIN:VEVENT
DTSTART;TZID=Europe/Paris:20220324T203000
DTEND;TZID=Europe/Paris:20220324T233000
DTSTAMP:20260423T081620
CREATED:20220303T083307Z
LAST-MODIFIED:20220303T083307Z
UID:17160-1648153800-1648164600@www.ordinemedicifc.it
SUMMARY:COVID-19: fine di una pandemia
DESCRIPTION:Programma 24 marzo 2022 \n  \nREGISTRAZIONE ONLINE OBBLIGATORIA ENTRO IL GIORNO PRIMA \n  \nCliccare qui per registrarsi come medico convenzionato SSN o dipendente AUSL \nCliccare qui per registrarsi come esterno (non convenzionato del SSN e non dipendente AUSL)
URL:https://www.ordinemedicifc.it/evento/covid-19-fine-di-una-pandemia/
LOCATION:Sala Conferenze\, Viale Italia\, 153 - scala C - 1° piano\, Forlì\, Italia
CATEGORIES:OMCeO FC
END:VEVENT
BEGIN:VEVENT
DTSTART;TZID=Europe/Paris:20220324T203000
DTEND;TZID=Europe/Paris:20220324T233000
DTSTAMP:20260423T081620
CREATED:20220303T083307Z
LAST-MODIFIED:20220303T083307Z
UID:21025-1648153800-1648164600@www.ordinemedicifc.it
SUMMARY:COVID-19: fine di una pandemia
DESCRIPTION:Programma 24 marzo 2022 \n  \nREGISTRAZIONE ONLINE OBBLIGATORIA ENTRO IL GIORNO PRIMA \n  \nCliccare qui per registrarsi come medico convenzionato SSN o dipendente AUSL \nCliccare qui per registrarsi come esterno (non convenzionato del SSN e non dipendente AUSL)
URL:https://www.ordinemedicifc.it/evento/covid-19-fine-di-una-pandemia-2/
LOCATION:Sala Conferenze\, Viale Italia\, 153 - scala C - 1° piano\, Forlì\, Italia
CATEGORIES:OMCeO FC
END:VEVENT
BEGIN:VEVENT
DTSTART;VALUE=DATE:20220315
DTEND;VALUE=DATE:20220317
DTSTAMP:20260423T081620
CREATED:20220224T094100Z
LAST-MODIFIED:20220224T094100Z
UID:17097-1647306000-1647392399@www.ordinemedicifc.it
SUMMARY:Webinar: aggiornamento in materia di Covid-19 a cura del Prof. Roberto Burioni
DESCRIPTION:https://aggiornamenticovid19.eminerva.eu/
URL:https://www.ordinemedicifc.it/evento/webinar-aggiornamento-in-materia-di-covid-19-a-cura-del-prof-roberto-burioni/
CATEGORIES:Altri eventi
END:VEVENT
BEGIN:VEVENT
DTSTART;VALUE=DATE:20220315
DTEND;VALUE=DATE:20220317
DTSTAMP:20260423T081620
CREATED:20220224T094100Z
LAST-MODIFIED:20220224T094100Z
UID:21022-1647306000-1647392399@www.ordinemedicifc.it
SUMMARY:Webinar: aggiornamento in materia di Covid-19 a cura del Prof. Roberto Burioni
DESCRIPTION:https://aggiornamenticovid19.eminerva.eu/
URL:https://www.ordinemedicifc.it/evento/webinar-aggiornamento-in-materia-di-covid-19-a-cura-del-prof-roberto-burioni-2/
CATEGORIES:Altri eventi
END:VEVENT
BEGIN:VEVENT
DTSTART;TZID=Europe/Paris:20220310T203000
DTEND;TZID=Europe/Paris:20220310T233000
DTSTAMP:20260423T081620
CREATED:20220303T083125Z
LAST-MODIFIED:20220303T083125Z
UID:21024-1646944200-1646955000@www.ordinemedicifc.it
SUMMARY:AGGIORNAMENTI DIAGNOSTICI E TERAPEUTICI  IN MATERIA DI ENDOMETRIOSI OVARICA E PELVICA
DESCRIPTION:Programma 10 marzo 2022 \n  \nREGISTRAZIONE ONLINE OBBLIGATORIA ENTRO IL GIORNO PRIMA \n  \nCliccare qui per registrarsi come medico convenzionato SSN o dipendente AUSL \nCliccare qui per registrarsi come esterno (non convenzionato del SSN e non dipendente AUSL)
URL:https://www.ordinemedicifc.it/evento/aggiornamenti-diagnostici-e-terapeutici-in-materia-di-endometriosi-ovarica-e-pelvica-2/
LOCATION:Sala Conferenze\, Viale Italia\, 153 - scala C - 1° piano\, Forlì\, Italia
CATEGORIES:OMCeO FC
END:VEVENT
BEGIN:VEVENT
DTSTART;TZID=Europe/Paris:20220310T203000
DTEND;TZID=Europe/Paris:20220310T233000
DTSTAMP:20260423T081620
CREATED:20220303T083125Z
LAST-MODIFIED:20220303T083125Z
UID:17156-1646944200-1646955000@www.ordinemedicifc.it
SUMMARY:AGGIORNAMENTI DIAGNOSTICI E TERAPEUTICI  IN MATERIA DI ENDOMETRIOSI OVARICA E PELVICA
DESCRIPTION:Programma 10 marzo 2022 \n  \nREGISTRAZIONE ONLINE OBBLIGATORIA ENTRO IL GIORNO PRIMA \n  \nCliccare qui per registrarsi come medico convenzionato SSN o dipendente AUSL \nCliccare qui per registrarsi come esterno (non convenzionato del SSN e non dipendente AUSL)
URL:https://www.ordinemedicifc.it/evento/aggiornamenti-diagnostici-e-terapeutici-in-materia-di-endometriosi-ovarica-e-pelvica/
LOCATION:Sala Conferenze\, Viale Italia\, 153 - scala C - 1° piano\, Forlì\, Italia
CATEGORIES:OMCeO FC
END:VEVENT
BEGIN:VEVENT
DTSTART;TZID=Europe/Paris:20220224T203000
DTEND;TZID=Europe/Paris:20220224T233000
DTSTAMP:20260423T081620
CREATED:20220207T103316Z
LAST-MODIFIED:20220207T103609Z
UID:16949-1645734600-1645745400@www.ordinemedicifc.it
SUMMARY:OMCeO FC: UPDATE 2022 Cosa cambia nella gestione  della calcolosi renoureterale
DESCRIPTION:Programma \nREGISTRAZIONE ONLINE OBBLIGATORIA ENTRO IL GIORNO PRIMA \n  \nCliccare qui per registrarsi come medico convenzionato SSN o dipendente AUSL \nCliccare qui per registrarsi come esterno (non convenzionato del SSN e non dipendente AUSL) \n 
URL:https://www.ordinemedicifc.it/evento/omceo-fc-update-2022-cosa-cambia-nella-gestione-della-calcolosi-renoureterale/
LOCATION:Sala Conferenze\, Viale Italia\, 153 - scala C - 1° piano\, Forlì\, Italia
CATEGORIES:OMCeO FC
END:VEVENT
END:VCALENDAR