BEGIN:VCALENDAR
VERSION:2.0
PRODID:-//Ordine dei Medici Chirurghi e Odontoiatri di Forl&igrave;-Cesena - ECPv6.15.20//NONSGML v1.0//EN
CALSCALE:GREGORIAN
METHOD:PUBLISH
X-WR-CALNAME:Ordine dei Medici Chirurghi e Odontoiatri di Forl&igrave;-Cesena
X-ORIGINAL-URL:https://www.ordinemedicifc.it
X-WR-CALDESC:Eventi per Ordine dei Medici Chirurghi e Odontoiatri di Forl&igrave;-Cesena
REFRESH-INTERVAL;VALUE=DURATION:PT1H
X-Robots-Tag:noindex
X-PUBLISHED-TTL:PT1H
BEGIN:VTIMEZONE
TZID:Europe/Paris
BEGIN:DAYLIGHT
TZOFFSETFROM:+0100
TZOFFSETTO:+0200
TZNAME:CEST
DTSTART:20200329T010000
END:DAYLIGHT
BEGIN:STANDARD
TZOFFSETFROM:+0200
TZOFFSETTO:+0100
TZNAME:CET
DTSTART:20201025T010000
END:STANDARD
BEGIN:DAYLIGHT
TZOFFSETFROM:+0100
TZOFFSETTO:+0200
TZNAME:CEST
DTSTART:20210328T010000
END:DAYLIGHT
BEGIN:STANDARD
TZOFFSETFROM:+0200
TZOFFSETTO:+0100
TZNAME:CET
DTSTART:20211031T010000
END:STANDARD
BEGIN:DAYLIGHT
TZOFFSETFROM:+0100
TZOFFSETTO:+0200
TZNAME:CEST
DTSTART:20220327T010000
END:DAYLIGHT
BEGIN:STANDARD
TZOFFSETFROM:+0200
TZOFFSETTO:+0100
TZNAME:CET
DTSTART:20221030T010000
END:STANDARD
BEGIN:DAYLIGHT
TZOFFSETFROM:+0100
TZOFFSETTO:+0200
TZNAME:CEST
DTSTART:20230326T010000
END:DAYLIGHT
BEGIN:STANDARD
TZOFFSETFROM:+0200
TZOFFSETTO:+0100
TZNAME:CET
DTSTART:20231029T010000
END:STANDARD
END:VTIMEZONE
BEGIN:VEVENT
DTSTART;TZID=Europe/Paris:20220120T203000
DTEND;TZID=Europe/Paris:20220120T233000
DTSTAMP:20260423T140051
CREATED:20220111T100758Z
LAST-MODIFIED:20220111T100758Z
UID:16779-1642710600-1642721400@www.ordinemedicifc.it
SUMMARY:OMCeO FC: Malattie neuromuscolari in corso di infezione da SARS-COV-2
DESCRIPTION:Programma 20 01 2022 \nREGISTRAZIONE ONLINE ENTRO IL GIORNO PRIMA \nCliccare qui per registrarsi come medico convenzionato SSN o dipendente AUSL \nCliccare qui per registrarsi come esterno (non convenzionato del SSN e non dipendente AUSL)
URL:https://www.ordinemedicifc.it/evento/omceo-fc-malattie-neuromuscolari-in-corso-di-infezione-da-sars-cov-2/
LOCATION:Sala Conferenze\, Viale Italia\, 153 - scala C - 1° piano\, Forlì\, Italia
CATEGORIES:OMCeO FC
END:VEVENT
BEGIN:VEVENT
DTSTART;VALUE=DATE:20211218
DTEND;VALUE=DATE:20211220
DTSTAMP:20260423T140051
CREATED:20211213T120603Z
LAST-MODIFIED:20211213T120603Z
UID:16653-1639789200-1639875599@www.ordinemedicifc.it
SUMMARY:Ravenna: DISBIOSI DEL CAVO ORALE
DESCRIPTION:Volantino DEFINITIVO 2 Programma – CORSO ECM -DISBIOSI DEL CAVO ORALE – 2021
URL:https://www.ordinemedicifc.it/evento/ravenna-disbiosi-del-cavo-orale/
CATEGORIES:Altri eventi
END:VEVENT
BEGIN:VEVENT
DTSTART;VALUE=DATE:20211218
DTEND;VALUE=DATE:20211220
DTSTAMP:20260423T140051
CREATED:20211213T120603Z
LAST-MODIFIED:20211213T120603Z
UID:21015-1639789200-1639875599@www.ordinemedicifc.it
SUMMARY:Ravenna: DISBIOSI DEL CAVO ORALE
DESCRIPTION:Volantino DEFINITIVO 2 Programma – CORSO ECM -DISBIOSI DEL CAVO ORALE – 2021
URL:https://www.ordinemedicifc.it/evento/ravenna-disbiosi-del-cavo-orale-2/
CATEGORIES:Altri eventi
END:VEVENT
BEGIN:VEVENT
DTSTART;VALUE=DATE:20211216
DTEND;VALUE=DATE:20211219
DTSTAMP:20260423T140051
CREATED:20211123T074736Z
LAST-MODIFIED:20211125T141952Z
UID:16467-1639616400-1639789199@www.ordinemedicifc.it
SUMMARY:Forlì: PICTURES 1° MODULO BILIOPANCREATICO
DESCRIPTION:Programma
URL:https://www.ordinemedicifc.it/evento/forli-pictures-1-modulo-biliopancreatico/
CATEGORIES:Patrocini
END:VEVENT
BEGIN:VEVENT
DTSTART;VALUE=DATE:20211216
DTEND;VALUE=DATE:20211219
DTSTAMP:20260423T140051
CREATED:20211123T074736Z
LAST-MODIFIED:20211123T074736Z
UID:21012-1639616400-1639789199@www.ordinemedicifc.it
SUMMARY:Forlì: PICTURES 1° MODULO BILIOPANCREATICO
DESCRIPTION:Programma
URL:https://www.ordinemedicifc.it/evento/forli-pictures-1-modulo-biliopancreatico-2/
CATEGORIES:Patrocini
END:VEVENT
BEGIN:VEVENT
DTSTART;TZID=Europe/Paris:20211211T080000
DTEND;TZID=Europe/Paris:20211211T170000
DTSTAMP:20260423T140051
CREATED:20211108T092944Z
LAST-MODIFIED:20211108T092944Z
UID:16375-1639209600-1639242000@www.ordinemedicifc.it
SUMMARY:FAD: MEETING INTERATTIVO ECM Evento ibrido RES e FAD SINCRONA  OBESITY QUESTION TIME
DESCRIPTION:https://centro-formazione-obesita.it/
URL:https://www.ordinemedicifc.it/evento/fad-meeting-interattivo-ecm-evento-ibrido-res-e-fad-sincrona-obesity-question-time/
CATEGORIES:Altri eventi
END:VEVENT
BEGIN:VEVENT
DTSTART;TZID=Europe/Paris:20211211T080000
DTEND;TZID=Europe/Paris:20211211T170000
DTSTAMP:20260423T140051
CREATED:20211108T092944Z
LAST-MODIFIED:20211108T092944Z
UID:21010-1639209600-1639242000@www.ordinemedicifc.it
SUMMARY:FAD: MEETING INTERATTIVO ECM Evento ibrido RES e FAD SINCRONA  OBESITY QUESTION TIME
DESCRIPTION:https://centro-formazione-obesita.it/
URL:https://www.ordinemedicifc.it/evento/fad-meeting-interattivo-ecm-evento-ibrido-res-e-fad-sincrona-obesity-question-time-2/
CATEGORIES:Altri eventi
END:VEVENT
BEGIN:VEVENT
DTSTART;VALUE=DATE:20211211
DTEND;VALUE=DATE:20211213
DTSTAMP:20260423T140051
CREATED:20211202T170303Z
LAST-MODIFIED:20211202T170303Z
UID:16581-1639184400-1639270799@www.ordinemedicifc.it
SUMMARY:Ravenna: COVID E MEDICINA LEGALE
DESCRIPTION:https://omceora.irideweb.it/events/970f4bce-24ad-4f35-1c23-08d9b339e8fa
URL:https://www.ordinemedicifc.it/evento/ravenna-covid-e-medicina-legale/
CATEGORIES:Altri eventi
END:VEVENT
BEGIN:VEVENT
DTSTART;VALUE=DATE:20211211
DTEND;VALUE=DATE:20211213
DTSTAMP:20260423T140051
CREATED:20211202T170303Z
LAST-MODIFIED:20211202T170303Z
UID:21014-1639184400-1639270799@www.ordinemedicifc.it
SUMMARY:Ravenna: COVID E MEDICINA LEGALE
DESCRIPTION:https://omceora.irideweb.it/events/970f4bce-24ad-4f35-1c23-08d9b339e8fa
URL:https://www.ordinemedicifc.it/evento/ravenna-covid-e-medicina-legale-2/
CATEGORIES:Altri eventi
END:VEVENT
BEGIN:VEVENT
DTSTART;VALUE=DATE:20211120
DTEND;VALUE=DATE:20211122
DTSTAMP:20260423T140051
CREATED:20211108T092844Z
LAST-MODIFIED:20211108T092844Z
UID:16373-1637370000-1637456399@www.ordinemedicifc.it
SUMMARY:FAD: MEETING INTERATTIVO ECM Evento ibrido RES e FAD SINCRONA  La gestione dell’Obesità
DESCRIPTION:https://centro-formazione-obesita.it/
URL:https://www.ordinemedicifc.it/evento/fad-meeting-interattivo-ecm-evento-ibrido-res-e-fad-sincrona-la-gestione-dellobesita/
CATEGORIES:Altri eventi
END:VEVENT
BEGIN:VEVENT
DTSTART;VALUE=DATE:20211120
DTEND;VALUE=DATE:20211122
DTSTAMP:20260423T140051
CREATED:20211108T092844Z
LAST-MODIFIED:20211108T092844Z
UID:21009-1637370000-1637456399@www.ordinemedicifc.it
SUMMARY:FAD: MEETING INTERATTIVO ECM Evento ibrido RES e FAD SINCRONA  La gestione dell’Obesità
DESCRIPTION:https://centro-formazione-obesita.it/
URL:https://www.ordinemedicifc.it/evento/fad-meeting-interattivo-ecm-evento-ibrido-res-e-fad-sincrona-la-gestione-dellobesita-2/
CATEGORIES:Altri eventi
END:VEVENT
BEGIN:VEVENT
DTSTART;VALUE=DATE:20211120
DTEND;VALUE=DATE:20211122
DTSTAMP:20260423T140051
CREATED:20211025T094628Z
LAST-MODIFIED:20211025T094628Z
UID:21008-1637370000-1637456399@www.ordinemedicifc.it
SUMMARY:Forlimpopoli: DIGESTIONE
DESCRIPTION:programma DiGestione
URL:https://www.ordinemedicifc.it/evento/forlimpopoli-digestione-2/
CATEGORIES:Patrocini
END:VEVENT
BEGIN:VEVENT
DTSTART;VALUE=DATE:20211120
DTEND;VALUE=DATE:20211122
DTSTAMP:20260423T140051
CREATED:20211025T094628Z
LAST-MODIFIED:20211108T084218Z
UID:16280-1637370000-1637456399@www.ordinemedicifc.it
SUMMARY:Forlimpopoli: DIGESTIONE
DESCRIPTION:programma DiGestione
URL:https://www.ordinemedicifc.it/evento/forlimpopoli-digestione/
CATEGORIES:Patrocini
END:VEVENT
BEGIN:VEVENT
DTSTART;VALUE=DATE:20211115
DTEND;VALUE=DATE:20211117
DTSTAMP:20260423T140051
CREATED:20211111T153137Z
LAST-MODIFIED:20211111T153137Z
UID:16401-1636938000-1637024399@www.ordinemedicifc.it
SUMMARY:Salue e solidarietà. Organizzazione di volontariato. Convocazione assemblea 2021
DESCRIPTION:convocazione-assemblea-2021
URL:https://www.ordinemedicifc.it/evento/salue-e-solidarieta-organizzazione-di-volontariato-convocazione-assemblea-2021/
CATEGORIES:Altri eventi
END:VEVENT
BEGIN:VEVENT
DTSTART;VALUE=DATE:20211115
DTEND;VALUE=DATE:20211117
DTSTAMP:20260423T140051
CREATED:20211111T153137Z
LAST-MODIFIED:20211111T153137Z
UID:21011-1636938000-1637024399@www.ordinemedicifc.it
SUMMARY:Salue e solidarietà. Organizzazione di volontariato. Convocazione assemblea 2021
DESCRIPTION:convocazione-assemblea-2021
URL:https://www.ordinemedicifc.it/evento/salue-e-solidarieta-organizzazione-di-volontariato-convocazione-assemblea-2021-2/
CATEGORIES:Altri eventi
END:VEVENT
BEGIN:VEVENT
DTSTART;VALUE=DATE:20211105
DTEND;VALUE=DATE:20211108
DTSTAMP:20260423T140051
CREATED:20210920T075344Z
LAST-MODIFIED:20210929T083026Z
UID:15851-1636074000-1636246799@www.ordinemedicifc.it
SUMMARY:Milano Maritima: Uro-Oncology Challenge
DESCRIPTION:Continua
URL:https://www.ordinemedicifc.it/evento/milano-maritima-uro-oncology-challenge/
CATEGORIES:Patrocini
END:VEVENT
BEGIN:VEVENT
DTSTART;VALUE=DATE:20211105
DTEND;VALUE=DATE:20211108
DTSTAMP:20260423T140051
CREATED:20210920T075344Z
LAST-MODIFIED:20210920T075344Z
UID:21002-1636074000-1636246799@www.ordinemedicifc.it
SUMMARY:Milano Maritima: Uro-Oncology Challenge
DESCRIPTION:Continua
URL:https://www.ordinemedicifc.it/evento/milano-maritima-uro-oncology-challenge-2/
CATEGORIES:Patrocini
END:VEVENT
BEGIN:VEVENT
DTSTART;TZID=Europe/Paris:20211030T090000
DTEND;TZID=Europe/Paris:20211030T130000
DTSTAMP:20260423T140051
CREATED:20211005T130122Z
LAST-MODIFIED:20211005T130122Z
UID:21005-1635584400-1635598800@www.ordinemedicifc.it
SUMMARY:OMCeO FC: Enpam\, un anno di pandemia: cosa è stato fatto
DESCRIPTION:REGISTRAZIONE ONLINE ENTRO DUE GIORNI PRIMA \nCliccare qui per registrarsi come medico convenzionato SSN o dipendente AUSL \nCliccare qui per registrarsi come esterno (non convenzionato del SSN e non dipendente AUSL) \n  \nProgramma 30 ottobre 2021 enpam
URL:https://www.ordinemedicifc.it/evento/omceo-fc-enpam-un-anno-di-pandemia-cosa-e-stato-fatto-2/
LOCATION:Sala Conferenze\, Viale Italia\, 153 - scala C - 1° piano\, Forlì\, Italia
CATEGORIES:OMCeO FC
END:VEVENT
BEGIN:VEVENT
DTSTART;TZID=Europe/Paris:20211030T090000
DTEND;TZID=Europe/Paris:20211030T130000
DTSTAMP:20260423T140051
CREATED:20211005T130122Z
LAST-MODIFIED:20211005T130515Z
UID:16117-1635584400-1635598800@www.ordinemedicifc.it
SUMMARY:OMCeO FC: Enpam\, un anno di pandemia: cosa è stato fatto
DESCRIPTION:REGISTRAZIONE ONLINE ENTRO DUE GIORNI PRIMA \nCliccare qui per registrarsi come medico convenzionato SSN o dipendente AUSL \nCliccare qui per registrarsi come esterno (non convenzionato del SSN e non dipendente AUSL) \n  \nProgramma 30 ottobre 2021 enpam
URL:https://www.ordinemedicifc.it/evento/omceo-fc-enpam-un-anno-di-pandemia-cosa-e-stato-fatto/
LOCATION:Sala Conferenze\, Viale Italia\, 153 - scala C - 1° piano\, Forlì\, Italia
CATEGORIES:OMCeO FC
END:VEVENT
BEGIN:VEVENT
DTSTART;TZID=Europe/Paris:20211028T203000
DTEND;TZID=Europe/Paris:20211028T233000
DTSTAMP:20260423T140051
CREATED:20210907T093945Z
LAST-MODIFIED:20210907T093945Z
UID:20992-1635453000-1635463800@www.ordinemedicifc.it
SUMMARY:OMCeO FC: Endodonzia clinica dall’anatomia alla preparazione canalare con strumenti rotanti in Ni-Ti
DESCRIPTION:Programma \n  \nREGISTRAZIONE ONLINE ENTRO DUE GIORNI PRIMA \nCliccare qui per registrarsi come medico convenzionato SSN o dipendente AUSL \nCliccare qui per registrarsi come esterno (non convenzionato del SSN e non dipendente AUSL)
URL:https://www.ordinemedicifc.it/evento/omceo-fc-endodonzia-clinica-dallanatomia-alla-preparazione-canalare-con-strumenti-rotanti-in-ni-ti-2/
LOCATION:Sala Conferenze\, Viale Italia\, 153 - scala C - 1° piano\, Forlì\, Italia
CATEGORIES:OMCeO FC
END:VEVENT
BEGIN:VEVENT
DTSTART;TZID=Europe/Paris:20211028T203000
DTEND;TZID=Europe/Paris:20211028T233000
DTSTAMP:20260423T140051
CREATED:20210907T093945Z
LAST-MODIFIED:20210907T130446Z
UID:15705-1635453000-1635463800@www.ordinemedicifc.it
SUMMARY:OMCeO FC: Endodonzia clinica dall’anatomia alla preparazione canalare con strumenti rotanti in Ni-Ti
DESCRIPTION:Programma \n  \nREGISTRAZIONE ONLINE ENTRO DUE GIORNI PRIMA \nCliccare qui per registrarsi come medico convenzionato SSN o dipendente AUSL \nCliccare qui per registrarsi come esterno (non convenzionato del SSN e non dipendente AUSL)
URL:https://www.ordinemedicifc.it/evento/omceo-fc-endodonzia-clinica-dallanatomia-alla-preparazione-canalare-con-strumenti-rotanti-in-ni-ti/
LOCATION:Sala Conferenze\, Viale Italia\, 153 - scala C - 1° piano\, Forlì\, Italia
CATEGORIES:OMCeO FC
END:VEVENT
BEGIN:VEVENT
DTSTART;VALUE=DATE:20211028
DTEND;VALUE=DATE:20211030
DTSTAMP:20260423T140051
CREATED:20211014T084923Z
LAST-MODIFIED:20211014T085113Z
UID:16186-1635382800-1635469199@www.ordinemedicifc.it
SUMMARY:Online: La respirazione orale nel bambino
DESCRIPTION:la SIDO (Società Italiana di Ortodonzia)\, nell’ottica di favorire un approccio multidisciplinare\, così come da Raccomandazioni Ministeriali\, organizza un incontro sulla propria piattaforma Zoom nell’ambito dei SIDO Study Club Emilia-Romagna nella serata del 28 ottobre pv sul tema “La respirazione orale nel bambino” rivolto agli Ortodontisti\, ai Pediatri e agli Specialisti in Otorinolaringoiatria della Regione Emilia Romagna. \nL’argomento verrà sviluppato attraverso interventi del Prof. Claudio Vicini\, Specialista in Otorinolaringoiatria ed esperto di patologie del sonno\, e di Ortodontisti della nostra Società Scientifica\, con il coordinamento del Dott. Ivano Maltoni\, Specialista in Ortognatodonzia e Referente SIDO per la Regione Emilia-Romagna per gli anni 2021 e 2022.\nTale incontro si propone di offrire in maniera capillare le informazioni sull’argomento così da favorire un miglior coordinamento da parte del Pediatra sui riscontri diagnostici specialistici dell’Otorinolaringoiatra e dell’Ortodontista. \nCliccare qui per la registrazione \nLinee guida Min Salute
URL:https://www.ordinemedicifc.it/evento/online-la-respirazione-orale-nel-bambino/
CATEGORIES:Altri eventi
END:VEVENT
BEGIN:VEVENT
DTSTART;VALUE=DATE:20211028
DTEND;VALUE=DATE:20211030
DTSTAMP:20260423T140051
CREATED:20211014T084923Z
LAST-MODIFIED:20211014T084923Z
UID:21006-1635382800-1635469199@www.ordinemedicifc.it
SUMMARY:Online: La respirazione orale nel bambino
DESCRIPTION:la SIDO (Società Italiana di Ortodonzia)\, nell’ottica di favorire un approccio multidisciplinare\, così come da Raccomandazioni Ministeriali\, organizza un incontro sulla propria piattaforma Zoom nell’ambito dei SIDO Study Club Emilia-Romagna nella serata del 28 ottobre pv sul tema “La respirazione orale nel bambino” rivolto agli Ortodontisti\, ai Pediatri e agli Specialisti in Otorinolaringoiatria della Regione Emilia Romagna. \nL’argomento verrà sviluppato attraverso interventi del Prof. Claudio Vicini\, Specialista in Otorinolaringoiatria ed esperto di patologie del sonno\, e di Ortodontisti della nostra Società Scientifica\, con il coordinamento del Dott. Ivano Maltoni\, Specialista in Ortognatodonzia e Referente SIDO per la Regione Emilia-Romagna per gli anni 2021 e 2022.\nTale incontro si propone di offrire in maniera capillare le informazioni sull’argomento così da favorire un miglior coordinamento da parte del Pediatra sui riscontri diagnostici specialistici dell’Otorinolaringoiatra e dell’Ortodontista. \nCliccare qui per la registrazione \nLinee guida Min Salute
URL:https://www.ordinemedicifc.it/evento/online-la-respirazione-orale-nel-bambino-2/
CATEGORIES:Altri eventi
END:VEVENT
BEGIN:VEVENT
DTSTART;VALUE=DATE:20211023
DTEND;VALUE=DATE:20211025
DTSTAMP:20260423T140051
CREATED:20210922T105852Z
LAST-MODIFIED:20210922T105852Z
UID:15945-1634950800-1635037199@www.ordinemedicifc.it
SUMMARY:Forlì. Percorso formativo annuale in low dose medicine
DESCRIPTION:Continua
URL:https://www.ordinemedicifc.it/evento/forli-percorso-formativo-annuale-in-low-dose-medicine/
CATEGORIES:Patrocini
END:VEVENT
BEGIN:VEVENT
DTSTART;VALUE=DATE:20211023
DTEND;VALUE=DATE:20211025
DTSTAMP:20260423T140051
CREATED:20210922T105852Z
LAST-MODIFIED:20210922T105852Z
UID:21003-1634950800-1635037199@www.ordinemedicifc.it
SUMMARY:Forlì. Percorso formativo annuale in low dose medicine
DESCRIPTION:Continua
URL:https://www.ordinemedicifc.it/evento/forli-percorso-formativo-annuale-in-low-dose-medicine-2/
CATEGORIES:Patrocini
END:VEVENT
BEGIN:VEVENT
DTSTART;VALUE=DATE:20211023
DTEND;VALUE=DATE:20211025
DTSTAMP:20260423T140051
CREATED:20210913T080806Z
LAST-MODIFIED:20210924T092317Z
UID:15765-1634950800-1635037199@www.ordinemedicifc.it
SUMMARY:Forli'. CHRONICITY2021 PERCORSI E MODELLI DI CURA IN GASTROENTEROLOGIA. LA CRONICITA’ IN GASTROENTEROLOGIA
DESCRIPTION:programma definitivo
URL:https://www.ordinemedicifc.it/evento/forli-chronicity2021-percorsi-e-modelli-di-cura-in-gastroenterologia-la-cronicita-in-gastroenterologia/
CATEGORIES:Patrocini
END:VEVENT
BEGIN:VEVENT
DTSTART;VALUE=DATE:20211023
DTEND;VALUE=DATE:20211025
DTSTAMP:20260423T140051
CREATED:20210913T080806Z
LAST-MODIFIED:20210913T080806Z
UID:20999-1634950800-1635037199@www.ordinemedicifc.it
SUMMARY:Forli'. CHRONICITY2021 PERCORSI E MODELLI DI CURA IN GASTROENTEROLOGIA. LA CRONICITA’ IN GASTROENTEROLOGIA
DESCRIPTION:programma definitivo
URL:https://www.ordinemedicifc.it/evento/forli-chronicity2021-percorsi-e-modelli-di-cura-in-gastroenterologia-la-cronicita-in-gastroenterologia-2/
CATEGORIES:Patrocini
END:VEVENT
BEGIN:VEVENT
DTSTART;VALUE=DATE:20211022
DTEND;VALUE=DATE:20211024
DTSTAMP:20260423T140051
CREATED:20210914T092816Z
LAST-MODIFIED:20210929T083420Z
UID:15778-1634864400-1634950799@www.ordinemedicifc.it
SUMMARY:Forlì: SIPe 27o CORSO NAZIONALE
DESCRIPTION:Locandina SIPe-8 \ncontinua
URL:https://www.ordinemedicifc.it/evento/forli-sipe-27o-corso-nazionale/
CATEGORIES:Patrocini
END:VEVENT
BEGIN:VEVENT
DTSTART;VALUE=DATE:20211022
DTEND;VALUE=DATE:20211024
DTSTAMP:20260423T140051
CREATED:20210914T092816Z
LAST-MODIFIED:20210914T092816Z
UID:21001-1634864400-1634950799@www.ordinemedicifc.it
SUMMARY:Forlì: SIPe 27o CORSO NAZIONALE
DESCRIPTION:Locandina SIPe-8 \ncontinua
URL:https://www.ordinemedicifc.it/evento/forli-sipe-27o-corso-nazionale-2/
CATEGORIES:Patrocini
END:VEVENT
BEGIN:VEVENT
DTSTART;VALUE=DATE:20211020
DTEND;VALUE=DATE:20211022
DTSTAMP:20260423T140051
CREATED:20211020T062154Z
LAST-MODIFIED:20211020T062154Z
UID:16241-1634691600-1634777999@www.ordinemedicifc.it
SUMMARY:FAD: LA CHIRURGIA OFTALMOPLASTICA ATTRAVERSO CASI CLINICI E VIDEO CHIRURGICI
DESCRIPTION:Per iscrizioni: www.comunicazioneventi.it \nprogramma oftalmoplastica \n 
URL:https://www.ordinemedicifc.it/evento/fad-la-chirurgia-oftalmoplastica-attraverso-casi-clinici-e-video-chirurgici/
CATEGORIES:Patrocini
END:VEVENT
END:VCALENDAR