BEGIN:VCALENDAR
VERSION:2.0
PRODID:-//Ordine dei Medici Chirurghi e Odontoiatri di Forl&igrave;-Cesena - ECPv6.15.20//NONSGML v1.0//EN
CALSCALE:GREGORIAN
METHOD:PUBLISH
X-WR-CALNAME:Ordine dei Medici Chirurghi e Odontoiatri di Forl&igrave;-Cesena
X-ORIGINAL-URL:https://www.ordinemedicifc.it
X-WR-CALDESC:Eventi per Ordine dei Medici Chirurghi e Odontoiatri di Forl&igrave;-Cesena
REFRESH-INTERVAL;VALUE=DURATION:PT1H
X-Robots-Tag:noindex
X-PUBLISHED-TTL:PT1H
BEGIN:VTIMEZONE
TZID:Europe/Paris
BEGIN:DAYLIGHT
TZOFFSETFROM:+0100
TZOFFSETTO:+0200
TZNAME:CEST
DTSTART:20200329T010000
END:DAYLIGHT
BEGIN:STANDARD
TZOFFSETFROM:+0200
TZOFFSETTO:+0100
TZNAME:CET
DTSTART:20201025T010000
END:STANDARD
BEGIN:DAYLIGHT
TZOFFSETFROM:+0100
TZOFFSETTO:+0200
TZNAME:CEST
DTSTART:20210328T010000
END:DAYLIGHT
BEGIN:STANDARD
TZOFFSETFROM:+0200
TZOFFSETTO:+0100
TZNAME:CET
DTSTART:20211031T010000
END:STANDARD
BEGIN:DAYLIGHT
TZOFFSETFROM:+0100
TZOFFSETTO:+0200
TZNAME:CEST
DTSTART:20220327T010000
END:DAYLIGHT
BEGIN:STANDARD
TZOFFSETFROM:+0200
TZOFFSETTO:+0100
TZNAME:CET
DTSTART:20221030T010000
END:STANDARD
END:VTIMEZONE
BEGIN:VEVENT
DTSTART;VALUE=DATE:20211003
DTEND;VALUE=DATE:20211005
DTSTAMP:20260423T194917
CREATED:20210906T080458Z
LAST-MODIFIED:20210906T080458Z
UID:20991-1633222800-1633309199@www.ordinemedicifc.it
SUMMARY:CELEBRAZIONE 20 ANNI ATTIVITA’  HOSPICE SAVIGNANO SUL RUBICONE
DESCRIPTION:Locandina_hospice 20 anni \n03.10 Ciclopedalata di solidarietà \nCamminata solidale 3 Ottobre 2021
URL:https://www.ordinemedicifc.it/evento/celebrazione-20-anni-attivita-hospice-savignano-sul-rubicone-2/
CATEGORIES:Patrocini
END:VEVENT
BEGIN:VEVENT
DTSTART;VALUE=DATE:20211001
DTEND;VALUE=DATE:20211003
DTSTAMP:20260423T194917
CREATED:20210914T091738Z
LAST-MODIFIED:20210929T083229Z
UID:15776-1633050000-1633136399@www.ordinemedicifc.it
SUMMARY:LA GESTIONE DEL PAZIENTE GLAUCOMATOSO: DALLA DIAGNOSI ALLA TERAPIA CHIRURGICA
DESCRIPTION:PROGRAMMA 1 ottobre \nContinua 
URL:https://www.ordinemedicifc.it/evento/la-gestione-del-paziente-glaucomatoso-dalla-diagnosi-alla-terapia-chirurgica/
CATEGORIES:Patrocini
END:VEVENT
BEGIN:VEVENT
DTSTART;VALUE=DATE:20211001
DTEND;VALUE=DATE:20211003
DTSTAMP:20260423T194917
CREATED:20210914T091738Z
LAST-MODIFIED:20210914T091738Z
UID:21000-1633050000-1633136399@www.ordinemedicifc.it
SUMMARY:LA GESTIONE DEL PAZIENTE GLAUCOMATOSO: DALLA DIAGNOSI ALLA TERAPIA CHIRURGICA
DESCRIPTION:PROGRAMMA 1 ottobre \nContinua 
URL:https://www.ordinemedicifc.it/evento/la-gestione-del-paziente-glaucomatoso-dalla-diagnosi-alla-terapia-chirurgica-3/
CATEGORIES:Patrocini
END:VEVENT
BEGIN:VEVENT
DTSTART;VALUE=DATE:20210930
DTEND;VALUE=DATE:20211002
DTSTAMP:20260423T194917
CREATED:20210913T080626Z
LAST-MODIFIED:20210924T092510Z
UID:15760-1632963600-1633049999@www.ordinemedicifc.it
SUMMARY:Forli'. CHRONICITY2021 PERCORSI E MODELLI DI CURA IN GASTROENTEROLOGIA. MALATTIE EPATO-BILIO-PANCREATICHE
DESCRIPTION:programma definitivo
URL:https://www.ordinemedicifc.it/evento/forli-chronicity2021-percorsi-e-modelli-di-cura-in-gastroenterologia-malattie-epato-bilio-pancreatiche/
CATEGORIES:Patrocini
END:VEVENT
BEGIN:VEVENT
DTSTART;VALUE=DATE:20210930
DTEND;VALUE=DATE:20211002
DTSTAMP:20260423T194917
CREATED:20210913T080626Z
LAST-MODIFIED:20210913T080626Z
UID:20997-1632963600-1633049999@www.ordinemedicifc.it
SUMMARY:Forli'. CHRONICITY2021 PERCORSI E MODELLI DI CURA IN GASTROENTEROLOGIA. MALATTIE EPATO-BILIO-PANCREATICHE
DESCRIPTION:programma definitivo
URL:https://www.ordinemedicifc.it/evento/forli-chronicity2021-percorsi-e-modelli-di-cura-in-gastroenterologia-malattie-epato-bilio-pancreatiche-2/
CATEGORIES:Patrocini
END:VEVENT
BEGIN:VEVENT
DTSTART;VALUE=DATE:20210929
DTEND;VALUE=DATE:20211001
DTSTAMP:20260423T194917
CREATED:20210301T085909Z
LAST-MODIFIED:20210907T130540Z
UID:14227-1632877200-1632963599@www.ordinemedicifc.it
SUMMARY:NEUROLOGIA E COVID-19
DESCRIPTION:La Segreteria scientifica  fa capo a   dr.ssa Roberta Bedin a cui   vi chiedo di inviare  la richiesta di registrazione per accedere alla piattaforma . Indirizzo e-mail in calce  alla locandina. La piattaforma che utilizzeremo sara’ Zoom e riceverete il link  il giorno precedente  gli incontri a cui vi sarete registrati.\n\nI crediti ECM  sono  dedicati a  Medici e Biologi \, ma  purtroppo saranno attribuiti solo  ai primi  20 iscritti  poiche’ trattasi di formazione sul campo.\nLocandina
URL:https://www.ordinemedicifc.it/evento/neurologia-e-covid-19-8/
CATEGORIES:Altri eventi
END:VEVENT
BEGIN:VEVENT
DTSTART;VALUE=DATE:20210929
DTEND;VALUE=DATE:20211001
DTSTAMP:20260423T194917
CREATED:20210301T085909Z
LAST-MODIFIED:20210301T085909Z
UID:20984-1632877200-1632963599@www.ordinemedicifc.it
SUMMARY:NEUROLOGIA E COVID-19
DESCRIPTION:La Segreteria scientifica  fa capo a   dr.ssa Roberta Bedin a cui   vi chiedo di inviare  la richiesta di registrazione per accedere alla piattaforma . Indirizzo e-mail in calce  alla locandina. La piattaforma che utilizzeremo sara’ Zoom e riceverete il link  il giorno precedente  gli incontri a cui vi sarete registrati.\n\nI crediti ECM  sono  dedicati a  Medici e Biologi \, ma  purtroppo saranno attribuiti solo  ai primi  20 iscritti  poiche’ trattasi di formazione sul campo.\nLocandina
URL:https://www.ordinemedicifc.it/evento/neurologia-e-covid-19-8-2/
CATEGORIES:Altri eventi
END:VEVENT
BEGIN:VEVENT
DTSTART;TZID=Europe/Paris:20210925T084500
DTEND;TZID=Europe/Paris:20210925T133000
DTSTAMP:20260423T194917
CREATED:20210819T141721Z
LAST-MODIFIED:20210826T133308Z
UID:15584-1632559500-1632576600@www.ordinemedicifc.it
SUMMARY:Ordini Medici Chirurgi e Odontoiatri della Romagna: SARS-CoV-2 e Genere
DESCRIPTION:Sala Energia\, Centro Congressi SGR Rimini – Via Chiabrera 34 \nLocandina \n  \nLa partecipazione al corso è gratuita e sono stati riconosciuti 4 crediti ECM ministeriali. \nPer accedere alla sede congressuale occorrerà essere in possesso del Green pass. \n  \nPer iscrizione ai fini dell’ottenimento dei crediti degli ECM inviare email a info@ordinemedicifc.it con i seguenti dati: \nCognome e Nome \nProfessione: medico chirurgo o odontoiatra \nIndicare la qualifica Libero professionista\, Dipendente\, Convenzionato\, Privo di occupazione \nDisciplina svolta indicando quale delle seguenti: \n\n\n\nDisciplina\nProfessione\n\n\nAllergologia ed immunologia clinica\nMedico chirurgo\n\n\nAngiologia\nMedico chirurgo\n\n\nCardiologia\nMedico chirurgo\n\n\nDermatologia e venereologia\nMedico chirurgo\n\n\nEmatologia\nMedico chirurgo\n\n\nEndocrinologia\nMedico chirurgo\n\n\nGastroenterologia\nMedico chirurgo\n\n\nGenetica medica\nMedico chirurgo\n\n\nGeriatria\nMedico chirurgo\n\n\nMalattie metaboliche e diabetologia\nMedico chirurgo\n\n\nMalattie dell’apparato respiratorio\nMedico chirurgo\n\n\nMalattie infettive\nMedico chirurgo\n\n\nMedicina e chirurgia di accettazione e di urgenza\nMedico chirurgo\n\n\nMedicina fisica e riabilitazione\nMedico chirurgo\n\n\nMedicina interna\nMedico chirurgo\n\n\nMedicina termale\nMedico chirurgo\n\n\nMedicina aeronautica e spaziale\nMedico chirurgo\n\n\nMedicina dello sport\nMedico chirurgo\n\n\nNefrologia\nMedico chirurgo\n\n\nNeonatologia\nMedico chirurgo\n\n\nNeurologia\nMedico chirurgo\n\n\nNeuropsichiatria infantile\nMedico chirurgo\n\n\nOncologia\nMedico chirurgo\n\n\nPediatria\nMedico chirurgo\n\n\nPsichiatria\nMedico chirurgo\n\n\nRadioterapia\nMedico chirurgo\n\n\nReumatologia\nMedico chirurgo\n\n\nCardiochirurgia\nMedico chirurgo\n\n\nChirurgia generale\nMedico chirurgo\n\n\nChirurgia maxillo-facciale\nMedico chirurgo\n\n\nChirurgia pediatrica\nMedico chirurgo\n\n\nChirurgia plastica e ricostruttiva\nMedico chirurgo\n\n\nChirurgia toracica\nMedico chirurgo\n\n\nChirurgia vascolare\nMedico chirurgo\n\n\nGinecologia e ostetricia\nMedico chirurgo\n\n\nNeurochirurgia\nMedico chirurgo\n\n\nOftalmologia\nMedico chirurgo\n\n\nOrtopedia e traumatologia\nMedico chirurgo\n\n\nOtorinolaringoiatria\nMedico chirurgo\n\n\nUrologia\nMedico chirurgo\n\n\nAnatomia patologica\nMedico chirurgo\n\n\nAnestesia e rianimazione\nMedico chirurgo\n\n\nBiochimica clinica\nMedico chirurgo\n\n\nFarmacologia e tossicologia clinica\nMedico chirurgo\n\n\nLaboratorio di genetica medica\nMedico chirurgo\n\n\nMedicina trasfusionale\nMedico chirurgo\n\n\nMedicina legale\nMedico chirurgo\n\n\nMedicina nucleare\nMedico chirurgo\n\n\nMicrobiologia e virologia\nMedico chirurgo\n\n\nNeurofisiopatologia\nMedico chirurgo\n\n\nNeuroradiologia\nMedico chirurgo\n\n\nPatologia clinica (laboratorio di analisi chimico-cliniche e microbiologia)\nMedico chirurgo\n\n\nRadiodiagnostica\nMedico chirurgo\n\n\nIgiene\, epidemiologia e sanità pubblica\nMedico chirurgo\n\n\nIgiene degli alimenti e della nutrizione\nMedico chirurgo\n\n\nMedicina del lavoro e sicurezza degli ambienti di lavoro\nMedico chirurgo\n\n\nMedicina generale (medici di famiglia)\nMedico chirurgo\n\n\nContinuità assistenziale\nMedico chirurgo\n\n\nPediatria (pediatri di libera scelta)\nMedico chirurgo\n\n\nScienza dell’alimentazione e dietetica\nMedico chirurgo\n\n\nDirezione medica di presidio ospedaliero\nMedico chirurgo\n\n\nOrganizzazione dei servizi sanitari di base\nMedico chirurgo\n\n\nAudiologia e foniatria\nMedico chirurgo\n\n\nPsicoterapia\nMedico chirurgo\n\n\nPrivo di specializzazione\nMedico chirurgo\n\n\nCure palliative\nMedico chirurgo\n\n\nEpidemiologia\nMedico chirurgo\n\n\nMedicina di comunità\nMedico chirurgo\n\n\nMedicina subacquea e iperbarica\nMedico chirurgo\n\n\n\n  \n 
URL:https://www.ordinemedicifc.it/evento/ordini-medici-chirurgi-e-odontoiatri-della-romagna-sars-cov-2-e-genere/
CATEGORIES:OMCeO FC
END:VEVENT
BEGIN:VEVENT
DTSTART;TZID=Europe/Paris:20210925T084500
DTEND;TZID=Europe/Paris:20210925T133000
DTSTAMP:20260423T194917
CREATED:20210819T141721Z
LAST-MODIFIED:20210819T141721Z
UID:20988-1632559500-1632576600@www.ordinemedicifc.it
SUMMARY:Ordini Medici Chirurgi e Odontoiatri della Romagna: SARS-CoV-2 e Genere
DESCRIPTION:Sala Energia\, Centro Congressi SGR Rimini – Via Chiabrera 34 \nLocandina \n  \nLa partecipazione al corso è gratuita e sono stati riconosciuti 4 crediti ECM ministeriali. \nPer accedere alla sede congressuale occorrerà essere in possesso del Green pass. \n  \nPer iscrizione ai fini dell’ottenimento dei crediti degli ECM inviare email a info@ordinemedicifc.it con i seguenti dati: \nCognome e Nome \nProfessione: medico chirurgo o odontoiatra \nIndicare la qualifica Libero professionista\, Dipendente\, Convenzionato\, Privo di occupazione \nDisciplina svolta indicando quale delle seguenti: \n\n\n\nDisciplina\nProfessione\n\n\nAllergologia ed immunologia clinica\nMedico chirurgo\n\n\nAngiologia\nMedico chirurgo\n\n\nCardiologia\nMedico chirurgo\n\n\nDermatologia e venereologia\nMedico chirurgo\n\n\nEmatologia\nMedico chirurgo\n\n\nEndocrinologia\nMedico chirurgo\n\n\nGastroenterologia\nMedico chirurgo\n\n\nGenetica medica\nMedico chirurgo\n\n\nGeriatria\nMedico chirurgo\n\n\nMalattie metaboliche e diabetologia\nMedico chirurgo\n\n\nMalattie dell’apparato respiratorio\nMedico chirurgo\n\n\nMalattie infettive\nMedico chirurgo\n\n\nMedicina e chirurgia di accettazione e di urgenza\nMedico chirurgo\n\n\nMedicina fisica e riabilitazione\nMedico chirurgo\n\n\nMedicina interna\nMedico chirurgo\n\n\nMedicina termale\nMedico chirurgo\n\n\nMedicina aeronautica e spaziale\nMedico chirurgo\n\n\nMedicina dello sport\nMedico chirurgo\n\n\nNefrologia\nMedico chirurgo\n\n\nNeonatologia\nMedico chirurgo\n\n\nNeurologia\nMedico chirurgo\n\n\nNeuropsichiatria infantile\nMedico chirurgo\n\n\nOncologia\nMedico chirurgo\n\n\nPediatria\nMedico chirurgo\n\n\nPsichiatria\nMedico chirurgo\n\n\nRadioterapia\nMedico chirurgo\n\n\nReumatologia\nMedico chirurgo\n\n\nCardiochirurgia\nMedico chirurgo\n\n\nChirurgia generale\nMedico chirurgo\n\n\nChirurgia maxillo-facciale\nMedico chirurgo\n\n\nChirurgia pediatrica\nMedico chirurgo\n\n\nChirurgia plastica e ricostruttiva\nMedico chirurgo\n\n\nChirurgia toracica\nMedico chirurgo\n\n\nChirurgia vascolare\nMedico chirurgo\n\n\nGinecologia e ostetricia\nMedico chirurgo\n\n\nNeurochirurgia\nMedico chirurgo\n\n\nOftalmologia\nMedico chirurgo\n\n\nOrtopedia e traumatologia\nMedico chirurgo\n\n\nOtorinolaringoiatria\nMedico chirurgo\n\n\nUrologia\nMedico chirurgo\n\n\nAnatomia patologica\nMedico chirurgo\n\n\nAnestesia e rianimazione\nMedico chirurgo\n\n\nBiochimica clinica\nMedico chirurgo\n\n\nFarmacologia e tossicologia clinica\nMedico chirurgo\n\n\nLaboratorio di genetica medica\nMedico chirurgo\n\n\nMedicina trasfusionale\nMedico chirurgo\n\n\nMedicina legale\nMedico chirurgo\n\n\nMedicina nucleare\nMedico chirurgo\n\n\nMicrobiologia e virologia\nMedico chirurgo\n\n\nNeurofisiopatologia\nMedico chirurgo\n\n\nNeuroradiologia\nMedico chirurgo\n\n\nPatologia clinica (laboratorio di analisi chimico-cliniche e microbiologia)\nMedico chirurgo\n\n\nRadiodiagnostica\nMedico chirurgo\n\n\nIgiene\, epidemiologia e sanità pubblica\nMedico chirurgo\n\n\nIgiene degli alimenti e della nutrizione\nMedico chirurgo\n\n\nMedicina del lavoro e sicurezza degli ambienti di lavoro\nMedico chirurgo\n\n\nMedicina generale (medici di famiglia)\nMedico chirurgo\n\n\nContinuità assistenziale\nMedico chirurgo\n\n\nPediatria (pediatri di libera scelta)\nMedico chirurgo\n\n\nScienza dell’alimentazione e dietetica\nMedico chirurgo\n\n\nDirezione medica di presidio ospedaliero\nMedico chirurgo\n\n\nOrganizzazione dei servizi sanitari di base\nMedico chirurgo\n\n\nAudiologia e foniatria\nMedico chirurgo\n\n\nPsicoterapia\nMedico chirurgo\n\n\nPrivo di specializzazione\nMedico chirurgo\n\n\nCure palliative\nMedico chirurgo\n\n\nEpidemiologia\nMedico chirurgo\n\n\nMedicina di comunità\nMedico chirurgo\n\n\nMedicina subacquea e iperbarica\nMedico chirurgo\n\n\n\n  \n 
URL:https://www.ordinemedicifc.it/evento/ordini-medici-chirurgi-e-odontoiatri-della-romagna-sars-cov-2-e-genere-2/
CATEGORIES:OMCeO FC
END:VEVENT
BEGIN:VEVENT
DTSTART;VALUE=DATE:20210919
DTEND;VALUE=DATE:20210921
DTSTAMP:20260423T194917
CREATED:20210907T163426Z
LAST-MODIFIED:20210907T163426Z
UID:15728-1632013200-1632099599@www.ordinemedicifc.it
SUMMARY:Forlì: ESSERE MADRE OGGI
DESCRIPTION:
URL:https://www.ordinemedicifc.it/evento/forli-essere-madre-oggi/
CATEGORIES:Altri eventi
END:VEVENT
BEGIN:VEVENT
DTSTART;VALUE=DATE:20210919
DTEND;VALUE=DATE:20210921
DTSTAMP:20260423T194917
CREATED:20210907T163426Z
LAST-MODIFIED:20210907T163426Z
UID:20996-1632013200-1632099599@www.ordinemedicifc.it
SUMMARY:Forlì: ESSERE MADRE OGGI
DESCRIPTION:
URL:https://www.ordinemedicifc.it/evento/forli-essere-madre-oggi-2/
CATEGORIES:Altri eventi
END:VEVENT
BEGIN:VEVENT
DTSTART;VALUE=DATE:20210918
DTEND;VALUE=DATE:20210920
DTSTAMP:20260423T194917
CREATED:20210907T163314Z
LAST-MODIFIED:20210907T163314Z
UID:20995-1631926800-1632013199@www.ordinemedicifc.it
SUMMARY:Forlì: QUELLO CHE POSSIAMO IMPARARE IN AFRICA. LA SALUTE COME BENE COMUNE
DESCRIPTION:
URL:https://www.ordinemedicifc.it/evento/forli-quello-che-possiamo-imparare-in-africa-la-salute-come-bene-comune-2/
CATEGORIES:Altri eventi
END:VEVENT
BEGIN:VEVENT
DTSTART;VALUE=DATE:20210918
DTEND;VALUE=DATE:20210920
DTSTAMP:20260423T194917
CREATED:20210907T163314Z
LAST-MODIFIED:20210907T163314Z
UID:15725-1631926800-1632013199@www.ordinemedicifc.it
SUMMARY:Forlì: QUELLO CHE POSSIAMO IMPARARE IN AFRICA. LA SALUTE COME BENE COMUNE
DESCRIPTION:
URL:https://www.ordinemedicifc.it/evento/forli-quello-che-possiamo-imparare-in-africa-la-salute-come-bene-comune/
CATEGORIES:Altri eventi
END:VEVENT
BEGIN:VEVENT
DTSTART;TZID=Europe/Paris:20210916T203000
DTEND;TZID=Europe/Paris:20210916T233000
DTSTAMP:20260423T194917
CREATED:20210726T070007Z
LAST-MODIFIED:20210726T070007Z
UID:20987-1631824200-1631835000@www.ordinemedicifc.it
SUMMARY:OMCeO FC: LA SINCOPE: DALLE LINEE GUIDA EUROPEE ALLA PRATICA CLINICA
DESCRIPTION:Programma \nREGISTRZIONE ONLINE ENTRO IL GIORNO PRIMA \nCliccare qui per registrarsi come medico convenzionato SSN o dipendente AUSL \nCliccare qui per registrarsi come esterno (non convenzionato del SSN e non dipendente AUSL)
URL:https://www.ordinemedicifc.it/evento/la-sincope-dalle-linee-guida-europee-alla-pratica-clinica-2/
LOCATION:Sala Conferenze\, Viale Italia\, 153 - scala C - 1° piano\, Forlì\, Italia
CATEGORIES:OMCeO FC
END:VEVENT
BEGIN:VEVENT
DTSTART;TZID=Europe/Paris:20210916T203000
DTEND;TZID=Europe/Paris:20210916T233000
DTSTAMP:20260423T194917
CREATED:20210726T070007Z
LAST-MODIFIED:20210825T070845Z
UID:15456-1631824200-1631835000@www.ordinemedicifc.it
SUMMARY:OMCeO FC: LA SINCOPE: DALLE LINEE GUIDA EUROPEE ALLA PRATICA CLINICA
DESCRIPTION:Programma \nREGISTRZIONE ONLINE ENTRO IL GIORNO PRIMA \nCliccare qui per registrarsi come medico convenzionato SSN o dipendente AUSL \nCliccare qui per registrarsi come esterno (non convenzionato del SSN e non dipendente AUSL)
URL:https://www.ordinemedicifc.it/evento/la-sincope-dalle-linee-guida-europee-alla-pratica-clinica/
LOCATION:Sala Conferenze\, Viale Italia\, 153 - scala C - 1° piano\, Forlì\, Italia
CATEGORIES:OMCeO FC
END:VEVENT
BEGIN:VEVENT
DTSTART;VALUE=DATE:20210914
DTEND;VALUE=DATE:20210916
DTSTAMP:20260423T194917
CREATED:20210907T130705Z
LAST-MODIFIED:20210907T130705Z
UID:15721-1631581200-1631667599@www.ordinemedicifc.it
SUMMARY:NEUROLOGIA E COVID-19
DESCRIPTION:La Segreteria scientifica  fa capo a   dr.ssa Roberta Bedin a cui   vi chiedo di inviare  la richiesta di registrazione per accedere alla piattaforma . Indirizzo e-mail in calce  alla locandina. La piattaforma che utilizzeremo sara’ Zoom e riceverete il link  il giorno precedente  gli incontri a cui vi sarete registrati.\n\nI crediti ECM  sono  dedicati a  Medici e Biologi \, ma  purtroppo saranno attribuiti solo  ai primi  20 iscritti  poiche’ trattasi di formazione sul campo.\nLocandina
URL:https://www.ordinemedicifc.it/evento/neurologia-e-covid-19-9/
CATEGORIES:Altri eventi
END:VEVENT
BEGIN:VEVENT
DTSTART;VALUE=DATE:20210914
DTEND;VALUE=DATE:20210916
DTSTAMP:20260423T194917
CREATED:20210907T130705Z
LAST-MODIFIED:20210907T130705Z
UID:20993-1631581200-1631667599@www.ordinemedicifc.it
SUMMARY:NEUROLOGIA E COVID-19
DESCRIPTION:La Segreteria scientifica  fa capo a   dr.ssa Roberta Bedin a cui   vi chiedo di inviare  la richiesta di registrazione per accedere alla piattaforma . Indirizzo e-mail in calce  alla locandina. La piattaforma che utilizzeremo sara’ Zoom e riceverete il link  il giorno precedente  gli incontri a cui vi sarete registrati.\n\nI crediti ECM  sono  dedicati a  Medici e Biologi \, ma  purtroppo saranno attribuiti solo  ai primi  20 iscritti  poiche’ trattasi di formazione sul campo.\nLocandina
URL:https://www.ordinemedicifc.it/evento/neurologia-e-covid-19-9-2/
CATEGORIES:Altri eventi
END:VEVENT
BEGIN:VEVENT
DTSTART;TZID=Europe/Paris:20210911T120000
DTEND;TZID=Europe/Paris:20210911T140000
DTSTAMP:20260423T194917
CREATED:20210824T065941Z
LAST-MODIFIED:20210824T065941Z
UID:15600-1631361600-1631368800@www.ordinemedicifc.it
SUMMARY:Bologna: I PROBIOTICI COME MODULATORI DEL MICROBIOTA INTESTINALE: UN NUOVO APPROCCIO ALLA MEDICINA PERSONALIZZATA PER IL MEDICO E FARMACISTA
DESCRIPTION:Programma
URL:https://www.ordinemedicifc.it/evento/bologna-i-probiotici-come-modulatori-del-microbiota-intestinale-un-nuovo-approccio-alla-medicina-personalizzata-per-il-medico-e-farmacista/
CATEGORIES:Altri eventi
END:VEVENT
BEGIN:VEVENT
DTSTART;TZID=Europe/Paris:20210911T120000
DTEND;TZID=Europe/Paris:20210911T140000
DTSTAMP:20260423T194917
CREATED:20210824T065941Z
LAST-MODIFIED:20210824T065941Z
UID:20989-1631361600-1631368800@www.ordinemedicifc.it
SUMMARY:Bologna: I PROBIOTICI COME MODULATORI DEL MICROBIOTA INTESTINALE: UN NUOVO APPROCCIO ALLA MEDICINA PERSONALIZZATA PER IL MEDICO E FARMACISTA
DESCRIPTION:Programma
URL:https://www.ordinemedicifc.it/evento/bologna-i-probiotici-come-modulatori-del-microbiota-intestinale-un-nuovo-approccio-alla-medicina-personalizzata-per-il-medico-e-farmacista-2/
CATEGORIES:Altri eventi
END:VEVENT
BEGIN:VEVENT
DTSTART;VALUE=DATE:20210622
DTEND;VALUE=DATE:20210624
DTSTAMP:20260423T194917
CREATED:20210301T085811Z
LAST-MODIFIED:20210301T085811Z
UID:14223-1624323600-1624409999@www.ordinemedicifc.it
SUMMARY:NEUROLOGIA E COVID-19
DESCRIPTION:La Segreteria scientifica  fa capo a   dr.ssa Roberta Bedin a cui   vi chiedo di inviare  la richiesta di registrazione per accedere alla piattaforma . Indirizzo e-mail in calce  alla locandina. La piattaforma che utilizzeremo sara’ Zoom e riceverete il link  il giorno precedente  gli incontri a cui vi sarete registrati.\n\nI crediti ECM  sono  dedicati a  Medici e Biologi \, ma  purtroppo saranno attribuiti solo  ai primi  20 iscritti  poiche’ trattasi di formazione sul campo.\nLocandina 2021
URL:https://www.ordinemedicifc.it/evento/neurologia-e-covid-19-6/
CATEGORIES:Altri eventi
END:VEVENT
BEGIN:VEVENT
DTSTART;VALUE=DATE:20210622
DTEND;VALUE=DATE:20210624
DTSTAMP:20260423T194917
CREATED:20210301T085811Z
LAST-MODIFIED:20210301T085811Z
UID:20983-1624323600-1624409999@www.ordinemedicifc.it
SUMMARY:NEUROLOGIA E COVID-19
DESCRIPTION:La Segreteria scientifica  fa capo a   dr.ssa Roberta Bedin a cui   vi chiedo di inviare  la richiesta di registrazione per accedere alla piattaforma . Indirizzo e-mail in calce  alla locandina. La piattaforma che utilizzeremo sara’ Zoom e riceverete il link  il giorno precedente  gli incontri a cui vi sarete registrati.\n\nI crediti ECM  sono  dedicati a  Medici e Biologi \, ma  purtroppo saranno attribuiti solo  ai primi  20 iscritti  poiche’ trattasi di formazione sul campo.\nLocandina 2021
URL:https://www.ordinemedicifc.it/evento/neurologia-e-covid-19-6-2/
CATEGORIES:Altri eventi
END:VEVENT
BEGIN:VEVENT
DTSTART;VALUE=DATE:20210617
DTEND;VALUE=DATE:20210621
DTSTAMP:20260423T194917
CREATED:20210421T073716Z
LAST-MODIFIED:20210421T074006Z
UID:14685-1623891600-1624150799@www.ordinemedicifc.it
SUMMARY:Estrazioni ed ATM: osservare la letteratura per mettere a fuoco la clinica
DESCRIPTION:www.ilcongressodellacompagnia.it \n 
URL:https://www.ordinemedicifc.it/evento/estrazioni-ed-atm-osservare-la-letteratura-per-mettere-a-fuoco-la-clinica/
CATEGORIES:Patrocini
END:VEVENT
BEGIN:VEVENT
DTSTART;VALUE=DATE:20210617
DTEND;VALUE=DATE:20210621
DTSTAMP:20260423T194917
CREATED:20210421T073716Z
LAST-MODIFIED:20210421T073716Z
UID:20986-1623891600-1624150799@www.ordinemedicifc.it
SUMMARY:Estrazioni ed ATM: osservare la letteratura per mettere a fuoco la clinica
DESCRIPTION:www.ilcongressodellacompagnia.it \n 
URL:https://www.ordinemedicifc.it/evento/estrazioni-ed-atm-osservare-la-letteratura-per-mettere-a-fuoco-la-clinica-2/
CATEGORIES:Patrocini
END:VEVENT
BEGIN:VEVENT
DTSTART;VALUE=DATE:20210608
DTEND;VALUE=DATE:20210610
DTSTAMP:20260423T194917
CREATED:20210301T085647Z
LAST-MODIFIED:20210301T085647Z
UID:14220-1623114000-1623200399@www.ordinemedicifc.it
SUMMARY:NEUROLOGIA E COVID-19
DESCRIPTION:La Segreteria scientifica  fa capo a   dr.ssa Roberta Bedin a cui   vi chiedo di inviare  la richiesta di registrazione per accedere alla piattaforma . Indirizzo e-mail in calce  alla locandina. La piattaforma che utilizzeremo sara’ Zoom e riceverete il link  il giorno precedente  gli incontri a cui vi sarete registrati.\n\nI crediti ECM  sono  dedicati a  Medici e Biologi \, ma  purtroppo saranno attribuiti solo  ai primi  20 iscritti  poiche’ trattasi di formazione sul campo.\nLocandina 2021
URL:https://www.ordinemedicifc.it/evento/neurologia-e-covid-19-5/
CATEGORIES:Altri eventi
END:VEVENT
BEGIN:VEVENT
DTSTART;VALUE=DATE:20210608
DTEND;VALUE=DATE:20210610
DTSTAMP:20260423T194917
CREATED:20210301T085647Z
LAST-MODIFIED:20210301T085647Z
UID:20982-1623114000-1623200399@www.ordinemedicifc.it
SUMMARY:NEUROLOGIA E COVID-19
DESCRIPTION:La Segreteria scientifica  fa capo a   dr.ssa Roberta Bedin a cui   vi chiedo di inviare  la richiesta di registrazione per accedere alla piattaforma . Indirizzo e-mail in calce  alla locandina. La piattaforma che utilizzeremo sara’ Zoom e riceverete il link  il giorno precedente  gli incontri a cui vi sarete registrati.\n\nI crediti ECM  sono  dedicati a  Medici e Biologi \, ma  purtroppo saranno attribuiti solo  ai primi  20 iscritti  poiche’ trattasi di formazione sul campo.\nLocandina 2021
URL:https://www.ordinemedicifc.it/evento/neurologia-e-covid-19-5-2/
CATEGORIES:Altri eventi
END:VEVENT
BEGIN:VEVENT
DTSTART;VALUE=DATE:20210519
DTEND;VALUE=DATE:20210521
DTSTAMP:20260423T194917
CREATED:20210301T085610Z
LAST-MODIFIED:20210301T085610Z
UID:14218-1621386000-1621472399@www.ordinemedicifc.it
SUMMARY:NEUROLOGIA E COVID-19
DESCRIPTION:La Segreteria scientifica  fa capo a   dr.ssa Roberta Bedin a cui   vi chiedo di inviare  la richiesta di registrazione per accedere alla piattaforma . Indirizzo e-mail in calce  alla locandina. La piattaforma che utilizzeremo sara’ Zoom e riceverete il link  il giorno precedente  gli incontri a cui vi sarete registrati.\n\nI crediti ECM  sono  dedicati a  Medici e Biologi \, ma  purtroppo saranno attribuiti solo  ai primi  20 iscritti  poiche’ trattasi di formazione sul campo.\nLocandina 2021
URL:https://www.ordinemedicifc.it/evento/neurologia-e-covid-19-4/
CATEGORIES:Altri eventi
END:VEVENT
BEGIN:VEVENT
DTSTART;VALUE=DATE:20210519
DTEND;VALUE=DATE:20210521
DTSTAMP:20260423T194917
CREATED:20210301T085610Z
LAST-MODIFIED:20210301T085610Z
UID:20981-1621386000-1621472399@www.ordinemedicifc.it
SUMMARY:NEUROLOGIA E COVID-19
DESCRIPTION:La Segreteria scientifica  fa capo a   dr.ssa Roberta Bedin a cui   vi chiedo di inviare  la richiesta di registrazione per accedere alla piattaforma . Indirizzo e-mail in calce  alla locandina. La piattaforma che utilizzeremo sara’ Zoom e riceverete il link  il giorno precedente  gli incontri a cui vi sarete registrati.\n\nI crediti ECM  sono  dedicati a  Medici e Biologi \, ma  purtroppo saranno attribuiti solo  ai primi  20 iscritti  poiche’ trattasi di formazione sul campo.\nLocandina 2021
URL:https://www.ordinemedicifc.it/evento/neurologia-e-covid-19-4-2/
CATEGORIES:Altri eventi
END:VEVENT
BEGIN:VEVENT
DTSTART;VALUE=DATE:20210505
DTEND;VALUE=DATE:20210507
DTSTAMP:20260423T194917
CREATED:20210301T085545Z
LAST-MODIFIED:20210301T085545Z
UID:14216-1620176400-1620262799@www.ordinemedicifc.it
SUMMARY:NEUROLOGIA E COVID-19
DESCRIPTION:La Segreteria scientifica  fa capo a   dr.ssa Roberta Bedin a cui   vi chiedo di inviare  la richiesta di registrazione per accedere alla piattaforma . Indirizzo e-mail in calce  alla locandina. La piattaforma che utilizzeremo sara’ Zoom e riceverete il link  il giorno precedente  gli incontri a cui vi sarete registrati.\n\nI crediti ECM  sono  dedicati a  Medici e Biologi \, ma  purtroppo saranno attribuiti solo  ai primi  20 iscritti  poiche’ trattasi di formazione sul campo.\nLocandina 2021
URL:https://www.ordinemedicifc.it/evento/neurologia-e-covid-19-3/
CATEGORIES:Altri eventi
END:VEVENT
BEGIN:VEVENT
DTSTART;VALUE=DATE:20210505
DTEND;VALUE=DATE:20210507
DTSTAMP:20260423T194917
CREATED:20210301T085545Z
LAST-MODIFIED:20210301T085545Z
UID:20980-1620176400-1620262799@www.ordinemedicifc.it
SUMMARY:NEUROLOGIA E COVID-19
DESCRIPTION:La Segreteria scientifica  fa capo a   dr.ssa Roberta Bedin a cui   vi chiedo di inviare  la richiesta di registrazione per accedere alla piattaforma . Indirizzo e-mail in calce  alla locandina. La piattaforma che utilizzeremo sara’ Zoom e riceverete il link  il giorno precedente  gli incontri a cui vi sarete registrati.\n\nI crediti ECM  sono  dedicati a  Medici e Biologi \, ma  purtroppo saranno attribuiti solo  ai primi  20 iscritti  poiche’ trattasi di formazione sul campo.\nLocandina 2021
URL:https://www.ordinemedicifc.it/evento/neurologia-e-covid-19-3-2/
CATEGORIES:Altri eventi
END:VEVENT
BEGIN:VEVENT
DTSTART;VALUE=DATE:20210421
DTEND;VALUE=DATE:20210423
DTSTAMP:20260423T194917
CREATED:20210301T085445Z
LAST-MODIFIED:20210301T085445Z
UID:20979-1618966800-1619053199@www.ordinemedicifc.it
SUMMARY:NEUROLOGIA E COVID-19
DESCRIPTION:La Segreteria scientifica  fa capo a   dr.ssa Roberta Bedin a cui   vi chiedo di inviare  la richiesta di registrazione per accedere alla piattaforma . Indirizzo e-mail in calce  alla locandina. La piattaforma che utilizzeremo sara’ Zoom e riceverete il link  il giorno precedente  gli incontri a cui vi sarete registrati.\n\nI crediti ECM  sono  dedicati a  Medici e Biologi \, ma  purtroppo saranno attribuiti solo  ai primi  20 iscritti  poiche’ trattasi di formazione sul campo.\nLocandina 2021
URL:https://www.ordinemedicifc.it/evento/neurologia-e-covid-19-2-2/
CATEGORIES:Altri eventi
END:VEVENT
END:VCALENDAR