BEGIN:VCALENDAR
VERSION:2.0
PRODID:-//Ordine dei Medici Chirurghi e Odontoiatri di Forl&igrave;-Cesena - ECPv6.15.20//NONSGML v1.0//EN
CALSCALE:GREGORIAN
METHOD:PUBLISH
X-ORIGINAL-URL:https://www.ordinemedicifc.it
X-WR-CALDESC:Eventi per Ordine dei Medici Chirurghi e Odontoiatri di Forl&igrave;-Cesena
REFRESH-INTERVAL;VALUE=DURATION:PT1H
X-Robots-Tag:noindex
X-PUBLISHED-TTL:PT1H
BEGIN:VTIMEZONE
TZID:Europe/Paris
BEGIN:DAYLIGHT
TZOFFSETFROM:+0100
TZOFFSETTO:+0200
TZNAME:CEST
DTSTART:20230326T010000
END:DAYLIGHT
BEGIN:STANDARD
TZOFFSETFROM:+0200
TZOFFSETTO:+0100
TZNAME:CET
DTSTART:20231029T010000
END:STANDARD
BEGIN:DAYLIGHT
TZOFFSETFROM:+0100
TZOFFSETTO:+0200
TZNAME:CEST
DTSTART:20240331T010000
END:DAYLIGHT
BEGIN:STANDARD
TZOFFSETFROM:+0200
TZOFFSETTO:+0100
TZNAME:CET
DTSTART:20241027T010000
END:STANDARD
BEGIN:DAYLIGHT
TZOFFSETFROM:+0100
TZOFFSETTO:+0200
TZNAME:CEST
DTSTART:20250330T010000
END:DAYLIGHT
BEGIN:STANDARD
TZOFFSETFROM:+0200
TZOFFSETTO:+0100
TZNAME:CET
DTSTART:20251026T010000
END:STANDARD
BEGIN:DAYLIGHT
TZOFFSETFROM:+0100
TZOFFSETTO:+0200
TZNAME:CEST
DTSTART:20260329T010000
END:DAYLIGHT
BEGIN:STANDARD
TZOFFSETFROM:+0200
TZOFFSETTO:+0100
TZNAME:CET
DTSTART:20261025T010000
END:STANDARD
END:VTIMEZONE
BEGIN:VEVENT
DTSTART;TZID=Europe/Paris:20241210T100000
DTEND;TZID=Europe/Paris:20241210T120000
DTSTAMP:20260422T141010
CREATED:20241204T073723Z
LAST-MODIFIED:20241204T074315Z
UID:24857-1733824800-1733832000@www.ordinemedicifc.it
SUMMARY:INPS Cesena: INsieme Per la Salute - presentazione ufficiale sperimentazione INPS e nuove modalità di Certificazione
DESCRIPTION:10 dicembre 2024 ore 10.00 presso Aula Magna Biblioteca Malatestiana – Cesena \n  \nLocandina Cesena 10.12 \nCircolare INPS
URL:https://www.ordinemedicifc.it/evento/inps-insieme-per-la-salute-presentazione-ufficiale-sperimentazione-inps-e-nuove-modalita-di-certificazione-invalidita/
LOCATION:CESENA PIAZZA BUFALINI\, 1\, PIAZZA BUFALINI\, 1
CATEGORIES:Altri eventi
END:VEVENT
BEGIN:VEVENT
DTSTART;TZID=Europe/Paris:20241219T203000
DTEND;TZID=Europe/Paris:20241219T223000
DTSTAMP:20260422T141010
CREATED:20241206T112319Z
LAST-MODIFIED:20241209T080650Z
UID:24885-1734640200-1734647400@www.ordinemedicifc.it
SUMMARY:OMCeO FC. Serata di presentazione nuovo percorso certificativo per Invalidità ed Handicap
DESCRIPTION:Programma \n  \nL’evento è a carattere informativo e NON SONO PREVISTI ECM. \nPer la partecipazione è OBBLIGATORIO comunicare la propria presenza: \nvia email a: info@ordinemedicifc.it o telefonando in Segreteria allo 054327157 entro e non oltre il 18 dicembre p.v \nLe adesioni saranno accolte fino all’esaurimento dei 90 posti disponibili in sala.
URL:https://www.ordinemedicifc.it/evento/omceo-fc-levento-e-a-carattere-informativo-e-non-sono-previsti-ecm-per-la-partecipazione-e-obbligatorio-comunicare-la-propria-presenza-via-email-a-infoordinemedicifc-it-o-telefonando-in/
CATEGORIES:OMCeO FC
END:VEVENT
BEGIN:VEVENT
DTSTART;TZID=Europe/Paris:20250111T090000
DTEND;TZID=Europe/Paris:20250111T130000
DTSTAMP:20260422T141010
CREATED:20241220T073643Z
LAST-MODIFIED:20241223T082553Z
UID:24996-1736586000-1736600400@www.ordinemedicifc.it
SUMMARY:OMCeo FC. Sindrome di Beckwith-Wiedmann:  pediatri consapevoli del proprio ruolo  e della propria importanza
DESCRIPTION:Sabato 11 gennaio 2025\, presso la Sala Conferenze dell’Omceo\, dalle 9 alle 13 si svolgerà un importante incontro dal titolo “Sindrome di Beckwith-Wiedmann: pediatri consapevoli del proprio ruolo e della propria importanza” di cui vedete allegato il programma con inserito il link per effettuare l’iscrizione. \nLa sindrome di Beckwith-Wiedemann (BWS) è il più frequente disturbo multiplo dello sviluppo associato ad iperaccrescimento\, con presentazione clinica molto variabile. \nHa un’incidenza di 1:10.000 e\, negli ultimi anni\, si evince un forte aumento delle diagnosi che ha cambiato notevolmente il ruolo dei pediatri di base. \nPresso l’Oratorio San Sebastiano di Forlì\, sito in Via Bufalini/P.zza Guido da Montefeltro\, verrà allestita una mostra fotografica che presenta ritratti di bambini e bambine che vivono la suddetta sindrome esposta a cura di Dael Maselli\, la cui inaugurazione avverrà Venerdì 10 gennaio p.v. alle 18\, e resterà aperta poi al pubblico tutti i giorni fino a domenica 19 gennaio compresa\, tutti i giorni dalle 9 alle 13 e dalle 15 alle 19. \n  \nProgramma 11 01 2025 \ncartolina MOSTRA Forlì A6 (1) \npannello MOSTRA Forlì 50×70 (2) \n  \nREGISTRAZIONE ONLINE OBBLIGATORIA ENTRO IL GIORNO PRIMA \nCliccare qui per registrarsi come medico convenzionato SSN o dipendente AUSL \nCliccare qui per registrarsi come esterno (non convenzionato del SSN e non dipendente AUSL) \n  \n 
URL:https://www.ordinemedicifc.it/evento/omceo-fc-sindrome-di-beckwith-wiedmann-pediatri-consapevoli-del-proprio-ruolo-e-della-propria-importanza/
CATEGORIES:OMCeO FC
END:VEVENT
BEGIN:VEVENT
DTSTART;VALUE=DATE:20250117
DTEND;VALUE=DATE:20250119
DTSTAMP:20260422T141010
CREATED:20241218T075519Z
LAST-MODIFIED:20241218T075519Z
UID:24966-1737075600-1737161999@www.ordinemedicifc.it
SUMMARY:Forlì. IL VENERDÌ 17 IN EMATOLOGIA: LE COMPLICANZE INFETTIVE
DESCRIPTION:Res- IL VENERDÌ 17 IN EMATOLOGIA: LE COMPLICANZE INFETTIVE
URL:https://www.ordinemedicifc.it/evento/forli-il-venerdi-17-in-ematologia-le-complicanze-infettive/
CATEGORIES:Patrocini
END:VEVENT
BEGIN:VEVENT
DTSTART;TZID=Europe/Paris:20250130T140000
DTEND;TZID=Europe/Paris:20250130T170000
DTSTAMP:20260422T141010
CREATED:20241218T095438Z
LAST-MODIFIED:20241218T095550Z
UID:24975-1738245600-1738256400@www.ordinemedicifc.it
SUMMARY:GVS CAMPUS EVENTO FAD "LA GESTIONE DELLO STRESS ATTRAVERSO LA MINDFULNESS"
DESCRIPTION:Gentilissimi\, \n  \nsiamo con la presente ad inviare il programma del Seminario “LA GESTIONE DELLO STRESS ATTRAVERSO LA MINDFULNESS”\, che si terrà in data venerdì 31 gennaio 2025 dalle 14.00 alle 17.00 in modalità FAD Sincrona tramite la piattaforma FAD GVM Campus\, con preghiera di diffusione. \n  \nNel corso di questo seminario verranno esplorati i meccanismi legati allo stress e le modalità di reazione di fronte alle situazioni critiche\, imparando a gestire in modo più appropriato le risposte automatiche e disfunzionali che spesso si attivano per fronteggiarlo. Sarà approfondito il ruolo delle emozioni nella vita quotidiana\, con l’obiettivo di imparare alcune strategie per padroneggiare i processi attentivi. Inoltre\, verranno sperimentate pratiche di Mindfulness\, che permetteranno un apprendimento esperienziale volto a sviluppare una consapevolezza diretta\, utile per riconoscere e accogliere le attività mentali che emergeranno durante tali pratiche. \n  \nL’iscrizione è gratuita e si effettua accedendo al sito GVM Campus disponibile al seguente link https://www.gvmnet.it/formazione/tutti-gli-eventi/2025/gestione-stress-mindfulness . \nProgramma seminario 31.01.2025 (2)
URL:https://www.ordinemedicifc.it/evento/gvs-campus-evento-fad-la-gestione-dello-stress-attraverso-la-mindfulness/
CATEGORIES:Altri eventi
END:VEVENT
BEGIN:VEVENT
DTSTART;VALUE=DATE:20250207
DTEND;VALUE=DATE:20250209
DTSTAMP:20260422T141010
CREATED:20241202T100633Z
LAST-MODIFIED:20250114T080023Z
UID:24824-1738890000-1738976399@www.ordinemedicifc.it
SUMMARY:Forlì. "Occhi per donarti" Volontari dell'Ausl Romagna si raccontano
DESCRIPTION:Trasmettiamo la locandina dell’evento “Occhi per Donarti- Volontari dell’AUSL Romagna si raccontano” organizzato del Centro Studi G Donati per il volontariato e la solidarietà dell’AUSL Romagna. \nL’evento era stato sospeso a dicembre per concomitante sciopero\, ed è stato riprogrammato per il 7 febbraio pv. \n  \nlocandina
URL:https://www.ordinemedicifc.it/evento/forli-occhi-per-donarti-volontari-dellausl-romagna-si-raccontano/
CATEGORIES:Altri eventi
END:VEVENT
BEGIN:VEVENT
DTSTART;VALUE=DATE:20250208
DTEND;VALUE=DATE:20250210
DTSTAMP:20260422T141010
CREATED:20241219T170911Z
LAST-MODIFIED:20250114T080550Z
UID:24993-1738976400-1739062799@www.ordinemedicifc.it
SUMMARY:Cesena. La gestione del paziente con malattia cardio-renale-metabolica. La nuova sinergia tra ospedale e territorio
DESCRIPTION:Programma aggiornato
URL:https://www.ordinemedicifc.it/evento/cesena-la-gestione-del-paziente-con-malattia-cardio-renale-metabolica-la-nuova-sinergia-tra-ospedale-e-territorio/
CATEGORIES:Patrocini
END:VEVENT
BEGIN:VEVENT
DTSTART;TZID=Europe/Paris:20250208T090000
DTEND;TZID=Europe/Paris:20250208T130000
DTSTAMP:20260422T141010
CREATED:20250116T101045Z
LAST-MODIFIED:20250116T101045Z
UID:25182-1739005200-1739019600@www.ordinemedicifc.it
SUMMARY:OMCeO FC. Incontriamoci: Medicina Interna e Medicina Generale insieme per il percorso di Malattie di Fegato
DESCRIPTION:Il corso unico in oggetto si svolgerà in 2 Moduli suddivisi rispettivamente in 2 date: \n1° Modulo  Sabato 8 febbraio 2025 dalle ore 9 alle 13  \n2° Modulo Sabato 15 marzo 2025 dalle ore 9 alle 13 \nPer l’ottenimento degli 8 crediti attribuiti al corso è OBBLIGATORIA la partecipazione ad entrambi i Moduli. \n  \nREGISTRAZIONE ONLINE UNICA OBBLIGATORIA ENTRO IL 6 FEBBRAIO \nCliccare qui per registrarsi come medico convenzionato SSN o dipendente AUSL \nCliccare qui per registrarsi come esterno (non convenzionato del SSN e non dipendente AUSL) \n  \nProgramma definitivo 8 febbraio 2025  \nProgramma definitivo 15 marzo 2025
URL:https://www.ordinemedicifc.it/evento/omceo-fc-incontriamoci-medicina-interna-e-medicina-generale-insieme-per-il-percorso-di-malattie-di-fegato/
CATEGORIES:OMCeO FC
END:VEVENT
BEGIN:VEVENT
DTSTART;VALUE=DATE:20250227
DTEND;VALUE=DATE:20250302
DTSTAMP:20260422T141010
CREATED:20241218T080620Z
LAST-MODIFIED:20241218T080629Z
UID:24970-1740618000-1740790799@www.ordinemedicifc.it
SUMMARY:Milano Marittima. Clinical Nutrition Pill 2025
DESCRIPTION:https://www.comunicazioneventi.it/events/27022025/
URL:https://www.ordinemedicifc.it/evento/milano-marittima-clinical-nutrition-pill-2025/
CATEGORIES:Patrocini
END:VEVENT
BEGIN:VEVENT
DTSTART;VALUE=DATE:20250301
DTEND;VALUE=DATE:20250303
DTSTAMP:20260422T141010
CREATED:20241218T080323Z
LAST-MODIFIED:20250213T141555Z
UID:24968-1740790800-1740877199@www.ordinemedicifc.it
SUMMARY:Cesena. INQUINAMENTO AMBIENTALE E SALUTE
DESCRIPTION:LOCANDINA FINALE \nNotizia: https://www.isdenews.it/inquinamento-ambientale-e-salute/ \nEvento: https://www.isdenews.it/evento/inquinamento-ambientale-e-salute-2/ \n  \n 
URL:https://www.ordinemedicifc.it/evento/cesena-inquinamento-ambientale-e-salute/
CATEGORIES:Patrocini
END:VEVENT
BEGIN:VEVENT
DTSTART;TZID=Europe/Paris:20250314T200000
DTEND;TZID=Europe/Paris:20250314T230000
DTSTAMP:20260422T141010
CREATED:20250227T133926Z
LAST-MODIFIED:20250227T134034Z
UID:25662-1741982400-1741993200@www.ordinemedicifc.it
SUMMARY:Giornata Mondiale del sonno. Evento in collaborazione con Rotary Cesenatico Mare: Il sonno: elemento essenziale per il benessere e la salute
DESCRIPTION:Museo della Marineria \nVia Carlo Armellini\, 18\, 47042 Cesenatico FC
URL:https://www.ordinemedicifc.it/evento/il-sonno-elemento-essenziale-per-il-benessere-e-la-salute/
CATEGORIES:Patrocini
END:VEVENT
BEGIN:VEVENT
DTSTART;TZID=Europe/Paris:20250319T203000
DTEND;TZID=Europe/Paris:20250319T223000
DTSTAMP:20260422T141010
CREATED:20250218T082611Z
LAST-MODIFIED:20250226T093246Z
UID:25581-1742416200-1742423400@www.ordinemedicifc.it
SUMMARY:Presentazione volume "La frontiera avanzata della sanità digitale a cura del Dott. Fosco Foglietta
DESCRIPTION:c/o Circolo Aurora ore 19 \nCorso Garibadi\, 80 Forlì \nLocandina
URL:https://www.ordinemedicifc.it/evento/presentazione-volume-la-frontiera-avanzata-della-sanita-digitale-a-cura-del-dott-fosco-foglietta/
CATEGORIES:Patrocini
END:VEVENT
BEGIN:VEVENT
DTSTART;VALUE=DATE:20250322
DTEND;VALUE=DATE:20250324
DTSTAMP:20260422T141010
CREATED:20250131T093517Z
LAST-MODIFIED:20250218T074918Z
UID:25338-1742605200-1742691599@www.ordinemedicifc.it
SUMMARY:Faenza. OTORINOLARINGOIATRIA 2025 NUOVI PERCORSI  DI DIAGNOSI E CURA
DESCRIPTION:GVM_Otorino_Faenza_22mar2025
URL:https://www.ordinemedicifc.it/evento/faenza-otorinolaringoiatria-2025-nuovi-percorsi-di-diagnosi-e-cura/
CATEGORIES:Patrocini
END:VEVENT
BEGIN:VEVENT
DTSTART;VALUE=DATE:20250403
DTEND;VALUE=DATE:20250405
DTSTAMP:20260422T141010
CREATED:20250305T110538Z
LAST-MODIFIED:20250305T110623Z
UID:25721-1743642000-1743728399@www.ordinemedicifc.it
SUMMARY:OMCeO FC. La gestione della patologia tiroidea e paratiroidea: dalla diagnosi al follow up
DESCRIPTION:Programma \n  \nREGISTRAZIONE ONLINE OBBLIGATORIA ENTRO IL GIORNO PRIMA \nCliccare qui per registrarsi come medico convenzionato SSN o dipendente AUSL \nCliccare qui per registrarsi come esterno (non convenzionato del SSN e non dipendente AUSL)
URL:https://www.ordinemedicifc.it/evento/la-gestione-della-patologia-tiroidea-e-paratiroidea-dalla-diagnosi-al-follow-up/
CATEGORIES:OMCeO FC
END:VEVENT
BEGIN:VEVENT
DTSTART;VALUE=DATE:20250405
DTEND;VALUE=DATE:20250407
DTSTAMP:20260422T141010
CREATED:20250114T072859Z
LAST-MODIFIED:20250114T072916Z
UID:25131-1743814800-1743901199@www.ordinemedicifc.it
SUMMARY:Forlì. Patologia prostatica in pazienti fragili Gestione territoriale multidisciplinare
DESCRIPTION:https://www.comunicazioneventi.it/events/05042025/
URL:https://www.ordinemedicifc.it/evento/patologia-prostatica-in-pazienti-fragili-gestione-territoriale-multidisciplinare/
CATEGORIES:Patrocini
END:VEVENT
BEGIN:VEVENT
DTSTART;VALUE=DATE:20250409
DTEND;VALUE=DATE:20250412
DTSTAMP:20260422T141010
CREATED:20250213T130047Z
LAST-MODIFIED:20250213T130047Z
UID:25530-1744160400-1744333199@www.ordinemedicifc.it
SUMMARY:Forlì. CHRONICITY 2025: FOCUS SULLA GESTIONE INTEGRATA DELLE MALATTIE DEL FEGATO\, PANCREAS E INTESTINO
DESCRIPTION:https://www.adbcongressi.it/evento_1105_adbcongressiedeventi
URL:https://www.ordinemedicifc.it/evento/forli-chronicity-2025-focus-sulla-gestione-integrata-delle-malattie-del-fegato-pancreas-e-intestino/
CATEGORIES:Patrocini
END:VEVENT
BEGIN:VEVENT
DTSTART;VALUE=DATE:20250410
DTEND;VALUE=DATE:20250413
DTSTAMP:20260422T141010
CREATED:20250213T131502Z
LAST-MODIFIED:20250324T130158Z
UID:25534-1744246800-1744419599@www.ordinemedicifc.it
SUMMARY:Mercato Saraceno. ALZHEIMER SUMMIT 2025- I luoghi della cura: i Caffè Alzheimer\, le Residenze e le  Comunità
DESCRIPTION:https://www.maratonaalzheimer.it/it/fondazione-maratona-alzheimer/summit-2025/
URL:https://www.ordinemedicifc.it/evento/mercato-saraceno-alzheimer-summit-2025-i-luoghi-della-cura-i-caffe-alzheimer-le-residenze-e-le-comunita/
CATEGORIES:Patrocini
END:VEVENT
BEGIN:VEVENT
DTSTART;TZID=Europe/Paris:20250410T203000
DTEND;TZID=Europe/Paris:20250410T233000
DTSTAMP:20260422T141010
CREATED:20250311T075437Z
LAST-MODIFIED:20250403T130650Z
UID:25766-1744317000-1744327800@www.ordinemedicifc.it
SUMMARY:OMCeO FC. Il percorso Stroke  nella provincia di Forlì-Cesena
DESCRIPTION:  \nProgramma 10 aprile 2025 \nREGISTRAZIONE ONLINE OBBLIGATORIA ENTRO DUE GIORNI PRIMA \nCliccare qui per registrarsi come medico convenzionato SSN o dipendente AUSL \nCliccare qui per registrarsi come esterno (non convenzionato del SSN e non dipendente AUSL)
URL:https://www.ordinemedicifc.it/evento/omceo-fc-il-percorso-stroke-nella-provincia-di-forli-cesena/
CATEGORIES:OMCeO FC
END:VEVENT
BEGIN:VEVENT
DTSTART;TZID=Europe/Paris:20250411T154500
DTEND;TZID=Europe/Paris:20250411T180000
DTSTAMP:20260422T141010
CREATED:20250218T085422Z
LAST-MODIFIED:20250218T085422Z
UID:25586-1744386300-1744394400@www.ordinemedicifc.it
SUMMARY:Conoscere la malattia di Parkinson: dalla ricerca alla cura
DESCRIPTION:Programma \nCasa di Riposo “Pietro Zangheri” \nVia Publio Fausto Andrelini\, 5\, 47121 Forlì FC \n 
URL:https://www.ordinemedicifc.it/evento/conoscere-la-malattia-di-parkinson-dalla-ricerca-alla-cura/
CATEGORIES:Patrocini
END:VEVENT
BEGIN:VEVENT
DTSTART;TZID=Europe/Paris:20250508T203000
DTEND;TZID=Europe/Paris:20250508T233000
DTSTAMP:20260422T141010
CREATED:20250403T104404Z
LAST-MODIFIED:20250403T130603Z
UID:25988-1746736200-1746747000@www.ordinemedicifc.it
SUMMARY:OMCeO FC. Disordini Endocrinologici  dell’Infanzia e dell’Adolescenza: organizzazione di un ambulatorio specialistico in Ospedale
DESCRIPTION:Programma 8 maggio 2025 \n  \nREGISTRAZIONE ONLINE OBBLIGATORIA ENTRO DUE GIORNI PRIMA \nCliccare qui per registrarsi come medico convenzionato SSN o dipendente AUSL \nCliccare qui per registrarsi come esterno (non convenzionato del SSN e non dipendente AUSL)
URL:https://www.ordinemedicifc.it/evento/omceo-fc-disordini-endocrinologici-dellinfanzia-e-delladolescenza-organizzazione-di-un-ambulatorio-specialistico-in-ospedale/
CATEGORIES:OMCeO FC
END:VEVENT
BEGIN:VEVENT
DTSTART;TZID=Europe/Paris:20250515T203000
DTEND;TZID=Europe/Paris:20250515T233000
DTSTAMP:20260422T141010
CREATED:20250319T104222Z
LAST-MODIFIED:20250403T130512Z
UID:25846-1747341000-1747351800@www.ordinemedicifc.it
SUMMARY:OMCeO FC: L’approccio robotico in chirurgia  oncologica gastrointestinale
DESCRIPTION:Programma 15 maggio 2025 \n  \nREGISTRAZIONE ONLINE OBBLIGATORIA ENTRO DUE GIORNI PRIMA \nCliccare qui per registrarsi come medico convenzionato SSN o dipendente AUSL \nCliccare qui per registrarsi come esterno (non convenzionato del SSN e non dipendente AUSL)
URL:https://www.ordinemedicifc.it/evento/omceo-fc-lapproccio-robotico-in-chirurgia-oncologica-gastrointestinale/
CATEGORIES:OMCeO FC
END:VEVENT
BEGIN:VEVENT
DTSTART;TZID=Europe/Paris:20250522T203000
DTEND;TZID=Europe/Paris:20250522T233000
DTSTAMP:20260422T141010
CREATED:20250327T082200Z
LAST-MODIFIED:20250403T130356Z
UID:25921-1747945800-1747956600@www.ordinemedicifc.it
SUMMARY:OMCeO FC. PRIME CENTER: UNA REALTÀ DA SCOPRIRE. La Medicina integrata al servizio del Malato Oncologico
DESCRIPTION:Programma 22 maggio 2025 \n  \n  \nREGISTRAZIONE ONLINE OBBLIGATORIA ENTRO DUE GIORNI PRIMA \nCliccare qui per registrarsi come medico convenzionato SSN o dipendente AUSL \nCliccare qui per registrarsi come esterno (non convenzionato del SSN e non dipendente AUSL)
URL:https://www.ordinemedicifc.it/evento/prime-center-una-realta-da-scoprire-la-medicina-integrata-al-servizio-del-malato-oncologico/
CATEGORIES:OMCeO FC
END:VEVENT
BEGIN:VEVENT
DTSTART;VALUE=DATE:20250523
DTEND;VALUE=DATE:20250527
DTSTAMP:20260422T141010
CREATED:20250213T132751Z
LAST-MODIFIED:20250213T132751Z
UID:25538-1747962000-1748221199@www.ordinemedicifc.it
SUMMARY:Cesena. LXXIII Congresso Nazionale AMSI (Associazione Medici Scrittori Italiani)
DESCRIPTION:Biblioteca Malatestiana
URL:https://www.ordinemedicifc.it/evento/cesena-lxxiii-congresso-nazionale-amsi-associazione-medici-scrittori-italiani/
CATEGORIES:Patrocini
END:VEVENT
BEGIN:VEVENT
DTSTART;VALUE=DATE:20250524
DTEND;VALUE=DATE:20250526
DTSTAMP:20260422T141010
CREATED:20250416T061632Z
LAST-MODIFIED:20250415T072004Z
UID:26093-1748048400-1748134799@www.ordinemedicifc.it
SUMMARY:Riolo Terme. PREVENZIONE E CURE TERMALI IN ETA' PEDIATRICA: LE TERAPIE INALATORIE CON ACQUA TERMALE
DESCRIPTION:PROGRAMMA CONVEGNO 24 MAGGIO-1
URL:https://www.ordinemedicifc.it/evento/riolo-terme-prevenzione-e-cure-termali-in-eta-pediatrica-le-terapie-inalatorie-con-acqua-termale/
CATEGORIES:Patrocini
END:VEVENT
BEGIN:VEVENT
DTSTART;VALUE=DATE:20250524
DTEND;VALUE=DATE:20250526
DTSTAMP:20260422T141010
CREATED:20250416T065007Z
LAST-MODIFIED:20250505T071840Z
UID:26109-1748048400-1748134799@www.ordinemedicifc.it
SUMMARY:San Mauro Pascoli. Up to date in flebologia: tra servizio pubblico e privato convenzionato.
DESCRIPTION:Locandina \nProgramma \nDi seguito il link di iscrizione:\nhttps://corsi.lexiformazione.it/event/119/showCard
URL:https://www.ordinemedicifc.it/evento/san-mauro-pascoli-up-to-date-inflebologia-tra-servizio-pubblico-e-privato-convenzionato/
CATEGORIES:Patrocini
END:VEVENT
BEGIN:VEVENT
DTSTART;TZID=Europe/Paris:20250605T203000
DTEND;TZID=Europe/Paris:20250605T233000
DTSTAMP:20260422T141010
CREATED:20250429T081008Z
LAST-MODIFIED:20250429T081008Z
UID:26179-1749155400-1749166200@www.ordinemedicifc.it
SUMMARY:OMCeO FC. Malattia renale cronica oggi: epidemiologia\, gestione e prospettive
DESCRIPTION:Programma 5 giugno 2025 \n  \nREGISTRAZIONE ONLINE OBBLIGATORIA ENTRO DUE GIORNI PRIMA \nCliccare qui per registrarsi come medico convenzionato SSN o dipendente AUSL \nCliccare qui per registrarsi come esterno (non convenzionato del SSN e non dipendente AUSL)
URL:https://www.ordinemedicifc.it/evento/omceo-fc-malattia-renale-cronica-oggi-epidemiologia-gestione-e-prospettive/
CATEGORIES:OMCeO FC
END:VEVENT
BEGIN:VEVENT
DTSTART;VALUE=DATE:20250607
DTEND;VALUE=DATE:20250609
DTSTAMP:20260422T141010
CREATED:20250605T062335Z
LAST-MODIFIED:20250605T062335Z
UID:26539-1749258000-1749344399@www.ordinemedicifc.it
SUMMARY:Faenza. L'EMATOLOGIA INCONTRA LA MEDICINA DEL TERRITORIO: ANEMIE E ALTERAZIONI DELLE PIASTRINE
DESCRIPTION:https://omceora.irideweb.it/events/5ba5f91b-d796-4f85-9e63-08dd87f0a885
URL:https://www.ordinemedicifc.it/evento/faenza-lematologia-incontra-la-medicina-del-territorio-anemie-e-alterazioni-delle-piastrine/
CATEGORIES:Altri eventi
END:VEVENT
BEGIN:VEVENT
DTSTART;TZID=Europe/Paris:20250608T080000
DTEND;TZID=Europe/Paris:20250608T160000
DTSTAMP:20260422T141010
CREATED:20250527T082027Z
LAST-MODIFIED:20250527T082027Z
UID:26475-1749369600-1749398400@www.ordinemedicifc.it
SUMMARY:Tappa di Forlì del Giro d’Italia delle Cure Palliative Pediatriche 2025
DESCRIPTION:programma girocpp2025
URL:https://www.ordinemedicifc.it/evento/tappa-di-forli-del-giro-ditalia-delle-cure-palliative-pediatriche-2025/
CATEGORIES:Patrocini
END:VEVENT
BEGIN:VEVENT
DTSTART;TZID=Europe/Paris:20250611T203000
DTEND;TZID=Europe/Paris:20250611T233000
DTSTAMP:20260422T141010
CREATED:20250415T064335Z
LAST-MODIFIED:20250429T081457Z
UID:26089-1749673800-1749684600@www.ordinemedicifc.it
SUMMARY:OMCeO FC.: Il D.Lgs.n. 101/2020: la radioprotezione in odontoiatria nell’esercizio della radiologia complementare
DESCRIPTION:Programma 11 giugno \n  \nREGISTRAZIONE ONLINE OBBLIGATORIA ENTRO DUE GIORNI PRIMA \nCliccare qui per registrarsi come medico convenzionato SSN o dipendente AUSL \nCliccare qui per registrarsi come esterno (non convenzionato del SSN e non dipendente AUSL)
URL:https://www.ordinemedicifc.it/evento/la-radioprotezione-in-odontoiatria-nellesercizio-della-radiologia-complementare/
CATEGORIES:OMCeO FC
END:VEVENT
BEGIN:VEVENT
DTSTART;VALUE=DATE:20250612
DTEND;VALUE=DATE:20250614
DTSTAMP:20260422T141010
CREATED:20250603T135445Z
LAST-MODIFIED:20250603T135445Z
UID:26518-1749690000-1749776399@www.ordinemedicifc.it
SUMMARY:Forlì. La sanità pubblica: cosa non va e cosa aspettarci
DESCRIPTION:Programma 12 giugno 2025
URL:https://www.ordinemedicifc.it/evento/forli-la-sanita-pubblica-cosa-non-va-e-cosa-aspettarci/
CATEGORIES:Patrocini
END:VEVENT
END:VCALENDAR