BEGIN:VCALENDAR
VERSION:2.0
PRODID:-//Ordine dei Medici Chirurghi e Odontoiatri di Forl&igrave;-Cesena - ECPv6.15.20//NONSGML v1.0//EN
CALSCALE:GREGORIAN
METHOD:PUBLISH
X-WR-CALNAME:Ordine dei Medici Chirurghi e Odontoiatri di Forl&igrave;-Cesena
X-ORIGINAL-URL:https://www.ordinemedicifc.it
X-WR-CALDESC:Eventi per Ordine dei Medici Chirurghi e Odontoiatri di Forl&igrave;-Cesena
REFRESH-INTERVAL;VALUE=DURATION:PT1H
X-Robots-Tag:noindex
X-PUBLISHED-TTL:PT1H
BEGIN:VTIMEZONE
TZID:Europe/Paris
BEGIN:DAYLIGHT
TZOFFSETFROM:+0100
TZOFFSETTO:+0200
TZNAME:CEST
DTSTART:20190331T010000
END:DAYLIGHT
BEGIN:STANDARD
TZOFFSETFROM:+0200
TZOFFSETTO:+0100
TZNAME:CET
DTSTART:20191027T010000
END:STANDARD
BEGIN:DAYLIGHT
TZOFFSETFROM:+0100
TZOFFSETTO:+0200
TZNAME:CEST
DTSTART:20200329T010000
END:DAYLIGHT
BEGIN:STANDARD
TZOFFSETFROM:+0200
TZOFFSETTO:+0100
TZNAME:CET
DTSTART:20201025T010000
END:STANDARD
BEGIN:DAYLIGHT
TZOFFSETFROM:+0100
TZOFFSETTO:+0200
TZNAME:CEST
DTSTART:20210328T010000
END:DAYLIGHT
BEGIN:STANDARD
TZOFFSETFROM:+0200
TZOFFSETTO:+0100
TZNAME:CET
DTSTART:20211031T010000
END:STANDARD
BEGIN:DAYLIGHT
TZOFFSETFROM:+0100
TZOFFSETTO:+0200
TZNAME:CEST
DTSTART:20220327T010000
END:DAYLIGHT
BEGIN:STANDARD
TZOFFSETFROM:+0200
TZOFFSETTO:+0100
TZNAME:CET
DTSTART:20221030T010000
END:STANDARD
END:VTIMEZONE
BEGIN:VEVENT
DTSTART;VALUE=DATE:20210421
DTEND;VALUE=DATE:20210423
DTSTAMP:20260424T000358
CREATED:20210301T085445Z
LAST-MODIFIED:20210301T085445Z
UID:20979-1618966800-1619053199@www.ordinemedicifc.it
SUMMARY:NEUROLOGIA E COVID-19
DESCRIPTION:La Segreteria scientifica  fa capo a   dr.ssa Roberta Bedin a cui   vi chiedo di inviare  la richiesta di registrazione per accedere alla piattaforma . Indirizzo e-mail in calce  alla locandina. La piattaforma che utilizzeremo sara’ Zoom e riceverete il link  il giorno precedente  gli incontri a cui vi sarete registrati.\n\nI crediti ECM  sono  dedicati a  Medici e Biologi \, ma  purtroppo saranno attribuiti solo  ai primi  20 iscritti  poiche’ trattasi di formazione sul campo.\nLocandina 2021
URL:https://www.ordinemedicifc.it/evento/neurologia-e-covid-19-2-2/
CATEGORIES:Altri eventi
END:VEVENT
BEGIN:VEVENT
DTSTART;VALUE=DATE:20210419
DTEND;VALUE=DATE:20210421
DTSTAMP:20260424T000358
CREATED:20210406T131238Z
LAST-MODIFIED:20210406T131238Z
UID:14562-1618794000-1618880399@www.ordinemedicifc.it
SUMMARY:CORSO DI ALTA FORMAZIONE: L’attività del Consulente Tecnico e del Perito nei giudizi civili e penali: questioni processuali e case study
DESCRIPTION:Leggi il programma
URL:https://www.ordinemedicifc.it/evento/corso-di-alta-formazione-lattivita-del-consulente-tecnico-e-del-perito-nei-giudizi-civili-e-penali-questioni-processuali-e-case-study/
CATEGORIES:Altri eventi
END:VEVENT
BEGIN:VEVENT
DTSTART;VALUE=DATE:20210419
DTEND;VALUE=DATE:20210421
DTSTAMP:20260424T000358
CREATED:20210406T131238Z
LAST-MODIFIED:20210406T131238Z
UID:20985-1618794000-1618880399@www.ordinemedicifc.it
SUMMARY:CORSO DI ALTA FORMAZIONE: L’attività del Consulente Tecnico e del Perito nei giudizi civili e penali: questioni processuali e case study
DESCRIPTION:Leggi il programma
URL:https://www.ordinemedicifc.it/evento/corso-di-alta-formazione-lattivita-del-consulente-tecnico-e-del-perito-nei-giudizi-civili-e-penali-questioni-processuali-e-case-study-2/
CATEGORIES:Altri eventi
END:VEVENT
BEGIN:VEVENT
DTSTART;VALUE=DATE:20210406
DTEND;VALUE=DATE:20210408
DTSTAMP:20260424T000358
CREATED:20210301T085414Z
LAST-MODIFIED:20210301T085414Z
UID:14210-1617670800-1617757199@www.ordinemedicifc.it
SUMMARY:NEUROLOGIA E COVID-19
DESCRIPTION:La Segreteria scientifica  fa capo a   dr.ssa Roberta Bedin a cui   vi chiedo di inviare  la richiesta di registrazione per accedere alla piattaforma . Indirizzo e-mail in calce  alla locandina. La piattaforma che utilizzeremo sara’ Zoom e riceverete il link  il giorno precedente  gli incontri a cui vi sarete registrati.\n\nI crediti ECM  sono  dedicati a  Medici e Biologi \, ma  purtroppo saranno attribuiti solo  ai primi  20 iscritti  poiche’ trattasi di formazione sul campo.\nLocandina 2021
URL:https://www.ordinemedicifc.it/evento/neurologia-e-covid-19/
CATEGORIES:Altri eventi
END:VEVENT
BEGIN:VEVENT
DTSTART;VALUE=DATE:20210406
DTEND;VALUE=DATE:20210408
DTSTAMP:20260424T000358
CREATED:20210301T085414Z
LAST-MODIFIED:20210301T085414Z
UID:20978-1617670800-1617757199@www.ordinemedicifc.it
SUMMARY:NEUROLOGIA E COVID-19
DESCRIPTION:La Segreteria scientifica  fa capo a   dr.ssa Roberta Bedin a cui   vi chiedo di inviare  la richiesta di registrazione per accedere alla piattaforma . Indirizzo e-mail in calce  alla locandina. La piattaforma che utilizzeremo sara’ Zoom e riceverete il link  il giorno precedente  gli incontri a cui vi sarete registrati.\n\nI crediti ECM  sono  dedicati a  Medici e Biologi \, ma  purtroppo saranno attribuiti solo  ai primi  20 iscritti  poiche’ trattasi di formazione sul campo.\nLocandina 2021
URL:https://www.ordinemedicifc.it/evento/neurologia-e-covid-19-10/
CATEGORIES:Altri eventi
END:VEVENT
BEGIN:VEVENT
DTSTART;TZID=Europe/Paris:20210125T150000
DTEND;TZID=Europe/Paris:20210125T180000
DTSTAMP:20260424T000358
CREATED:20210114T134420Z
LAST-MODIFIED:20210114T134420Z
UID:13851-1611586800-1611597600@www.ordinemedicifc.it
SUMMARY:Corso di formaizone online. Il vaccino covid-19: il punto di vista dell'epserto
DESCRIPTION:https://www.opifc.it/corsi-ed-eventi/il-vaccino-covid-19-il-punto-di-vista-dell-esperto/
URL:https://www.ordinemedicifc.it/evento/corso-di-formaizone-online-il-vaccino-covid-19-il-punto-di-vista-dellepserto/
CATEGORIES:Altri eventi
END:VEVENT
BEGIN:VEVENT
DTSTART;TZID=Europe/Paris:20210125T150000
DTEND;TZID=Europe/Paris:20210125T180000
DTSTAMP:20260424T000358
CREATED:20210114T134420Z
LAST-MODIFIED:20210114T134420Z
UID:20977-1611586800-1611597600@www.ordinemedicifc.it
SUMMARY:Corso di formaizone online. Il vaccino covid-19: il punto di vista dell'epserto
DESCRIPTION:https://www.opifc.it/corsi-ed-eventi/il-vaccino-covid-19-il-punto-di-vista-dell-esperto/
URL:https://www.ordinemedicifc.it/evento/corso-di-formaizone-online-il-vaccino-covid-19-il-punto-di-vista-dellepserto-2/
CATEGORIES:Altri eventi
END:VEVENT
BEGIN:VEVENT
DTSTART;TZID=Europe/Paris:20201218T141500
DTEND;TZID=Europe/Paris:20201218T185000
DTSTAMP:20260424T000358
CREATED:20201202T112344Z
LAST-MODIFIED:20201202T112459Z
UID:13512-1608300900-1608317400@www.ordinemedicifc.it
SUMMARY:CHRONICITY: PERCORSI E MODELLI DI CURA IN GASTROENTEROLOGIA
DESCRIPTION:TIPOLOGIA DI FORMAZIONE: WEBINAR \nSCHEDA ISCRIZIONE \nCHRONICITY
URL:https://www.ordinemedicifc.it/evento/chronicity-percorsi-e-modelli-di-cura-in-gastroenterologia/
CATEGORIES:Patrocini
END:VEVENT
BEGIN:VEVENT
DTSTART;TZID=Europe/Paris:20201218T141500
DTEND;TZID=Europe/Paris:20201218T185000
DTSTAMP:20260424T000358
CREATED:20201202T112344Z
LAST-MODIFIED:20201202T112344Z
UID:20976-1608300900-1608317400@www.ordinemedicifc.it
SUMMARY:CHRONICITY: PERCORSI E MODELLI DI CURA IN GASTROENTEROLOGIA
DESCRIPTION:TIPOLOGIA DI FORMAZIONE: WEBINAR \nSCHEDA ISCRIZIONE \nCHRONICITY
URL:https://www.ordinemedicifc.it/evento/chronicity-percorsi-e-modelli-di-cura-in-gastroenterologia-2/
CATEGORIES:Patrocini
END:VEVENT
BEGIN:VEVENT
DTSTART;VALUE=DATE:20200905
DTEND;VALUE=DATE:20200908
DTSTAMP:20260424T000358
CREATED:20200513T083513Z
LAST-MODIFIED:20200513T083513Z
UID:11894-1599267600-1599440399@www.ordinemedicifc.it
SUMMARY:Not(t)e di Respiri
DESCRIPTION:https://www.nottedirespiri.com/
URL:https://www.ordinemedicifc.it/evento/notte-di-respiri/
CATEGORIES:Patrocini
END:VEVENT
BEGIN:VEVENT
DTSTART;VALUE=DATE:20200905
DTEND;VALUE=DATE:20200908
DTSTAMP:20260424T000358
CREATED:20200513T083513Z
LAST-MODIFIED:20200513T083513Z
UID:20975-1599267600-1599440399@www.ordinemedicifc.it
SUMMARY:Not(t)e di Respiri
DESCRIPTION:https://www.nottedirespiri.com/
URL:https://www.ordinemedicifc.it/evento/notte-di-respiri-2/
CATEGORIES:Patrocini
END:VEVENT
BEGIN:VEVENT
DTSTART;TZID=Europe/Paris:20200511T203000
DTEND;TZID=Europe/Paris:20200511T230000
DTSTAMP:20260424T000358
CREATED:20200121T094549Z
LAST-MODIFIED:20200121T094549Z
UID:10702-1589229000-1589238000@www.ordinemedicifc.it
SUMMARY:Cesena: Inquinamento da onde elettromagnetiche ed avvento del 5G
DESCRIPTION:Sala Cacciaguerra\, Viale Bovio 52 \ncontinua
URL:https://www.ordinemedicifc.it/evento/cesena-inquinamento-da-onde-elettromagnetiche-ed-avvento-del-5g/
CATEGORIES:Patrocini
END:VEVENT
BEGIN:VEVENT
DTSTART;TZID=Europe/Paris:20200511T203000
DTEND;TZID=Europe/Paris:20200511T230000
DTSTAMP:20260424T000358
CREATED:20200121T094549Z
LAST-MODIFIED:20200121T094549Z
UID:20971-1589229000-1589238000@www.ordinemedicifc.it
SUMMARY:Cesena: Inquinamento da onde elettromagnetiche ed avvento del 5G
DESCRIPTION:Sala Cacciaguerra\, Viale Bovio 52 \ncontinua
URL:https://www.ordinemedicifc.it/evento/cesena-inquinamento-da-onde-elettromagnetiche-ed-avvento-del-5g-2/
CATEGORIES:Patrocini
END:VEVENT
BEGIN:VEVENT
DTSTART;TZID=Europe/Paris:20200406T200000
DTEND;TZID=Europe/Paris:20200406T230000
DTSTAMP:20260424T000358
CREATED:20200121T094459Z
LAST-MODIFIED:20200121T094459Z
UID:10700-1586203200-1586214000@www.ordinemedicifc.it
SUMMARY:Cesena: inquinamento atmosferico emissioni da traffico e da combustione
DESCRIPTION:Sala Cacciaguerra\, Viale Bovio 52 \ncontinua
URL:https://www.ordinemedicifc.it/evento/cesena-inquinamento-atmosferico-emissioni-da-traffico-e-da-combustione/
CATEGORIES:Patrocini
END:VEVENT
BEGIN:VEVENT
DTSTART;TZID=Europe/Paris:20200406T200000
DTEND;TZID=Europe/Paris:20200406T230000
DTSTAMP:20260424T000358
CREATED:20200121T094459Z
LAST-MODIFIED:20200121T094459Z
UID:20970-1586203200-1586214000@www.ordinemedicifc.it
SUMMARY:Cesena: inquinamento atmosferico emissioni da traffico e da combustione
DESCRIPTION:Sala Cacciaguerra\, Viale Bovio 52 \ncontinua
URL:https://www.ordinemedicifc.it/evento/cesena-inquinamento-atmosferico-emissioni-da-traffico-e-da-combustione-2/
CATEGORIES:Patrocini
END:VEVENT
BEGIN:VEVENT
DTSTART;TZID=Europe/Paris:20200312T203000
DTEND;TZID=Europe/Paris:20200312T233000
DTSTAMP:20260424T000358
CREATED:20200123T090123Z
LAST-MODIFIED:20200123T090123Z
UID:10722-1584045000-1584055800@www.ordinemedicifc.it
SUMMARY:OMCeO FC: PNEI Psico Neuro Endocrino Immunologia
DESCRIPTION:Programma \nREGISTRZIONE ONLINE ENTRO IL GIORNO PRIMA \nCliccare qui per registrarsi come medico convenzionato SSN o dipendente AUSL \nCliccare qui per registrarsi come esterno (non convenzionato del SSN e non dipendente AUSL)
URL:https://www.ordinemedicifc.it/evento/omceo-fc-pnei-psico-neuro-endocrino-immunologia/
LOCATION:Sala Conferenze\, Viale Italia\, 153 - scala C - 1° piano\, Forlì\, Italia
CATEGORIES:OMCeO FC
END:VEVENT
BEGIN:VEVENT
DTSTART;TZID=Europe/Paris:20200312T203000
DTEND;TZID=Europe/Paris:20200312T233000
DTSTAMP:20260424T000358
CREATED:20200123T090123Z
LAST-MODIFIED:20200123T090123Z
UID:20972-1584045000-1584055800@www.ordinemedicifc.it
SUMMARY:OMCeO FC: PNEI Psico Neuro Endocrino Immunologia
DESCRIPTION:Programma \nREGISTRZIONE ONLINE ENTRO IL GIORNO PRIMA \nCliccare qui per registrarsi come medico convenzionato SSN o dipendente AUSL \nCliccare qui per registrarsi come esterno (non convenzionato del SSN e non dipendente AUSL)
URL:https://www.ordinemedicifc.it/evento/omceo-fc-pnei-psico-neuro-endocrino-immunologia-2/
LOCATION:Sala Conferenze\, Viale Italia\, 153 - scala C - 1° piano\, Forlì\, Italia
CATEGORIES:OMCeO FC
END:VEVENT
BEGIN:VEVENT
DTSTART;TZID=Europe/Paris:20200309T203000
DTEND;TZID=Europe/Paris:20200309T230000
DTSTAMP:20260424T000358
CREATED:20200121T094349Z
LAST-MODIFIED:20200121T094349Z
UID:10696-1583785800-1583794800@www.ordinemedicifc.it
SUMMARY:Cesena: Inquinamento e pesticidi in agricoltura; ruolo delll'agricoltura biologica
DESCRIPTION:Sala Cacciaguerra\, Viale Bovio 52 \ncontinua
URL:https://www.ordinemedicifc.it/evento/cesena-inquinamento-e-pesticidi-in-agricoltura-ruolo-delllagricoltura-biologica/
CATEGORIES:Patrocini
END:VEVENT
BEGIN:VEVENT
DTSTART;TZID=Europe/Paris:20200309T203000
DTEND;TZID=Europe/Paris:20200309T230000
DTSTAMP:20260424T000358
CREATED:20200121T094349Z
LAST-MODIFIED:20200121T094349Z
UID:20969-1583785800-1583794800@www.ordinemedicifc.it
SUMMARY:Cesena: Inquinamento e pesticidi in agricoltura; ruolo delll'agricoltura biologica
DESCRIPTION:Sala Cacciaguerra\, Viale Bovio 52 \ncontinua
URL:https://www.ordinemedicifc.it/evento/cesena-inquinamento-e-pesticidi-in-agricoltura-ruolo-delllagricoltura-biologica-2/
CATEGORIES:Patrocini
END:VEVENT
BEGIN:VEVENT
DTSTART;TZID=Europe/Paris:20200222T090000
DTEND;TZID=Europe/Paris:20200222T130000
DTSTAMP:20260424T000358
CREATED:20200123T090515Z
LAST-MODIFIED:20200123T090515Z
UID:20973-1582362000-1582376400@www.ordinemedicifc.it
SUMMARY:OMCeO FC: Progetto Nazionale CAO - AIOP:  “Quali materiali scegliere in protesi fissa?”
DESCRIPTION:Programma \nREGISTRZIONE ONLINE ENTRO IL GIORNO PRIMA \nCliccare qui per registrarsi come medico convenzionato SSN o dipendente AUSL \nCliccare qui per registrarsi come esterno (non convenzionato del SSN e non dipendente AUSL)
URL:https://www.ordinemedicifc.it/evento/omceo-fc-progetto-nazionale-cao-aiop-quali-materiali-scegliere-in-protesi-fissa-2/
LOCATION:Sala Conferenze\, Viale Italia\, 153 - scala C - 1° piano\, Forlì\, Italia
CATEGORIES:OMCeO FC
END:VEVENT
BEGIN:VEVENT
DTSTART;TZID=Europe/Paris:20200222T090000
DTEND;TZID=Europe/Paris:20200222T130000
DTSTAMP:20260424T000358
CREATED:20200123T090515Z
LAST-MODIFIED:20200123T090515Z
UID:10725-1582362000-1582376400@www.ordinemedicifc.it
SUMMARY:OMCeO FC: Progetto Nazionale CAO - AIOP:  “Quali materiali scegliere in protesi fissa?”
DESCRIPTION:Programma \nREGISTRZIONE ONLINE ENTRO IL GIORNO PRIMA \nCliccare qui per registrarsi come medico convenzionato SSN o dipendente AUSL \nCliccare qui per registrarsi come esterno (non convenzionato del SSN e non dipendente AUSL)
URL:https://www.ordinemedicifc.it/evento/omceo-fc-progetto-nazionale-cao-aiop-quali-materiali-scegliere-in-protesi-fissa/
LOCATION:Sala Conferenze\, Viale Italia\, 153 - scala C - 1° piano\, Forlì\, Italia
CATEGORIES:OMCeO FC
END:VEVENT
BEGIN:VEVENT
DTSTART;VALUE=DATE:20200221
DTEND;VALUE=DATE:20200224
DTSTAMP:20260424T000358
CREATED:20200203T080223Z
LAST-MODIFIED:20200203T080223Z
UID:10786-1582246800-1582419599@www.ordinemedicifc.it
SUMMARY:Forlimpopoli: ENDOSCOPY ON CALL: WE RECALL! 21
DESCRIPTION:programma
URL:https://www.ordinemedicifc.it/evento/forlimpopoli-endoscopy-on-call-we-recall-21/
CATEGORIES:Patrocini
END:VEVENT
BEGIN:VEVENT
DTSTART;VALUE=DATE:20200221
DTEND;VALUE=DATE:20200224
DTSTAMP:20260424T000358
CREATED:20200203T080223Z
LAST-MODIFIED:20200203T080223Z
UID:20974-1582246800-1582419599@www.ordinemedicifc.it
SUMMARY:Forlimpopoli: ENDOSCOPY ON CALL: WE RECALL! 21
DESCRIPTION:programma
URL:https://www.ordinemedicifc.it/evento/forlimpopoli-endoscopy-on-call-we-recall-21-2/
CATEGORIES:Patrocini
END:VEVENT
BEGIN:VEVENT
DTSTART;TZID=Europe/Paris:20200213T203000
DTEND;TZID=Europe/Paris:20200213T233000
DTSTAMP:20260424T000358
CREATED:20191218T100248Z
LAST-MODIFIED:20200114T141439Z
UID:10535-1581625800-1581636600@www.ordinemedicifc.it
SUMMARY:OMCeO FC: URGENZE IN ORL
DESCRIPTION:Programma  \nREGISTRZIONE ONLINE ENTRO IL GIORNO PRIMA \nCliccare qui per registrarsi come medico convenzionato SSN o dipendente AUSL \nCliccare qui per registrarsi come esterno (non convenzionato del SSN e non dipendente AUSL)
URL:https://www.ordinemedicifc.it/evento/omceo-fc-urgenze-in-orl/
LOCATION:Sala Conferenze\, Viale Italia\, 153 - scala C - 1° piano\, Forlì\, Italia
CATEGORIES:OMCeO FC
END:VEVENT
BEGIN:VEVENT
DTSTART;TZID=Europe/Paris:20200213T203000
DTEND;TZID=Europe/Paris:20200213T233000
DTSTAMP:20260424T000358
CREATED:20191218T100248Z
LAST-MODIFIED:20191218T100248Z
UID:20966-1581625800-1581636600@www.ordinemedicifc.it
SUMMARY:OMCeO FC: URGENZE IN ORL
DESCRIPTION:Programma  \nREGISTRZIONE ONLINE ENTRO IL GIORNO PRIMA \nCliccare qui per registrarsi come medico convenzionato SSN o dipendente AUSL \nCliccare qui per registrarsi come esterno (non convenzionato del SSN e non dipendente AUSL)
URL:https://www.ordinemedicifc.it/evento/omceo-fc-urgenze-in-orl-2/
LOCATION:Sala Conferenze\, Viale Italia\, 153 - scala C - 1° piano\, Forlì\, Italia
CATEGORIES:OMCeO FC
END:VEVENT
BEGIN:VEVENT
DTSTART;TZID=Europe/Paris:20200210T203000
DTEND;TZID=Europe/Paris:20200210T230000
DTSTAMP:20260424T000358
CREATED:20200121T094300Z
LAST-MODIFIED:20200121T094300Z
UID:10695-1581366600-1581375600@www.ordinemedicifc.it
SUMMARY:Cesena: Inquinamento e cambiamento climatici: effetti sulla salute
DESCRIPTION:Sala Cacciaguerra\, Viale Bovio 52 \ncontinua
URL:https://www.ordinemedicifc.it/evento/cesena-inquinamento-e-cambiamento-climatici-effetti-sulla-salute/
CATEGORIES:Patrocini
END:VEVENT
BEGIN:VEVENT
DTSTART;TZID=Europe/Paris:20200210T203000
DTEND;TZID=Europe/Paris:20200210T230000
DTSTAMP:20260424T000358
CREATED:20200121T094300Z
LAST-MODIFIED:20200121T094300Z
UID:20968-1581366600-1581375600@www.ordinemedicifc.it
SUMMARY:Cesena: Inquinamento e cambiamento climatici: effetti sulla salute
DESCRIPTION:Sala Cacciaguerra\, Viale Bovio 52 \ncontinua
URL:https://www.ordinemedicifc.it/evento/cesena-inquinamento-e-cambiamento-climatici-effetti-sulla-salute-2/
CATEGORIES:Patrocini
END:VEVENT
BEGIN:VEVENT
DTSTART;TZID=Europe/Paris:20200130T203000
DTEND;TZID=Europe/Paris:20200130T233000
DTSTAMP:20260424T000358
CREATED:20191218T100031Z
LAST-MODIFIED:20191218T100031Z
UID:20965-1580416200-1580427000@www.ordinemedicifc.it
SUMMARY:OMCeO FC: Novità in  Chirurgia Senologica
DESCRIPTION:Programma  \nREGISTRZIONE ONLINE ENTRO IL GIORNO PRIMA \nCliccare qui per registrarsi come medico convenzionato SSN o dipendente AUSL \nCliccare qui per registrarsi come esterno (non convenzionato del SSN e non dipendente AUSL)
URL:https://www.ordinemedicifc.it/evento/omceo-fc-novita-in-chirurgia-senologica-2/
LOCATION:Sala Conferenze\, Viale Italia\, 153 - scala C - 1° piano\, Forlì\, Italia
CATEGORIES:OMCeO FC
END:VEVENT
BEGIN:VEVENT
DTSTART;TZID=Europe/Paris:20200130T203000
DTEND;TZID=Europe/Paris:20200130T233000
DTSTAMP:20260424T000358
CREATED:20191218T100031Z
LAST-MODIFIED:20200114T141444Z
UID:10532-1580416200-1580427000@www.ordinemedicifc.it
SUMMARY:OMCeO FC: Novità in  Chirurgia Senologica
DESCRIPTION:Programma  \nREGISTRZIONE ONLINE ENTRO IL GIORNO PRIMA \nCliccare qui per registrarsi come medico convenzionato SSN o dipendente AUSL \nCliccare qui per registrarsi come esterno (non convenzionato del SSN e non dipendente AUSL)
URL:https://www.ordinemedicifc.it/evento/omceo-fc-novita-in-chirurgia-senologica/
LOCATION:Sala Conferenze\, Viale Italia\, 153 - scala C - 1° piano\, Forlì\, Italia
CATEGORIES:OMCeO FC
END:VEVENT
BEGIN:VEVENT
DTSTART;TZID=Europe/Paris:20200116T203000
DTEND;TZID=Europe/Paris:20200116T233000
DTSTAMP:20260424T000358
CREATED:20191218T095241Z
LAST-MODIFIED:20200114T141449Z
UID:10529-1579206600-1579217400@www.ordinemedicifc.it
SUMMARY:OMCeO FC: Integratori di origine vegetale potenzialmente utili  nella Sindrome da Deficit di Attenzione e Iperattività (ADHD)
DESCRIPTION:Programma  \nREGISTRZIONE ONLINE ENTRO IL GIORNO PRIMA \nCliccare qui per registrarsi come medico convenzionato SSN o dipendente AUSL \nCliccare qui per registrarsi come esterno (non convenzionato del SSN e non dipendente AUSL)
URL:https://www.ordinemedicifc.it/evento/omceo-fc-integratori-di-origine-vegetale-potenzialmente-utili-nella-sindrome-da-deficit-di-attenzione-e-iperattivita-adhd/
LOCATION:Sala Conferenze\, Viale Italia\, 153 - scala C - 1° piano\, Forlì\, Italia
CATEGORIES:OMCeO FC
END:VEVENT
END:VCALENDAR