BEGIN:VCALENDAR
VERSION:2.0
PRODID:-//Ordine dei Medici Chirurghi e Odontoiatri di Forl&igrave;-Cesena - ECPv6.15.20//NONSGML v1.0//EN
CALSCALE:GREGORIAN
METHOD:PUBLISH
X-WR-CALNAME:Ordine dei Medici Chirurghi e Odontoiatri di Forl&igrave;-Cesena
X-ORIGINAL-URL:https://www.ordinemedicifc.it
X-WR-CALDESC:Eventi per Ordine dei Medici Chirurghi e Odontoiatri di Forl&igrave;-Cesena
REFRESH-INTERVAL;VALUE=DURATION:PT1H
X-Robots-Tag:noindex
X-PUBLISHED-TTL:PT1H
BEGIN:VTIMEZONE
TZID:Europe/Paris
BEGIN:DAYLIGHT
TZOFFSETFROM:+0100
TZOFFSETTO:+0200
TZNAME:CEST
DTSTART:20180325T010000
END:DAYLIGHT
BEGIN:STANDARD
TZOFFSETFROM:+0200
TZOFFSETTO:+0100
TZNAME:CET
DTSTART:20181028T010000
END:STANDARD
BEGIN:DAYLIGHT
TZOFFSETFROM:+0100
TZOFFSETTO:+0200
TZNAME:CEST
DTSTART:20190331T010000
END:DAYLIGHT
BEGIN:STANDARD
TZOFFSETFROM:+0200
TZOFFSETTO:+0100
TZNAME:CET
DTSTART:20191027T010000
END:STANDARD
BEGIN:DAYLIGHT
TZOFFSETFROM:+0100
TZOFFSETTO:+0200
TZNAME:CEST
DTSTART:20200329T010000
END:DAYLIGHT
BEGIN:STANDARD
TZOFFSETFROM:+0200
TZOFFSETTO:+0100
TZNAME:CET
DTSTART:20201025T010000
END:STANDARD
END:VTIMEZONE
BEGIN:VEVENT
DTSTART;TZID=Europe/Paris:20191205T203000
DTEND;TZID=Europe/Paris:20191205T233000
DTSTAMP:20260424T045421
CREATED:20191120T075929Z
LAST-MODIFIED:20191120T075929Z
UID:20960-1575577800-1575588600@www.ordinemedicifc.it
SUMMARY:OMCeO FC: ECM:  Come\, dove\, quando\, perché!
DESCRIPTION:Programma \nREGISTRZIONE ONLINE ENTRO IL GIORNO PRIMA \nCliccare qui per registrarsi come medico convenzionato SSN o dipendente AUSL \nCliccare qui per registrarsi come esterno (non convenzionato del SSN e non dipendente AUSL)
URL:https://www.ordinemedicifc.it/evento/omceo-fc-ecm-come-dove-quando-perche-2/
LOCATION:Sala Conferenze\, Viale Italia\, 153 - scala C - 1° piano\, Forlì\, Italia
CATEGORIES:OMCeO FC
END:VEVENT
BEGIN:VEVENT
DTSTART;TZID=Europe/Paris:20191203T084500
DTEND;TZID=Europe/Paris:20191203T130000
DTSTAMP:20260424T045421
CREATED:20191125T073956Z
LAST-MODIFIED:20191125T073956Z
UID:10325-1575362700-1575378000@www.ordinemedicifc.it
SUMMARY:L'utilizzo di sostanze pericolose - I quesiti posti dalle imprese
DESCRIPTION:Camera di Commercio della Romagna\, C.so della Repubblica\, 5 \ncontinua
URL:https://www.ordinemedicifc.it/evento/lutilizzo-di-sostanze-pericolose-i-quesiti-posti-dalle-imprese/
CATEGORIES:Altri eventi
END:VEVENT
BEGIN:VEVENT
DTSTART;TZID=Europe/Paris:20191203T084500
DTEND;TZID=Europe/Paris:20191203T130000
DTSTAMP:20260424T045421
CREATED:20191125T073956Z
LAST-MODIFIED:20191125T073956Z
UID:20961-1575362700-1575378000@www.ordinemedicifc.it
SUMMARY:L'utilizzo di sostanze pericolose - I quesiti posti dalle imprese
DESCRIPTION:Camera di Commercio della Romagna\, C.so della Repubblica\, 5 \ncontinua
URL:https://www.ordinemedicifc.it/evento/lutilizzo-di-sostanze-pericolose-i-quesiti-posti-dalle-imprese-2/
CATEGORIES:Altri eventi
END:VEVENT
BEGIN:VEVENT
DTSTART;TZID=Europe/Paris:20191128T203000
DTEND;TZID=Europe/Paris:20191128T233000
DTSTAMP:20260424T045421
CREATED:20191104T112728Z
LAST-MODIFIED:20191104T112728Z
UID:20957-1574973000-1574983800@www.ordinemedicifc.it
SUMMARY:OMCeO FC: Scompenso Cardiaco: la pandemia del terzo millennio Moderne strategie di prevenzione\, follow up e terapia
DESCRIPTION:Programma \n  \nREGISTRZIONE ONLINE ENTRO IL GIORNO PRIMA \nCliccare qui per registrarsi come medico convenzionato SSN o dipendente AUSL \nCliccare qui per registrarsi come esterno (non convenzionato del SSN e non dipendente AUSL)
URL:https://www.ordinemedicifc.it/evento/omceo-fc-scompenso-cardiaco-la-pandemia-del-terzo-millennio-moderne-strategie-di-prevenzione-follow-up-e-terapia-2/
CATEGORIES:OMCeO FC
END:VEVENT
BEGIN:VEVENT
DTSTART;TZID=Europe/Paris:20191128T203000
DTEND;TZID=Europe/Paris:20191128T233000
DTSTAMP:20260424T045421
CREATED:20191104T112728Z
LAST-MODIFIED:20191118T074552Z
UID:10140-1574973000-1574983800@www.ordinemedicifc.it
SUMMARY:OMCeO FC: Scompenso Cardiaco: la pandemia del terzo millennio Moderne strategie di prevenzione\, follow up e terapia
DESCRIPTION:Programma \n  \nREGISTRZIONE ONLINE ENTRO IL GIORNO PRIMA \nCliccare qui per registrarsi come medico convenzionato SSN o dipendente AUSL \nCliccare qui per registrarsi come esterno (non convenzionato del SSN e non dipendente AUSL)
URL:https://www.ordinemedicifc.it/evento/omceo-fc-scompenso-cardiaco-la-pandemia-del-terzo-millennio-moderne-strategie-di-prevenzione-follow-up-e-terapia/
CATEGORIES:OMCeO FC
END:VEVENT
BEGIN:VEVENT
DTSTART;VALUE=DATE:20191127
DTEND;VALUE=DATE:20191129
DTSTAMP:20260424T045421
CREATED:20191125T083034Z
LAST-MODIFIED:20191125T083034Z
UID:10333-1574816400-1574902799@www.ordinemedicifc.it
SUMMARY:Forlì: presentazione la medaglia commemorativa del 160° anniversario della morte del grande chirurgo forlivese Prof. GIORGIO REGNOLI.
DESCRIPTION:Mercoledì 27 Novembre\, alle ore 11\, nella Sala Randi del Comune di Forlì\, verrà presentata la medaglia commemorativa del 160° anniversario della morte del grande chirurgo forlivese Prof. GIORGIO REGNOLI.\nLa medaglia è stata realizzata a cura dell’Associazione Medica Forlivese Giovanni Fontana e verrà presentata da:\nDott. Pier Lorenzo Costa\, medico\nProf. Francesco Bombardi\, scultore
URL:https://www.ordinemedicifc.it/evento/forli-presentazione-la-medaglia-commemorativa-del-160-anniversario-della-morte-del-grande-chirurgo-forlivese-prof-giorgio-regnoli/
CATEGORIES:Altri eventi
END:VEVENT
BEGIN:VEVENT
DTSTART;VALUE=DATE:20191127
DTEND;VALUE=DATE:20191129
DTSTAMP:20260424T045421
CREATED:20191125T083034Z
LAST-MODIFIED:20191125T083034Z
UID:20962-1574816400-1574902799@www.ordinemedicifc.it
SUMMARY:Forlì: presentazione la medaglia commemorativa del 160° anniversario della morte del grande chirurgo forlivese Prof. GIORGIO REGNOLI.
DESCRIPTION:Mercoledì 27 Novembre\, alle ore 11\, nella Sala Randi del Comune di Forlì\, verrà presentata la medaglia commemorativa del 160° anniversario della morte del grande chirurgo forlivese Prof. GIORGIO REGNOLI.\nLa medaglia è stata realizzata a cura dell’Associazione Medica Forlivese Giovanni Fontana e verrà presentata da:\nDott. Pier Lorenzo Costa\, medico\nProf. Francesco Bombardi\, scultore
URL:https://www.ordinemedicifc.it/evento/forli-presentazione-la-medaglia-commemorativa-del-160-anniversario-della-morte-del-grande-chirurgo-forlivese-prof-giorgio-regnoli-2/
CATEGORIES:Altri eventi
END:VEVENT
BEGIN:VEVENT
DTSTART;TZID=Europe/Paris:20191120T140000
DTEND;TZID=Europe/Paris:20191120T180000
DTSTAMP:20260424T045421
CREATED:20191015T133651Z
LAST-MODIFIED:20191022T160904Z
UID:9963-1574258400-1574272800@www.ordinemedicifc.it
SUMMARY:Forlì: Cancellare l’epatite C. Mission Impossible?
DESCRIPTION:Programma
URL:https://www.ordinemedicifc.it/evento/forli-cancellare-lepatite-c-mission-impossible/
LOCATION:Sala Pieratelli\, Ospedale Morgagni-Pierantoni\, Forlì\, FC\, 47121\, Italia
CATEGORIES:Patrocini
END:VEVENT
BEGIN:VEVENT
DTSTART;TZID=Europe/Paris:20191120T140000
DTEND;TZID=Europe/Paris:20191120T180000
DTSTAMP:20260424T045421
CREATED:20191015T133651Z
LAST-MODIFIED:20191015T133651Z
UID:20954-1574258400-1574272800@www.ordinemedicifc.it
SUMMARY:Forlì: Cancellare l’epatite C. Mission Impossible?
DESCRIPTION:Programma
URL:https://www.ordinemedicifc.it/evento/forli-cancellare-lepatite-c-mission-impossible-2/
LOCATION:Sala Pieratelli\, Ospedale Morgagni-Pierantoni\, Forlì\, FC\, 47121\, Italia
CATEGORIES:Patrocini
END:VEVENT
BEGIN:VEVENT
DTSTART;TZID=Europe/Paris:20191116T090000
DTEND;TZID=Europe/Paris:20191116T130000
DTSTAMP:20260424T045421
CREATED:20191028T081225Z
LAST-MODIFIED:20191028T081225Z
UID:10054-1573894800-1573909200@www.ordinemedicifc.it
SUMMARY:OMCeO FC: Enpam oggi e domani\, crescere insieme
DESCRIPTION:Programma \n  \nREGISTRZIONE ONLINE ENTRO IL GIORNO PRIMA \nCliccare qui per registrarsi come medico convenzionato SSN o dipendente AUSL \nCliccare qui per registrarsi come esterno (non convenzionato del SSN e non dipendente AUSL)
URL:https://www.ordinemedicifc.it/evento/omceo-fc-enpam-oggi-e-domani-crescere-insieme/
LOCATION:Sala Conferenze\, Viale Italia\, 153 - scala C - 1° piano\, Forlì\, Italia
CATEGORIES:OMCeO FC
END:VEVENT
BEGIN:VEVENT
DTSTART;TZID=Europe/Paris:20191116T090000
DTEND;TZID=Europe/Paris:20191116T130000
DTSTAMP:20260424T045421
CREATED:20191028T081225Z
LAST-MODIFIED:20191028T081225Z
UID:20955-1573894800-1573909200@www.ordinemedicifc.it
SUMMARY:OMCeO FC: Enpam oggi e domani\, crescere insieme
DESCRIPTION:Programma \n  \nREGISTRZIONE ONLINE ENTRO IL GIORNO PRIMA \nCliccare qui per registrarsi come medico convenzionato SSN o dipendente AUSL \nCliccare qui per registrarsi come esterno (non convenzionato del SSN e non dipendente AUSL)
URL:https://www.ordinemedicifc.it/evento/omceo-fc-enpam-oggi-e-domani-crescere-insieme-2/
LOCATION:Sala Conferenze\, Viale Italia\, 153 - scala C - 1° piano\, Forlì\, Italia
CATEGORIES:OMCeO FC
END:VEVENT
BEGIN:VEVENT
DTSTART;TZID=Europe/Paris:20191113T143000
DTEND;TZID=Europe/Paris:20191113T180000
DTSTAMP:20260424T045421
CREATED:20191105T142117Z
LAST-MODIFIED:20191105T142142Z
UID:10155-1573655400-1573668000@www.ordinemedicifc.it
SUMMARY:La Salute è anche una questione di genere
DESCRIPTION:Mercoledì 13 novembre dalle ore 14.30 alle ore 18.00 al Teatro di Villa Torlonia. \nProgramma
URL:https://www.ordinemedicifc.it/evento/la-salute-e-anche-una-questione-di-genere/
CATEGORIES:Altri eventi
ATTACH;FMTTYPE=image/jpeg:https://www.ordinemedicifc.it/wp-content/uploads/2014/07/notiziario3.jpg
END:VEVENT
BEGIN:VEVENT
DTSTART;TZID=Europe/Paris:20191113T143000
DTEND;TZID=Europe/Paris:20191113T180000
DTSTAMP:20260424T045421
CREATED:20191105T142117Z
LAST-MODIFIED:20191105T142117Z
UID:20958-1573655400-1573668000@www.ordinemedicifc.it
SUMMARY:La Salute è anche una questione di genere
DESCRIPTION:Mercoledì 13 novembre dalle ore 14.30 alle ore 18.00 al Teatro di Villa Torlonia. \nProgramma
URL:https://www.ordinemedicifc.it/evento/la-salute-e-anche-una-questione-di-genere-2/
CATEGORIES:Altri eventi
ATTACH;FMTTYPE=image/jpeg:https://www.ordinemedicifc.it/wp-content/uploads/2014/07/notiziario3.jpg
END:VEVENT
BEGIN:VEVENT
DTSTART;TZID=Europe/Paris:20191109T083000
DTEND;TZID=Europe/Paris:20191109T143000
DTSTAMP:20260424T045421
CREATED:20190917T140608Z
LAST-MODIFIED:20190917T140608Z
UID:20949-1573288200-1573309800@www.ordinemedicifc.it
SUMMARY:SGUARDO ETICO NELLE CURE PALLIATIVE
DESCRIPTION:3° Modulo. La Sedazione Palliativa: Aspetti Etico-Clinici \nLocandina Corso etica 2019 \nInformazioni Corso Etica
URL:https://www.ordinemedicifc.it/evento/sguardo-etico-nelle-cure-palliative-6-2/
CATEGORIES:Altri eventi
END:VEVENT
BEGIN:VEVENT
DTSTART;TZID=Europe/Paris:20191109T083000
DTEND;TZID=Europe/Paris:20191109T143000
DTSTAMP:20260424T045421
CREATED:20190917T140608Z
LAST-MODIFIED:20190917T140608Z
UID:9691-1573288200-1573309800@www.ordinemedicifc.it
SUMMARY:SGUARDO ETICO NELLE CURE PALLIATIVE
DESCRIPTION:3° Modulo. La Sedazione Palliativa: Aspetti Etico-Clinici \nLocandina Corso etica 2019 \nInformazioni Corso Etica
URL:https://www.ordinemedicifc.it/evento/sguardo-etico-nelle-cure-palliative-6/
CATEGORIES:Altri eventi
END:VEVENT
BEGIN:VEVENT
DTSTART;TZID=Europe/Paris:20191109T083000
DTEND;TZID=Europe/Paris:20191109T123000
DTSTAMP:20260424T045421
CREATED:20190910T133958Z
LAST-MODIFIED:20190910T133958Z
UID:20941-1573288200-1573302600@www.ordinemedicifc.it
SUMMARY:OMCeO FC: Analisi ed interpretazione del Microbiota in chiave clinica. Stato dell’arte
DESCRIPTION:Programma \nREGISTRZIONE ONLINE ENTRO IL GIORNO PRIMA \nCliccare qui per registrarsi come medico convenzionato SSN o dipendente AUSL \nCliccare qui per registrarsi come esterno (non convenzionato del SSN e non dipendente AUSL)
URL:https://www.ordinemedicifc.it/evento/omceo-fc-analisi-ed-interpretazione-del-microbiota-in-chiave-clinica-stato-dellarte-2/
LOCATION:Sala Conferenze\, Viale Italia\, 153 - scala C - 1° piano\, Forlì\, Italia
CATEGORIES:OMCeO FC
END:VEVENT
BEGIN:VEVENT
DTSTART;TZID=Europe/Paris:20191109T083000
DTEND;TZID=Europe/Paris:20191109T123000
DTSTAMP:20260424T045421
CREATED:20190910T133958Z
LAST-MODIFIED:20190910T134054Z
UID:9647-1573288200-1573302600@www.ordinemedicifc.it
SUMMARY:OMCeO FC: Analisi ed interpretazione del Microbiota in chiave clinica. Stato dell’arte
DESCRIPTION:Programma \nREGISTRZIONE ONLINE ENTRO IL GIORNO PRIMA \nCliccare qui per registrarsi come medico convenzionato SSN o dipendente AUSL \nCliccare qui per registrarsi come esterno (non convenzionato del SSN e non dipendente AUSL)
URL:https://www.ordinemedicifc.it/evento/omceo-fc-analisi-ed-interpretazione-del-microbiota-in-chiave-clinica-stato-dellarte/
LOCATION:Sala Conferenze\, Viale Italia\, 153 - scala C - 1° piano\, Forlì\, Italia
CATEGORIES:OMCeO FC
END:VEVENT
BEGIN:VEVENT
DTSTART;TZID=Europe/Paris:20191108T143000
DTEND;TZID=Europe/Paris:20191108T183000
DTSTAMP:20260424T045421
CREATED:20190917T140524Z
LAST-MODIFIED:20190917T140524Z
UID:9689-1573223400-1573237800@www.ordinemedicifc.it
SUMMARY:SGUARDO ETICO NELLE CURE PALLIATIVE
DESCRIPTION:3° Modulo. La Sedazione Palliativa: Aspetti Etico-Clinici \nHospice Forlimpopoli \nLocandina Corso etica 2019 \nInformazioni Corso Etica
URL:https://www.ordinemedicifc.it/evento/sguardo-etico-nelle-cure-palliative-5/
CATEGORIES:Altri eventi
END:VEVENT
BEGIN:VEVENT
DTSTART;TZID=Europe/Paris:20191108T143000
DTEND;TZID=Europe/Paris:20191108T183000
DTSTAMP:20260424T045421
CREATED:20190917T140524Z
LAST-MODIFIED:20190917T140524Z
UID:20948-1573223400-1573237800@www.ordinemedicifc.it
SUMMARY:SGUARDO ETICO NELLE CURE PALLIATIVE
DESCRIPTION:3° Modulo. La Sedazione Palliativa: Aspetti Etico-Clinici \nHospice Forlimpopoli \nLocandina Corso etica 2019 \nInformazioni Corso Etica
URL:https://www.ordinemedicifc.it/evento/sguardo-etico-nelle-cure-palliative-5-2/
CATEGORIES:Altri eventi
END:VEVENT
BEGIN:VEVENT
DTSTART;TZID=Europe/Paris:20191107T083000
DTEND;TZID=Europe/Paris:20191107T180000
DTSTAMP:20260424T045421
CREATED:20190917T065055Z
LAST-MODIFIED:20191010T064214Z
UID:9672-1573115400-1573149600@www.ordinemedicifc.it
SUMMARY:Forlì: IBD Care Experience
DESCRIPTION:Programma
URL:https://www.ordinemedicifc.it/evento/forli-ibd-care-experience/
LOCATION:Sala Pieratelli\, Ospedale Morgagni-Pierantoni\, Forlì\, FC\, 47121\, Italia
CATEGORIES:Patrocini
END:VEVENT
BEGIN:VEVENT
DTSTART;TZID=Europe/Paris:20191107T083000
DTEND;TZID=Europe/Paris:20191107T180000
DTSTAMP:20260424T045421
CREATED:20190917T065055Z
LAST-MODIFIED:20190917T065055Z
UID:20942-1573115400-1573149600@www.ordinemedicifc.it
SUMMARY:Forlì: IBD Care Experience
DESCRIPTION:Programma
URL:https://www.ordinemedicifc.it/evento/forli-ibd-care-experience-2/
LOCATION:Sala Pieratelli\, Ospedale Morgagni-Pierantoni\, Forlì\, FC\, 47121\, Italia
CATEGORIES:Patrocini
END:VEVENT
BEGIN:VEVENT
DTSTART;TZID=Europe/Paris:20191026T083000
DTEND;TZID=Europe/Paris:20191026T133000
DTSTAMP:20260424T045421
CREATED:20190919T135149Z
LAST-MODIFIED:20190919T140249Z
UID:9770-1572078600-1572096600@www.ordinemedicifc.it
SUMMARY:Forlì: Nuove prospettive della chirurgia protesica ortopedica:  indicazioni\, tecnologie de materiali e approcci chirurgici
DESCRIPTION:Programma e scheda di iscrizione
URL:https://www.ordinemedicifc.it/evento/forli-nuove-prospettive-della-chirurgia-protesica-ortopedica-indicazioni-tecnologie-de-materiali-e-approcci-chirurgici/
LOCATION:Sala Conferenze\, Viale Italia\, 153 - scala C - 1° piano\, Forlì\, Italia
CATEGORIES:Patrocini
END:VEVENT
BEGIN:VEVENT
DTSTART;TZID=Europe/Paris:20191026T083000
DTEND;TZID=Europe/Paris:20191026T133000
DTSTAMP:20260424T045421
CREATED:20190919T135149Z
LAST-MODIFIED:20190919T135149Z
UID:20950-1572078600-1572096600@www.ordinemedicifc.it
SUMMARY:Forlì: Nuove prospettive della chirurgia protesica ortopedica:  indicazioni\, tecnologie de materiali e approcci chirurgici
DESCRIPTION:Programma e scheda di iscrizione
URL:https://www.ordinemedicifc.it/evento/forli-nuove-prospettive-della-chirurgia-protesica-ortopedica-indicazioni-tecnologie-de-materiali-e-approcci-chirurgici-2/
LOCATION:Sala Conferenze\, Viale Italia\, 153 - scala C - 1° piano\, Forlì\, Italia
CATEGORIES:Patrocini
END:VEVENT
BEGIN:VEVENT
DTSTART;TZID=Europe/Paris:20191026T083000
DTEND;TZID=Europe/Paris:20191026T123000
DTSTAMP:20260424T045421
CREATED:20190917T140425Z
LAST-MODIFIED:20190917T140425Z
UID:9687-1572078600-1572093000@www.ordinemedicifc.it
SUMMARY:SGUARDO ETICO NELLE CURE PALLIATIVE
DESCRIPTION:2° Modulo. La Consensualità: Consenso Informato\, Pianificazione Condivisa Delle Cure (PCC)\,\nDisposizioni Anticipate di Trattamento (DAT) \nRavenna Presidio Ospedaliero \nPadiglione DEA- 7° piano \nLocandina Corso etica 2019 \nInformazioni Corso Etica
URL:https://www.ordinemedicifc.it/evento/sguardo-etico-nelle-cure-palliative-4/
CATEGORIES:Altri eventi
END:VEVENT
BEGIN:VEVENT
DTSTART;TZID=Europe/Paris:20191026T083000
DTEND;TZID=Europe/Paris:20191026T123000
DTSTAMP:20260424T045421
CREATED:20190917T140425Z
LAST-MODIFIED:20190917T140425Z
UID:20947-1572078600-1572093000@www.ordinemedicifc.it
SUMMARY:SGUARDO ETICO NELLE CURE PALLIATIVE
DESCRIPTION:2° Modulo. La Consensualità: Consenso Informato\, Pianificazione Condivisa Delle Cure (PCC)\,\nDisposizioni Anticipate di Trattamento (DAT) \nRavenna Presidio Ospedaliero \nPadiglione DEA- 7° piano \nLocandina Corso etica 2019 \nInformazioni Corso Etica
URL:https://www.ordinemedicifc.it/evento/sguardo-etico-nelle-cure-palliative-4-2/
CATEGORIES:Altri eventi
END:VEVENT
BEGIN:VEVENT
DTSTART;TZID=Europe/Paris:20191025T143000
DTEND;TZID=Europe/Paris:20191025T183000
DTSTAMP:20260424T045421
CREATED:20190917T140333Z
LAST-MODIFIED:20190917T140333Z
UID:9685-1572013800-1572028200@www.ordinemedicifc.it
SUMMARY:SGUARDO ETICO NELLE CURE PALLIATIVE
DESCRIPTION:2° Modulo. La Consensualità: Consenso Informato\, Pianificazione Condivisa Delle Cure (PCC)\,\nDisposizioni Anticipate di Trattamento (DAT) \nHospice Forlimpopoli \nLocandina Corso etica 2019 \nInformazioni Corso Etica
URL:https://www.ordinemedicifc.it/evento/sguardo-etico-nelle-cure-palliative-3/
CATEGORIES:Altri eventi
END:VEVENT
BEGIN:VEVENT
DTSTART;TZID=Europe/Paris:20191025T143000
DTEND;TZID=Europe/Paris:20191025T183000
DTSTAMP:20260424T045421
CREATED:20190917T140333Z
LAST-MODIFIED:20190917T140333Z
UID:20946-1572013800-1572028200@www.ordinemedicifc.it
SUMMARY:SGUARDO ETICO NELLE CURE PALLIATIVE
DESCRIPTION:2° Modulo. La Consensualità: Consenso Informato\, Pianificazione Condivisa Delle Cure (PCC)\,\nDisposizioni Anticipate di Trattamento (DAT) \nHospice Forlimpopoli \nLocandina Corso etica 2019 \nInformazioni Corso Etica
URL:https://www.ordinemedicifc.it/evento/sguardo-etico-nelle-cure-palliative-3-2/
CATEGORIES:Altri eventi
END:VEVENT
BEGIN:VEVENT
DTSTART;TZID=Europe/Paris:20191024T200000
DTEND;TZID=Europe/Paris:20191024T230000
DTSTAMP:20260424T045421
CREATED:20190910T133625Z
LAST-MODIFIED:20190910T133745Z
UID:9642-1571947200-1571958000@www.ordinemedicifc.it
SUMMARY:OMCeO FC: Agopuntura e fitoterapia cinese: prospettive per una medicina integrata
DESCRIPTION:Programma \nREGISTRZIONE ONLINE ENTRO IL GIORNO PRIMA \nCliccare qui per registrarsi come medico convenzionato SSN o dipendente AUSL \nCliccare qui per registrarsi come esterno (non convenzionato del SSN e non dipendente AUSL)
URL:https://www.ordinemedicifc.it/evento/omceo-fc-agopuntura-e-fitoterapia-cinese-prospettive-per-una-medicina-integrata/
LOCATION:Sala Conferenze\, Viale Italia\, 153 - scala C - 1° piano\, Forlì\, Italia
CATEGORIES:OMCeO FC
END:VEVENT
BEGIN:VEVENT
DTSTART;TZID=Europe/Paris:20191024T200000
DTEND;TZID=Europe/Paris:20191024T230000
DTSTAMP:20260424T045421
CREATED:20190910T133625Z
LAST-MODIFIED:20190910T133625Z
UID:20940-1571947200-1571958000@www.ordinemedicifc.it
SUMMARY:OMCeO FC: Agopuntura e fitoterapia cinese: prospettive per una medicina integrata
DESCRIPTION:Programma \nREGISTRZIONE ONLINE ENTRO IL GIORNO PRIMA \nCliccare qui per registrarsi come medico convenzionato SSN o dipendente AUSL \nCliccare qui per registrarsi come esterno (non convenzionato del SSN e non dipendente AUSL)
URL:https://www.ordinemedicifc.it/evento/omceo-fc-agopuntura-e-fitoterapia-cinese-prospettive-per-una-medicina-integrata-2/
LOCATION:Sala Conferenze\, Viale Italia\, 153 - scala C - 1° piano\, Forlì\, Italia
CATEGORIES:OMCeO FC
END:VEVENT
BEGIN:VEVENT
DTSTART;TZID=Europe/Paris:20191019T083000
DTEND;TZID=Europe/Paris:20191019T123000
DTSTAMP:20260424T045421
CREATED:20190925T073434Z
LAST-MODIFIED:20190925T073434Z
UID:9823-1571473800-1571488200@www.ordinemedicifc.it
SUMMARY:OMCeO FC: LE OSTEONECROSI  DELLE OSSA MASCELLARI  DA FARMACI (MRONJ)
DESCRIPTION:Programma \nREGISTRZIONE ONLINE ENTRO IL GIORNO PRIMA \nCliccare qui per registrarsi come medico convenzionato SSN o dipendente AUSL \nCliccare qui per registrarsi come esterno (non convenzionato del SSN e non dipendente AUSL)
URL:https://www.ordinemedicifc.it/evento/omceo-fc-le-osteonecrosi-delle-ossa-mascellari-da-farmaci-mronj/
LOCATION:Sala Conferenze\, Viale Italia\, 153 - scala C - 1° piano\, Forlì\, Italia
CATEGORIES:OMCeO FC
END:VEVENT
END:VCALENDAR