BEGIN:VCALENDAR
VERSION:2.0
PRODID:-//Ordine dei Medici Chirurghi e Odontoiatri di Forl&igrave;-Cesena - ECPv6.15.20//NONSGML v1.0//EN
CALSCALE:GREGORIAN
METHOD:PUBLISH
X-WR-CALNAME:Ordine dei Medici Chirurghi e Odontoiatri di Forl&igrave;-Cesena
X-ORIGINAL-URL:https://www.ordinemedicifc.it
X-WR-CALDESC:Eventi per Ordine dei Medici Chirurghi e Odontoiatri di Forl&igrave;-Cesena
REFRESH-INTERVAL;VALUE=DURATION:PT1H
X-Robots-Tag:noindex
X-PUBLISHED-TTL:PT1H
BEGIN:VTIMEZONE
TZID:Europe/Paris
BEGIN:DAYLIGHT
TZOFFSETFROM:+0100
TZOFFSETTO:+0200
TZNAME:CEST
DTSTART:20180325T010000
END:DAYLIGHT
BEGIN:STANDARD
TZOFFSETFROM:+0200
TZOFFSETTO:+0100
TZNAME:CET
DTSTART:20181028T010000
END:STANDARD
BEGIN:DAYLIGHT
TZOFFSETFROM:+0100
TZOFFSETTO:+0200
TZNAME:CEST
DTSTART:20190331T010000
END:DAYLIGHT
BEGIN:STANDARD
TZOFFSETFROM:+0200
TZOFFSETTO:+0100
TZNAME:CET
DTSTART:20191027T010000
END:STANDARD
BEGIN:DAYLIGHT
TZOFFSETFROM:+0100
TZOFFSETTO:+0200
TZNAME:CEST
DTSTART:20200329T010000
END:DAYLIGHT
BEGIN:STANDARD
TZOFFSETFROM:+0200
TZOFFSETTO:+0100
TZNAME:CET
DTSTART:20201025T010000
END:STANDARD
END:VTIMEZONE
BEGIN:VEVENT
DTSTART;TZID=Europe/Paris:20191005T083000
DTEND;TZID=Europe/Paris:20191005T123000
DTSTAMP:20260424T095607
CREATED:20190917T140203Z
LAST-MODIFIED:20190917T140203Z
UID:20945-1570264200-1570278600@www.ordinemedicifc.it
SUMMARY:SGUARDO ETICO NELLE CURE PALLIATIVE
DESCRIPTION:1° Modulo. \nIntroduzione: Definizioni\, Principi Etici\, Criterio di Proporzionalità\, Limitazione Terapeutica \nRavenna Presidio Ospedaliero\nPadiglione DEA- 7° piano \nLocandina Corso etica 2019 \nInformazioni Corso Etica
URL:https://www.ordinemedicifc.it/evento/sguardo-etico-nelle-cure-palliative-2-2/
CATEGORIES:Altri eventi
END:VEVENT
BEGIN:VEVENT
DTSTART;TZID=Europe/Paris:20191004T143000
DTEND;TZID=Europe/Paris:20191004T183000
DTSTAMP:20260424T095607
CREATED:20190917T140039Z
LAST-MODIFIED:20190917T140039Z
UID:20944-1570199400-1570213800@www.ordinemedicifc.it
SUMMARY:SGUARDO ETICO NELLE CURE PALLIATIVE
DESCRIPTION:1° Modulo. \nIntroduzione: Definizioni\, Principi Etici\, Criterio di Proporzionalità\, Limitazione Terapeutica \nHospice Forlimpopoli \nInformazioni Corso Etica \nLocandina Corso etica 2019 \n 
URL:https://www.ordinemedicifc.it/evento/sguardo-etico-nelle-cure-palliative-7/
CATEGORIES:Altri eventi
END:VEVENT
BEGIN:VEVENT
DTSTART;TZID=Europe/Paris:20191004T143000
DTEND;TZID=Europe/Paris:20191004T183000
DTSTAMP:20260424T095607
CREATED:20190917T140039Z
LAST-MODIFIED:20190917T140039Z
UID:9679-1570199400-1570213800@www.ordinemedicifc.it
SUMMARY:SGUARDO ETICO NELLE CURE PALLIATIVE
DESCRIPTION:1° Modulo. \nIntroduzione: Definizioni\, Principi Etici\, Criterio di Proporzionalità\, Limitazione Terapeutica \nHospice Forlimpopoli \nInformazioni Corso Etica \nLocandina Corso etica 2019 \n 
URL:https://www.ordinemedicifc.it/evento/sguardo-etico-nelle-cure-palliative/
CATEGORIES:Altri eventi
END:VEVENT
BEGIN:VEVENT
DTSTART;TZID=Europe/Paris:20191003T203000
DTEND;TZID=Europe/Paris:20191003T233000
DTSTAMP:20260424T095607
CREATED:20190827T124849Z
LAST-MODIFIED:20190910T133508Z
UID:9577-1570134600-1570145400@www.ordinemedicifc.it
SUMMARY:OMCeO FC: LA CHIRURGIA PROCTOLOGICA  A CICLO BREVE
DESCRIPTION:Programma \nREGISTRZIONE ONLINE ENTRO IL GIORNO PRIMA \nCliccare qui per registrarsi come medico convenzionato SSN o dipendente AUSL \nCliccare qui per registrarsi come esterno (non convenzionato del SSN e non dipendente AUSL)
URL:https://www.ordinemedicifc.it/evento/la-chirurgia-proctologica-a-ciclo-breve/
LOCATION:Sala Conferenze\, Viale Italia\, 153 - scala C - 1° piano\, Forlì\, Italia
CATEGORIES:OMCeO FC
END:VEVENT
BEGIN:VEVENT
DTSTART;TZID=Europe/Paris:20191003T203000
DTEND;TZID=Europe/Paris:20191003T233000
DTSTAMP:20260424T095607
CREATED:20190827T124849Z
LAST-MODIFIED:20190827T124849Z
UID:20938-1570134600-1570145400@www.ordinemedicifc.it
SUMMARY:OMCeO FC: LA CHIRURGIA PROCTOLOGICA  A CICLO BREVE
DESCRIPTION:Programma \nREGISTRZIONE ONLINE ENTRO IL GIORNO PRIMA \nCliccare qui per registrarsi come medico convenzionato SSN o dipendente AUSL \nCliccare qui per registrarsi come esterno (non convenzionato del SSN e non dipendente AUSL)
URL:https://www.ordinemedicifc.it/evento/la-chirurgia-proctologica-a-ciclo-breve-2/
LOCATION:Sala Conferenze\, Viale Italia\, 153 - scala C - 1° piano\, Forlì\, Italia
CATEGORIES:OMCeO FC
END:VEVENT
BEGIN:VEVENT
DTSTART;VALUE=DATE:20190921
DTEND;VALUE=DATE:20190923
DTSTAMP:20260424T095607
CREATED:20190311T083212Z
LAST-MODIFIED:20190311T083212Z
UID:8729-1569027600-1569113999@www.ordinemedicifc.it
SUMMARY:Cesena: Progetto Ematologia Romagna
DESCRIPTION:Programma \nIscrizione
URL:https://www.ordinemedicifc.it/evento/cesena-progetto-ematologia-romagna/
CATEGORIES:Altri eventi
END:VEVENT
BEGIN:VEVENT
DTSTART;VALUE=DATE:20190921
DTEND;VALUE=DATE:20190923
DTSTAMP:20260424T095607
CREATED:20190311T083212Z
LAST-MODIFIED:20190311T083212Z
UID:20919-1569027600-1569113999@www.ordinemedicifc.it
SUMMARY:Cesena: Progetto Ematologia Romagna
DESCRIPTION:Programma \nIscrizione
URL:https://www.ordinemedicifc.it/evento/cesena-progetto-ematologia-romagna-2/
CATEGORIES:Altri eventi
END:VEVENT
BEGIN:VEVENT
DTSTART;TZID=Europe/Paris:20190919T200000
DTEND;TZID=Europe/Paris:20190919T233000
DTSTAMP:20260424T095607
CREATED:20190704T073854Z
LAST-MODIFIED:20190704T073854Z
UID:9407-1568923200-1568935800@www.ordinemedicifc.it
SUMMARY:OMCEO FC: 5G: sarà un MARE di Onde Elettromagnetiche “E il naufragar m'è dolce in questo mare”??
DESCRIPTION:Programma \nREGISTRZIONE ONLINE ENTRO IL GIORNO PRIMA \nCliccare qui per registrarsi come medico convenzionato SSN o dipendente AUSL \nCliccare qui per registrarsi come esterno (non convenzionato del SSN e non dipendente AUSL)
URL:https://www.ordinemedicifc.it/evento/omceo-fc-5g-sara-un-mare-di-onde-elettromagnetiche-e-il-naufragar-me-dolce-in-questo-mare/
CATEGORIES:OMCeO FC
END:VEVENT
BEGIN:VEVENT
DTSTART;TZID=Europe/Paris:20190919T200000
DTEND;TZID=Europe/Paris:20190919T233000
DTSTAMP:20260424T095607
CREATED:20190704T073854Z
LAST-MODIFIED:20190704T073854Z
UID:20937-1568923200-1568935800@www.ordinemedicifc.it
SUMMARY:OMCEO FC: 5G: sarà un MARE di Onde Elettromagnetiche “E il naufragar m'è dolce in questo mare”??
DESCRIPTION:Programma \nREGISTRZIONE ONLINE ENTRO IL GIORNO PRIMA \nCliccare qui per registrarsi come medico convenzionato SSN o dipendente AUSL \nCliccare qui per registrarsi come esterno (non convenzionato del SSN e non dipendente AUSL)
URL:https://www.ordinemedicifc.it/evento/omceo-fc-5g-sara-un-mare-di-onde-elettromagnetiche-e-il-naufragar-me-dolce-in-questo-mare-2/
CATEGORIES:OMCeO FC
END:VEVENT
BEGIN:VEVENT
DTSTART;TZID=Europe/Paris:20190905T200000
DTEND;TZID=Europe/Paris:20190905T233000
DTSTAMP:20260424T095607
CREATED:20190617T061726Z
LAST-MODIFIED:20190617T062212Z
UID:9306-1567713600-1567726200@www.ordinemedicifc.it
SUMMARY:OMCeO FC: La patologia orale nella pratica quotidiana
DESCRIPTION:Programma \nREGISTRZIONE ONLINE ENTRO IL GIORNO PRIMA \nCliccare qui per registrarsi come medico convenzionato SSN o dipendente AUSL \nCliccare qui per registrarsi come esterno (non convenzionato del SSN e non dipendente AUSL)
URL:https://www.ordinemedicifc.it/evento/omceo-fc-la-patologia-orale-nella-pratica-quotidiana/
LOCATION:Sala Conferenze\, Viale Italia\, 153 - scala C - 1° piano\, Forlì\, Italia
CATEGORIES:OMCeO FC
END:VEVENT
BEGIN:VEVENT
DTSTART;TZID=Europe/Paris:20190905T200000
DTEND;TZID=Europe/Paris:20190905T233000
DTSTAMP:20260424T095607
CREATED:20190617T061726Z
LAST-MODIFIED:20190617T061726Z
UID:20935-1567713600-1567726200@www.ordinemedicifc.it
SUMMARY:OMCeO FC: La patologia orale nella pratica quotidiana
DESCRIPTION:Programma \nREGISTRZIONE ONLINE ENTRO IL GIORNO PRIMA \nCliccare qui per registrarsi come medico convenzionato SSN o dipendente AUSL \nCliccare qui per registrarsi come esterno (non convenzionato del SSN e non dipendente AUSL)
URL:https://www.ordinemedicifc.it/evento/omceo-fc-la-patologia-orale-nella-pratica-quotidiana-2/
LOCATION:Sala Conferenze\, Viale Italia\, 153 - scala C - 1° piano\, Forlì\, Italia
CATEGORIES:OMCeO FC
END:VEVENT
BEGIN:VEVENT
DTSTART;VALUE=DATE:20190718
DTEND;VALUE=DATE:20190720
DTSTAMP:20260424T095607
CREATED:20190620T095010Z
LAST-MODIFIED:20190620T095010Z
UID:20936-1563411600-1563497999@www.ordinemedicifc.it
SUMMARY:Castrocaro Terme: Serata di Gala in onore dei Medici di Medicina Generale della Romagna
DESCRIPTION:Padiglione delle Feste del Grand Hotel Castrocaro\nViale Marconi 14/16\, Castrocaro Terme (FC) \nper prenotazioni: dirgen@termedicastrocaro.it \nInvito solo MMG e PLS
URL:https://www.ordinemedicifc.it/evento/castrocaro-terme-serata-di-gala-in-onore-dei-medici-di-medicina-generale-della-romagna-2/
CATEGORIES:Altri eventi
END:VEVENT
BEGIN:VEVENT
DTSTART;VALUE=DATE:20190718
DTEND;VALUE=DATE:20190720
DTSTAMP:20260424T095607
CREATED:20190620T095010Z
LAST-MODIFIED:20190620T095010Z
UID:9336-1563411600-1563497999@www.ordinemedicifc.it
SUMMARY:Castrocaro Terme: Serata di Gala in onore dei Medici di Medicina Generale della Romagna
DESCRIPTION:Padiglione delle Feste del Grand Hotel Castrocaro\nViale Marconi 14/16\, Castrocaro Terme (FC) \nper prenotazioni: dirgen@termedicastrocaro.it \nInvito solo MMG e PLS
URL:https://www.ordinemedicifc.it/evento/castrocaro-terme-serata-di-gala-in-onore-dei-medici-di-medicina-generale-della-romagna/
CATEGORIES:Altri eventi
END:VEVENT
BEGIN:VEVENT
DTSTART;TZID=Europe/Paris:20190619T140000
DTEND;TZID=Europe/Paris:20190619T160000
DTSTAMP:20260424T095607
CREATED:20190607T112450Z
LAST-MODIFIED:20190607T112450Z
UID:20933-1560952800-1560960000@www.ordinemedicifc.it
SUMMARY:Forlì: Ruolo del Volontariato\, Dovere della Solidarietà\, Spirito di Cooperazione
DESCRIPTION:Programma
URL:https://www.ordinemedicifc.it/evento/forli-ruolo-del-volontariato-dovere-della-solidarieta-spirito-di-cooperazione-2/
LOCATION:Sala Pieratelli\, Ospedale Morgagni-Pierantoni\, Forlì\, FC\, 47121\, Italia
CATEGORIES:Altri eventi
END:VEVENT
BEGIN:VEVENT
DTSTART;TZID=Europe/Paris:20190619T140000
DTEND;TZID=Europe/Paris:20190619T160000
DTSTAMP:20260424T095607
CREATED:20190607T112450Z
LAST-MODIFIED:20190607T112450Z
UID:9278-1560952800-1560960000@www.ordinemedicifc.it
SUMMARY:Forlì: Ruolo del Volontariato\, Dovere della Solidarietà\, Spirito di Cooperazione
DESCRIPTION:Programma
URL:https://www.ordinemedicifc.it/evento/forli-ruolo-del-volontariato-dovere-della-solidarieta-spirito-di-cooperazione/
LOCATION:Sala Pieratelli\, Ospedale Morgagni-Pierantoni\, Forlì\, FC\, 47121\, Italia
CATEGORIES:Altri eventi
END:VEVENT
BEGIN:VEVENT
DTSTART;VALUE=DATE:20190615
DTEND;VALUE=DATE:20190617
DTSTAMP:20260424T095607
CREATED:20190507T150007Z
LAST-MODIFIED:20190508T094030Z
UID:9072-1560560400-1560646799@www.ordinemedicifc.it
SUMMARY:Faenza: Uso razionale antibiotici e prevenzione dell’insorgenza di antibiotico resistenza
DESCRIPTION:SAN PIER DAMIANO HOSPITAL- AREA FORMAZIONE \nPROGRAMMA
URL:https://www.ordinemedicifc.it/evento/faenza-uso-razionale-antibiotici-e-prevenzione-dellinsorgenza-di-antibiotico-resistenza/
CATEGORIES:Patrocini
END:VEVENT
BEGIN:VEVENT
DTSTART;VALUE=DATE:20190615
DTEND;VALUE=DATE:20190617
DTSTAMP:20260424T095607
CREATED:20190507T150007Z
LAST-MODIFIED:20190507T150007Z
UID:20932-1560560400-1560646799@www.ordinemedicifc.it
SUMMARY:Faenza: Uso razionale antibiotici e prevenzione dell’insorgenza di antibiotico resistenza
DESCRIPTION:SAN PIER DAMIANO HOSPITAL- AREA FORMAZIONE \nPROGRAMMA
URL:https://www.ordinemedicifc.it/evento/faenza-uso-razionale-antibiotici-e-prevenzione-dellinsorgenza-di-antibiotico-resistenza-2/
CATEGORIES:Patrocini
END:VEVENT
BEGIN:VEVENT
DTSTART;TZID=Europe/Paris:20190613T080000
DTEND;TZID=Europe/Paris:20190613T170000
DTSTAMP:20260424T095607
CREATED:20190613T062439Z
LAST-MODIFIED:20190613T062439Z
UID:9295-1560412800-1560445200@www.ordinemedicifc.it
SUMMARY:Assistenza Formazione Ricerca. La nuova Rete Locale di Cure Palliative (RLCP) della Romagna
DESCRIPTION:Programma \nSala riunioni DEA-7° Piano\, Presidio ospedaliero\, Viale Vincenzo Randi 5- Rave \nLa giornata prevede l’utilizzo di strumenti di videoconferenza\, donati alla Rete di Cure Palliative\, pertanto sarà possibile seguire la formazione c/o gli Hospice di Savignano sul Rubicone\, Forlimpopoli\, Lugo\, Rimini. \nPertanto per iscriversi i codici delle edizioni del corso: \n\n\n\n\n\n\n\n\n\n\nCodice\nAula Utilizzata\nDecodifica di Aula Utilizzata\nSede Corso\nDecodifica di Sede Corso\nNr. Partecipanti\n\n\n22230.1\n61\nRavenna – Sala Riunioni DEA – Presidio Ospedaliero di Ravenna – Viale Randi 5 – 7° Piano\n39014\nRAVENNA(RA)\n70\n\n\n22230.2\n110\nLugo  – Sala Riunioni Hospice – Viale Masi 10 48022 – Padiglione H – primo piano.\n39012\nLUGO(RA)\n30\n\n\n22230.3\n42\nForlì- Casa della Salute Forlimpopoli – Biblioteca – Via Duca D’Aosta\, 33 – 47034 Forlmpopoli\n40013\nFORLIMPOPOLI(FC)\n35\n\n\n22230.4\n18\nRimini – Aula G – c/o Padiglione Ovidio – Ospedale Infermi – via Settembrini\, 2\n99014\nRIMINI(RN)\n40\n\n\n22230.5\n137\nSavignano – Hospice – SALETTA INTERNA AL REPARTO -C.so G. Perticari\, 47039 Savignano Sul Rubicone FC\n40045\nSAVIGNANO SUL RUBICONE(FC)\n25\n\n\n\n\n 
URL:https://www.ordinemedicifc.it/evento/assistenza-formazione-ricerca-la-nuova-rete-locale-di-cure-palliative-rlcp-della-romagna/
END:VEVENT
BEGIN:VEVENT
DTSTART;TZID=Europe/Paris:20190613T080000
DTEND;TZID=Europe/Paris:20190613T170000
DTSTAMP:20260424T095607
CREATED:20190613T062439Z
LAST-MODIFIED:20190613T062439Z
UID:20934-1560412800-1560445200@www.ordinemedicifc.it
SUMMARY:Assistenza Formazione Ricerca. La nuova Rete Locale di Cure Palliative (RLCP) della Romagna
DESCRIPTION:Programma \nSala riunioni DEA-7° Piano\, Presidio ospedaliero\, Viale Vincenzo Randi 5- Rave \nLa giornata prevede l’utilizzo di strumenti di videoconferenza\, donati alla Rete di Cure Palliative\, pertanto sarà possibile seguire la formazione c/o gli Hospice di Savignano sul Rubicone\, Forlimpopoli\, Lugo\, Rimini. \nPertanto per iscriversi i codici delle edizioni del corso: \n\n\n\n\n\n\n\n\n\n\nCodice\nAula Utilizzata\nDecodifica di Aula Utilizzata\nSede Corso\nDecodifica di Sede Corso\nNr. Partecipanti\n\n\n22230.1\n61\nRavenna – Sala Riunioni DEA – Presidio Ospedaliero di Ravenna – Viale Randi 5 – 7° Piano\n39014\nRAVENNA(RA)\n70\n\n\n22230.2\n110\nLugo  – Sala Riunioni Hospice – Viale Masi 10 48022 – Padiglione H – primo piano.\n39012\nLUGO(RA)\n30\n\n\n22230.3\n42\nForlì- Casa della Salute Forlimpopoli – Biblioteca – Via Duca D’Aosta\, 33 – 47034 Forlmpopoli\n40013\nFORLIMPOPOLI(FC)\n35\n\n\n22230.4\n18\nRimini – Aula G – c/o Padiglione Ovidio – Ospedale Infermi – via Settembrini\, 2\n99014\nRIMINI(RN)\n40\n\n\n22230.5\n137\nSavignano – Hospice – SALETTA INTERNA AL REPARTO -C.so G. Perticari\, 47039 Savignano Sul Rubicone FC\n40045\nSAVIGNANO SUL RUBICONE(FC)\n25\n\n\n\n\n 
URL:https://www.ordinemedicifc.it/evento/assistenza-formazione-ricerca-la-nuova-rete-locale-di-cure-palliative-rlcp-della-romagna-2/
END:VEVENT
BEGIN:VEVENT
DTSTART;VALUE=DATE:20190607
DTEND;VALUE=DATE:20190609
DTSTAMP:20260424T095607
CREATED:20190319T084117Z
LAST-MODIFIED:20190319T084117Z
UID:20925-1559869200-1559955599@www.ordinemedicifc.it
SUMMARY:Santarcangelo di Romagna: FADOI ROMAGNA DAI TRIALS AL PAZIENTE REALE
DESCRIPTION:Teatro il lavatoio
URL:https://www.ordinemedicifc.it/evento/santarcangelo-di-romagna-fadoi-romagna-dai-trials-al-paziente-reale-2-2/
CATEGORIES:Patrocini
END:VEVENT
BEGIN:VEVENT
DTSTART;VALUE=DATE:20190607
DTEND;VALUE=DATE:20190609
DTSTAMP:20260424T095607
CREATED:20190319T084117Z
LAST-MODIFIED:20190319T084117Z
UID:8797-1559869200-1559955599@www.ordinemedicifc.it
SUMMARY:Santarcangelo di Romagna: FADOI ROMAGNA DAI TRIALS AL PAZIENTE REALE
DESCRIPTION:Teatro il lavatoio
URL:https://www.ordinemedicifc.it/evento/santarcangelo-di-romagna-fadoi-romagna-dai-trials-al-paziente-reale-2/
CATEGORIES:Patrocini
END:VEVENT
BEGIN:VEVENT
DTSTART;TZID=Europe/Paris:20190523T200000
DTEND;TZID=Europe/Paris:20190523T233000
DTSTAMP:20260424T095607
CREATED:20190416T080340Z
LAST-MODIFIED:20190418T074558Z
UID:8991-1558641600-1558654200@www.ordinemedicifc.it
SUMMARY:OMCeO FC: Sindrome genito-urinaria  e disturbi intimi femminili:  nuove tecnologie di trattamento
DESCRIPTION:Programma \nREGISTRZIONE ONLINE ENTRO IL GIORNO PRIMA \nCliccare qui per registrarsi come medico convenzionato SSN o dipendente AUSL \nCliccare qui per registrarsi come esterno (non convenzionato del SSN e non dipendente AUSL) \n 
URL:https://www.ordinemedicifc.it/evento/omceo-fc-sindrome-genito-urinaria-e-disturbi-intimi-femminili-nuove-tecnologie-di-trattamento/
CATEGORIES:OMCeO FC
END:VEVENT
BEGIN:VEVENT
DTSTART;TZID=Europe/Paris:20190523T200000
DTEND;TZID=Europe/Paris:20190523T233000
DTSTAMP:20260424T095607
CREATED:20190416T080340Z
LAST-MODIFIED:20190416T080340Z
UID:20931-1558641600-1558654200@www.ordinemedicifc.it
SUMMARY:OMCeO FC: Sindrome genito-urinaria  e disturbi intimi femminili:  nuove tecnologie di trattamento
DESCRIPTION:Programma \nREGISTRZIONE ONLINE ENTRO IL GIORNO PRIMA \nCliccare qui per registrarsi come medico convenzionato SSN o dipendente AUSL \nCliccare qui per registrarsi come esterno (non convenzionato del SSN e non dipendente AUSL) \n 
URL:https://www.ordinemedicifc.it/evento/omceo-fc-sindrome-genito-urinaria-e-disturbi-intimi-femminili-nuove-tecnologie-di-trattamento-2/
CATEGORIES:OMCeO FC
END:VEVENT
BEGIN:VEVENT
DTSTART;VALUE=DATE:20190516
DTEND;VALUE=DATE:20190520
DTSTAMP:20260424T095607
CREATED:20190122T153522Z
LAST-MODIFIED:20190122T153522Z
UID:8432-1557968400-1558227599@www.ordinemedicifc.it
SUMMARY:Rimini: 50° Congresso Nazionale di Cardiologia ANMCO
DESCRIPTION:Continua
URL:https://www.ordinemedicifc.it/evento/rimini-50-congresso-nazionale-di-cardiologia-anmco/
CATEGORIES:Altri eventi
END:VEVENT
BEGIN:VEVENT
DTSTART;VALUE=DATE:20190516
DTEND;VALUE=DATE:20190520
DTSTAMP:20260424T095607
CREATED:20190122T153522Z
LAST-MODIFIED:20190122T153522Z
UID:20907-1557968400-1558227599@www.ordinemedicifc.it
SUMMARY:Rimini: 50° Congresso Nazionale di Cardiologia ANMCO
DESCRIPTION:Continua
URL:https://www.ordinemedicifc.it/evento/rimini-50-congresso-nazionale-di-cardiologia-anmco-2/
CATEGORIES:Altri eventi
END:VEVENT
BEGIN:VEVENT
DTSTART;VALUE=DATE:20190512
DTEND;VALUE=DATE:20190514
DTSTAMP:20260424T095607
CREATED:20190226T075408Z
LAST-MODIFIED:20190226T085928Z
UID:8643-1557622800-1557709199@www.ordinemedicifc.it
SUMMARY:Forlì: Run to End Polio Now 2019. Muoviamoci per sconfiggere la Polio
DESCRIPTION:Run to end polio now
URL:https://www.ordinemedicifc.it/evento/forli-run-to-end-polio-now-2019/
CATEGORIES:Patrocini
END:VEVENT
BEGIN:VEVENT
DTSTART;VALUE=DATE:20190512
DTEND;VALUE=DATE:20190514
DTSTAMP:20260424T095607
CREATED:20190226T075408Z
LAST-MODIFIED:20190226T075408Z
UID:20914-1557622800-1557709199@www.ordinemedicifc.it
SUMMARY:Forlì: Run to End Polio Now 2019. Muoviamoci per sconfiggere la Polio
DESCRIPTION:Run to end polio now
URL:https://www.ordinemedicifc.it/evento/forli-run-to-end-polio-now-2019-2/
CATEGORIES:Patrocini
END:VEVENT
BEGIN:VEVENT
DTSTART;TZID=Europe/Paris:20190509T200000
DTEND;TZID=Europe/Paris:20190509T233000
DTSTAMP:20260424T095607
CREATED:20190416T075938Z
LAST-MODIFIED:20190418T074551Z
UID:8988-1557432000-1557444600@www.ordinemedicifc.it
SUMMARY:OMCeO FC: Tumore polmonare non microcitoma:  attuali linee guida e opportunità terapeutiche  in Forlì
DESCRIPTION:Programma \nREGISTRZIONE ONLINE ENTRO IL GIORNO PRIMA \nCliccare qui per registrarsi come medico convenzionato SSN o dipendente AUSL \nCliccare qui per registrarsi come esterno (non convenzionato del SSN e non dipendente AUSL)
URL:https://www.ordinemedicifc.it/evento/omceo-fc-tumore-polmonare-non-microcitoma-attuali-linee-guida-e-opportunita-terapeutiche-in-forli/
CATEGORIES:OMCeO FC
END:VEVENT
BEGIN:VEVENT
DTSTART;TZID=Europe/Paris:20190509T200000
DTEND;TZID=Europe/Paris:20190509T233000
DTSTAMP:20260424T095607
CREATED:20190416T075938Z
LAST-MODIFIED:20190416T075938Z
UID:20930-1557432000-1557444600@www.ordinemedicifc.it
SUMMARY:OMCeO FC: Tumore polmonare non microcitoma:  attuali linee guida e opportunità terapeutiche  in Forlì
DESCRIPTION:Programma \nREGISTRZIONE ONLINE ENTRO IL GIORNO PRIMA \nCliccare qui per registrarsi come medico convenzionato SSN o dipendente AUSL \nCliccare qui per registrarsi come esterno (non convenzionato del SSN e non dipendente AUSL)
URL:https://www.ordinemedicifc.it/evento/omceo-fc-tumore-polmonare-non-microcitoma-attuali-linee-guida-e-opportunita-terapeutiche-in-forli-2/
CATEGORIES:OMCeO FC
END:VEVENT
BEGIN:VEVENT
DTSTART;VALUE=DATE:20190509
DTEND;VALUE=DATE:20190513
DTSTAMP:20260424T095607
CREATED:20190226T074950Z
LAST-MODIFIED:20190226T074950Z
UID:8640-1557363600-1557622799@www.ordinemedicifc.it
SUMMARY:Cesena: Il Pronto Soccorso incontra l’Università
DESCRIPTION:PROGRAMMA
URL:https://www.ordinemedicifc.it/evento/cesena-il-pronto-soccorso-incontra-luniversita/
CATEGORIES:Patrocini
END:VEVENT
END:VCALENDAR