BEGIN:VCALENDAR
VERSION:2.0
PRODID:-//Ordine dei Medici Chirurghi e Odontoiatri di Forl&igrave;-Cesena - ECPv6.15.20//NONSGML v1.0//EN
CALSCALE:GREGORIAN
METHOD:PUBLISH
X-WR-CALNAME:Ordine dei Medici Chirurghi e Odontoiatri di Forl&igrave;-Cesena
X-ORIGINAL-URL:https://www.ordinemedicifc.it
X-WR-CALDESC:Eventi per Ordine dei Medici Chirurghi e Odontoiatri di Forl&igrave;-Cesena
REFRESH-INTERVAL;VALUE=DURATION:PT1H
X-Robots-Tag:noindex
X-PUBLISHED-TTL:PT1H
BEGIN:VTIMEZONE
TZID:Europe/Paris
BEGIN:DAYLIGHT
TZOFFSETFROM:+0100
TZOFFSETTO:+0200
TZNAME:CEST
DTSTART:20180325T010000
END:DAYLIGHT
BEGIN:STANDARD
TZOFFSETFROM:+0200
TZOFFSETTO:+0100
TZNAME:CET
DTSTART:20181028T010000
END:STANDARD
BEGIN:DAYLIGHT
TZOFFSETFROM:+0100
TZOFFSETTO:+0200
TZNAME:CEST
DTSTART:20190331T010000
END:DAYLIGHT
BEGIN:STANDARD
TZOFFSETFROM:+0200
TZOFFSETTO:+0100
TZNAME:CET
DTSTART:20191027T010000
END:STANDARD
BEGIN:DAYLIGHT
TZOFFSETFROM:+0100
TZOFFSETTO:+0200
TZNAME:CEST
DTSTART:20200329T010000
END:DAYLIGHT
BEGIN:STANDARD
TZOFFSETFROM:+0200
TZOFFSETTO:+0100
TZNAME:CET
DTSTART:20201025T010000
END:STANDARD
END:VTIMEZONE
BEGIN:VEVENT
DTSTART;VALUE=DATE:20190607
DTEND;VALUE=DATE:20190609
DTSTAMP:20260424T122150
CREATED:20190319T084117Z
LAST-MODIFIED:20190319T084117Z
UID:20925-1559869200-1559955599@www.ordinemedicifc.it
SUMMARY:Santarcangelo di Romagna: FADOI ROMAGNA DAI TRIALS AL PAZIENTE REALE
DESCRIPTION:Teatro il lavatoio
URL:https://www.ordinemedicifc.it/evento/santarcangelo-di-romagna-fadoi-romagna-dai-trials-al-paziente-reale-2-2/
CATEGORIES:Patrocini
END:VEVENT
BEGIN:VEVENT
DTSTART;TZID=Europe/Paris:20190523T200000
DTEND;TZID=Europe/Paris:20190523T233000
DTSTAMP:20260424T122150
CREATED:20190416T080340Z
LAST-MODIFIED:20190418T074558Z
UID:8991-1558641600-1558654200@www.ordinemedicifc.it
SUMMARY:OMCeO FC: Sindrome genito-urinaria  e disturbi intimi femminili:  nuove tecnologie di trattamento
DESCRIPTION:Programma \nREGISTRZIONE ONLINE ENTRO IL GIORNO PRIMA \nCliccare qui per registrarsi come medico convenzionato SSN o dipendente AUSL \nCliccare qui per registrarsi come esterno (non convenzionato del SSN e non dipendente AUSL) \n 
URL:https://www.ordinemedicifc.it/evento/omceo-fc-sindrome-genito-urinaria-e-disturbi-intimi-femminili-nuove-tecnologie-di-trattamento/
CATEGORIES:OMCeO FC
END:VEVENT
BEGIN:VEVENT
DTSTART;TZID=Europe/Paris:20190523T200000
DTEND;TZID=Europe/Paris:20190523T233000
DTSTAMP:20260424T122150
CREATED:20190416T080340Z
LAST-MODIFIED:20190416T080340Z
UID:20931-1558641600-1558654200@www.ordinemedicifc.it
SUMMARY:OMCeO FC: Sindrome genito-urinaria  e disturbi intimi femminili:  nuove tecnologie di trattamento
DESCRIPTION:Programma \nREGISTRZIONE ONLINE ENTRO IL GIORNO PRIMA \nCliccare qui per registrarsi come medico convenzionato SSN o dipendente AUSL \nCliccare qui per registrarsi come esterno (non convenzionato del SSN e non dipendente AUSL) \n 
URL:https://www.ordinemedicifc.it/evento/omceo-fc-sindrome-genito-urinaria-e-disturbi-intimi-femminili-nuove-tecnologie-di-trattamento-2/
CATEGORIES:OMCeO FC
END:VEVENT
BEGIN:VEVENT
DTSTART;VALUE=DATE:20190516
DTEND;VALUE=DATE:20190520
DTSTAMP:20260424T122150
CREATED:20190122T153522Z
LAST-MODIFIED:20190122T153522Z
UID:8432-1557968400-1558227599@www.ordinemedicifc.it
SUMMARY:Rimini: 50° Congresso Nazionale di Cardiologia ANMCO
DESCRIPTION:Continua
URL:https://www.ordinemedicifc.it/evento/rimini-50-congresso-nazionale-di-cardiologia-anmco/
CATEGORIES:Altri eventi
END:VEVENT
BEGIN:VEVENT
DTSTART;VALUE=DATE:20190516
DTEND;VALUE=DATE:20190520
DTSTAMP:20260424T122150
CREATED:20190122T153522Z
LAST-MODIFIED:20190122T153522Z
UID:20907-1557968400-1558227599@www.ordinemedicifc.it
SUMMARY:Rimini: 50° Congresso Nazionale di Cardiologia ANMCO
DESCRIPTION:Continua
URL:https://www.ordinemedicifc.it/evento/rimini-50-congresso-nazionale-di-cardiologia-anmco-2/
CATEGORIES:Altri eventi
END:VEVENT
BEGIN:VEVENT
DTSTART;VALUE=DATE:20190512
DTEND;VALUE=DATE:20190514
DTSTAMP:20260424T122150
CREATED:20190226T075408Z
LAST-MODIFIED:20190226T075408Z
UID:20914-1557622800-1557709199@www.ordinemedicifc.it
SUMMARY:Forlì: Run to End Polio Now 2019. Muoviamoci per sconfiggere la Polio
DESCRIPTION:Run to end polio now
URL:https://www.ordinemedicifc.it/evento/forli-run-to-end-polio-now-2019-2/
CATEGORIES:Patrocini
END:VEVENT
BEGIN:VEVENT
DTSTART;VALUE=DATE:20190512
DTEND;VALUE=DATE:20190514
DTSTAMP:20260424T122150
CREATED:20190226T075408Z
LAST-MODIFIED:20190226T085928Z
UID:8643-1557622800-1557709199@www.ordinemedicifc.it
SUMMARY:Forlì: Run to End Polio Now 2019. Muoviamoci per sconfiggere la Polio
DESCRIPTION:Run to end polio now
URL:https://www.ordinemedicifc.it/evento/forli-run-to-end-polio-now-2019/
CATEGORIES:Patrocini
END:VEVENT
BEGIN:VEVENT
DTSTART;TZID=Europe/Paris:20190509T200000
DTEND;TZID=Europe/Paris:20190509T233000
DTSTAMP:20260424T122150
CREATED:20190416T075938Z
LAST-MODIFIED:20190416T075938Z
UID:20930-1557432000-1557444600@www.ordinemedicifc.it
SUMMARY:OMCeO FC: Tumore polmonare non microcitoma:  attuali linee guida e opportunità terapeutiche  in Forlì
DESCRIPTION:Programma \nREGISTRZIONE ONLINE ENTRO IL GIORNO PRIMA \nCliccare qui per registrarsi come medico convenzionato SSN o dipendente AUSL \nCliccare qui per registrarsi come esterno (non convenzionato del SSN e non dipendente AUSL)
URL:https://www.ordinemedicifc.it/evento/omceo-fc-tumore-polmonare-non-microcitoma-attuali-linee-guida-e-opportunita-terapeutiche-in-forli-2/
CATEGORIES:OMCeO FC
END:VEVENT
BEGIN:VEVENT
DTSTART;TZID=Europe/Paris:20190509T200000
DTEND;TZID=Europe/Paris:20190509T233000
DTSTAMP:20260424T122150
CREATED:20190416T075938Z
LAST-MODIFIED:20190418T074551Z
UID:8988-1557432000-1557444600@www.ordinemedicifc.it
SUMMARY:OMCeO FC: Tumore polmonare non microcitoma:  attuali linee guida e opportunità terapeutiche  in Forlì
DESCRIPTION:Programma \nREGISTRZIONE ONLINE ENTRO IL GIORNO PRIMA \nCliccare qui per registrarsi come medico convenzionato SSN o dipendente AUSL \nCliccare qui per registrarsi come esterno (non convenzionato del SSN e non dipendente AUSL)
URL:https://www.ordinemedicifc.it/evento/omceo-fc-tumore-polmonare-non-microcitoma-attuali-linee-guida-e-opportunita-terapeutiche-in-forli/
CATEGORIES:OMCeO FC
END:VEVENT
BEGIN:VEVENT
DTSTART;VALUE=DATE:20190509
DTEND;VALUE=DATE:20190513
DTSTAMP:20260424T122150
CREATED:20190226T074950Z
LAST-MODIFIED:20190226T074950Z
UID:8640-1557363600-1557622799@www.ordinemedicifc.it
SUMMARY:Cesena: Il Pronto Soccorso incontra l’Università
DESCRIPTION:PROGRAMMA
URL:https://www.ordinemedicifc.it/evento/cesena-il-pronto-soccorso-incontra-luniversita/
CATEGORIES:Patrocini
END:VEVENT
BEGIN:VEVENT
DTSTART;VALUE=DATE:20190509
DTEND;VALUE=DATE:20190513
DTSTAMP:20260424T122150
CREATED:20190226T074950Z
LAST-MODIFIED:20190226T074950Z
UID:20913-1557363600-1557622799@www.ordinemedicifc.it
SUMMARY:Cesena: Il Pronto Soccorso incontra l’Università
DESCRIPTION:PROGRAMMA
URL:https://www.ordinemedicifc.it/evento/cesena-il-pronto-soccorso-incontra-luniversita-2/
CATEGORIES:Patrocini
END:VEVENT
BEGIN:VEVENT
DTSTART;VALUE=DATE:20190505
DTEND;VALUE=DATE:20190507
DTSTAMP:20260424T122150
CREATED:20190325T110051Z
LAST-MODIFIED:20190325T110051Z
UID:8847-1557018000-1557104399@www.ordinemedicifc.it
SUMMARY:Granfondo Via del Sale 2019 - Circuito Campionato Medici ed Odontoiatri
DESCRIPTION:http://www.granfondoviadelsale.com/ \n 
URL:https://www.ordinemedicifc.it/evento/granfondo-via-del-sale-2019-circuito-campionato-medici-ed-odontoiatri/
CATEGORIES:Patrocini
END:VEVENT
BEGIN:VEVENT
DTSTART;VALUE=DATE:20190505
DTEND;VALUE=DATE:20190507
DTSTAMP:20260424T122150
CREATED:20190325T110051Z
LAST-MODIFIED:20190325T110051Z
UID:20928-1557018000-1557104399@www.ordinemedicifc.it
SUMMARY:Granfondo Via del Sale 2019 - Circuito Campionato Medici ed Odontoiatri
DESCRIPTION:http://www.granfondoviadelsale.com/ \n 
URL:https://www.ordinemedicifc.it/evento/granfondo-via-del-sale-2019-circuito-campionato-medici-ed-odontoiatri-2/
CATEGORIES:Patrocini
END:VEVENT
BEGIN:VEVENT
DTSTART;VALUE=DATE:20190504
DTEND;VALUE=DATE:20190506
DTSTAMP:20260424T122150
CREATED:20190311T083118Z
LAST-MODIFIED:20190311T083118Z
UID:8726-1556931600-1557017999@www.ordinemedicifc.it
SUMMARY:Rimini: Progetto Ematologia Romagna
DESCRIPTION:Programma \nIscrizione
URL:https://www.ordinemedicifc.it/evento/rimini-progetto-ematologia-romagna/
CATEGORIES:Altri eventi
END:VEVENT
BEGIN:VEVENT
DTSTART;VALUE=DATE:20190504
DTEND;VALUE=DATE:20190506
DTSTAMP:20260424T122150
CREATED:20190311T083118Z
LAST-MODIFIED:20190311T083118Z
UID:20918-1556931600-1557017999@www.ordinemedicifc.it
SUMMARY:Rimini: Progetto Ematologia Romagna
DESCRIPTION:Programma \nIscrizione
URL:https://www.ordinemedicifc.it/evento/rimini-progetto-ematologia-romagna-2/
CATEGORIES:Altri eventi
END:VEVENT
BEGIN:VEVENT
DTSTART;TZID=Europe/Paris:20190418T200000
DTEND;TZID=Europe/Paris:20190418T233000
DTSTAMP:20260424T122150
CREATED:20190312T074830Z
LAST-MODIFIED:20190418T074544Z
UID:8739-1555617600-1555630200@www.ordinemedicifc.it
SUMMARY:OMCeO FC: La Posturologia:  un approccio originale per interpretare la struttura organizzativa dell’equilibrio dell’uomo
DESCRIPTION:Programma \nREGISTRZIONE ONLINE ENTRO IL GIORNO PRIMA \nCliccare qui per registrarsi come medico convenzionato SSN o dipendente AUSL \nCliccare qui per registrarsi come esterno (non convenzionato del SSN e non dipendente AUSL)
URL:https://www.ordinemedicifc.it/evento/omceo-fc-la-posturologia-un-approccio-originale-per-interpretare-la-struttura-organizzativa-dellequilibrio-delluomo/
CATEGORIES:OMCeO FC
END:VEVENT
BEGIN:VEVENT
DTSTART;TZID=Europe/Paris:20190418T200000
DTEND;TZID=Europe/Paris:20190418T233000
DTSTAMP:20260424T122150
CREATED:20190312T074830Z
LAST-MODIFIED:20190312T074830Z
UID:20920-1555617600-1555630200@www.ordinemedicifc.it
SUMMARY:OMCeO FC: La Posturologia:  un approccio originale per interpretare la struttura organizzativa dell’equilibrio dell’uomo
DESCRIPTION:Programma \nREGISTRZIONE ONLINE ENTRO IL GIORNO PRIMA \nCliccare qui per registrarsi come medico convenzionato SSN o dipendente AUSL \nCliccare qui per registrarsi come esterno (non convenzionato del SSN e non dipendente AUSL)
URL:https://www.ordinemedicifc.it/evento/omceo-fc-la-posturologia-un-approccio-originale-per-interpretare-la-struttura-organizzativa-dellequilibrio-delluomo-2/
CATEGORIES:OMCeO FC
END:VEVENT
BEGIN:VEVENT
DTSTART;TZID=Europe/Paris:20190413T090000
DTEND;TZID=Europe/Paris:20190413T133000
DTSTAMP:20260424T122150
CREATED:20190314T112026Z
LAST-MODIFIED:20190314T112026Z
UID:8760-1555146000-1555162200@www.ordinemedicifc.it
SUMMARY:Riolo Terme: Metodologie naturali: tra tradizione ed innovazione
DESCRIPTION:Programma
URL:https://www.ordinemedicifc.it/evento/riolo-terme-metodologie-naturali-tra-tradizione-ed-innovazione/
CATEGORIES:Altri eventi
END:VEVENT
BEGIN:VEVENT
DTSTART;TZID=Europe/Paris:20190413T090000
DTEND;TZID=Europe/Paris:20190413T133000
DTSTAMP:20260424T122150
CREATED:20190314T112026Z
LAST-MODIFIED:20190314T112026Z
UID:20924-1555146000-1555162200@www.ordinemedicifc.it
SUMMARY:Riolo Terme: Metodologie naturali: tra tradizione ed innovazione
DESCRIPTION:Programma
URL:https://www.ordinemedicifc.it/evento/riolo-terme-metodologie-naturali-tra-tradizione-ed-innovazione-2/
CATEGORIES:Altri eventi
END:VEVENT
BEGIN:VEVENT
DTSTART;VALUE=DATE:20190413
DTEND;VALUE=DATE:20190415
DTSTAMP:20260424T122150
CREATED:20190319T110923Z
LAST-MODIFIED:20190319T110923Z
UID:8805-1555117200-1555203599@www.ordinemedicifc.it
SUMMARY:Forlì: Nuovi approcci diagnostici e terapeutici nel tumore della prostata
DESCRIPTION:Continua
URL:https://www.ordinemedicifc.it/evento/forli-nuovi-approcci-diagnostici-e-terapeutici-nel-tumore-della-prostata-2/
CATEGORIES:Patrocini
END:VEVENT
BEGIN:VEVENT
DTSTART;VALUE=DATE:20190413
DTEND;VALUE=DATE:20190415
DTSTAMP:20260424T122150
CREATED:20190319T110923Z
LAST-MODIFIED:20190319T110923Z
UID:20926-1555117200-1555203599@www.ordinemedicifc.it
SUMMARY:Forlì: Nuovi approcci diagnostici e terapeutici nel tumore della prostata
DESCRIPTION:Continua
URL:https://www.ordinemedicifc.it/evento/forli-nuovi-approcci-diagnostici-e-terapeutici-nel-tumore-della-prostata-2-2/
CATEGORIES:Patrocini
END:VEVENT
BEGIN:VEVENT
DTSTART;VALUE=DATE:20190413
DTEND;VALUE=DATE:20190415
DTSTAMP:20260424T122150
CREATED:20190312T075414Z
LAST-MODIFIED:20190312T075414Z
UID:20922-1555117200-1555203599@www.ordinemedicifc.it
SUMMARY:Forlì: NUOVI APPROCCI DIAGNOSTICI E TERAPEUTICI NEL TUMORE DELLA PROSTATA
DESCRIPTION:Continua
URL:https://www.ordinemedicifc.it/evento/forli-nuovi-approcci-diagnostici-e-terapeutici-nel-tumore-della-prostata-3/
LOCATION:Sala Conferenze\, Viale Italia\, 153 - scala C - 1° piano\, Forlì\, Italia
CATEGORIES:Altri eventi
END:VEVENT
BEGIN:VEVENT
DTSTART;VALUE=DATE:20190413
DTEND;VALUE=DATE:20190415
DTSTAMP:20260424T122150
CREATED:20190312T075414Z
LAST-MODIFIED:20190312T075414Z
UID:8746-1555117200-1555203599@www.ordinemedicifc.it
SUMMARY:Forlì: NUOVI APPROCCI DIAGNOSTICI E TERAPEUTICI NEL TUMORE DELLA PROSTATA
DESCRIPTION:Continua
URL:https://www.ordinemedicifc.it/evento/forli-nuovi-approcci-diagnostici-e-terapeutici-nel-tumore-della-prostata/
LOCATION:Sala Conferenze\, Viale Italia\, 153 - scala C - 1° piano\, Forlì\, Italia
CATEGORIES:Altri eventi
END:VEVENT
BEGIN:VEVENT
DTSTART;VALUE=DATE:20190413
DTEND;VALUE=DATE:20190415
DTSTAMP:20260424T122150
CREATED:20190312T075154Z
LAST-MODIFIED:20190312T075154Z
UID:8742-1555117200-1555203599@www.ordinemedicifc.it
SUMMARY:Forlì: NOVITA’ TECNOLOGICHE IN CHIRURGIA PLASTICA E MEDICINA ESTETICA
DESCRIPTION:Continua
URL:https://www.ordinemedicifc.it/evento/forli-novita-tecnologiche-in-chirurgia-plastica-e-medicina-estetica/
LOCATION:Sala Conferenze\, Viale Italia\, 153 - scala C - 1° piano\, Forlì\, Italia
CATEGORIES:Altri eventi
END:VEVENT
BEGIN:VEVENT
DTSTART;VALUE=DATE:20190413
DTEND;VALUE=DATE:20190415
DTSTAMP:20260424T122150
CREATED:20190312T075154Z
LAST-MODIFIED:20190312T075154Z
UID:20921-1555117200-1555203599@www.ordinemedicifc.it
SUMMARY:Forlì: NOVITA’ TECNOLOGICHE IN CHIRURGIA PLASTICA E MEDICINA ESTETICA
DESCRIPTION:Continua
URL:https://www.ordinemedicifc.it/evento/forli-novita-tecnologiche-in-chirurgia-plastica-e-medicina-estetica-3/
LOCATION:Sala Conferenze\, Viale Italia\, 153 - scala C - 1° piano\, Forlì\, Italia
CATEGORIES:Altri eventi
END:VEVENT
BEGIN:VEVENT
DTSTART;VALUE=DATE:20190413
DTEND;VALUE=DATE:20190415
DTSTAMP:20260424T122150
CREATED:20190311T083024Z
LAST-MODIFIED:20190311T083024Z
UID:8724-1555117200-1555203599@www.ordinemedicifc.it
SUMMARY:Ravenna: Progetto Ematologia Romagna
DESCRIPTION:Programma \nIscrizione
URL:https://www.ordinemedicifc.it/evento/ravenna-progetto-ematologia-romagna/
CATEGORIES:Altri eventi
END:VEVENT
BEGIN:VEVENT
DTSTART;VALUE=DATE:20190413
DTEND;VALUE=DATE:20190415
DTSTAMP:20260424T122150
CREATED:20190311T083024Z
LAST-MODIFIED:20190311T083024Z
UID:20917-1555117200-1555203599@www.ordinemedicifc.it
SUMMARY:Ravenna: Progetto Ematologia Romagna
DESCRIPTION:Programma \nIscrizione
URL:https://www.ordinemedicifc.it/evento/ravenna-progetto-ematologia-romagna-2/
CATEGORIES:Altri eventi
END:VEVENT
BEGIN:VEVENT
DTSTART;VALUE=DATE:20190412
DTEND;VALUE=DATE:20190414
DTSTAMP:20260424T122150
CREATED:20181218T161429Z
LAST-MODIFIED:20190207T075933Z
UID:8242-1555030800-1555117199@www.ordinemedicifc.it
SUMMARY:Chirurgia Vitreoretinica -­‐ novità e strategie a confronto
DESCRIPTION:http://www.comunicazioneventi.it/2018/forli-venerdi-12-aprile-2019/
URL:https://www.ordinemedicifc.it/evento/chirurgia-vitreoretinica-%c2%ad%e2%80%90-novita-e-strategie-a-confronto/
CATEGORIES:Patrocini
END:VEVENT
BEGIN:VEVENT
DTSTART;VALUE=DATE:20190412
DTEND;VALUE=DATE:20190414
DTSTAMP:20260424T122150
CREATED:20181218T161429Z
LAST-MODIFIED:20181218T161429Z
UID:20900-1555030800-1555117199@www.ordinemedicifc.it
SUMMARY:Chirurgia Vitreoretinica -­‐ novità e strategie a confronto
DESCRIPTION:http://www.comunicazioneventi.it/2018/forli-venerdi-12-aprile-2019/
URL:https://www.ordinemedicifc.it/evento/chirurgia-vitreoretinica-%e2%80%90-novita-e-strategie-a-confronto/
CATEGORIES:Patrocini
END:VEVENT
BEGIN:VEVENT
DTSTART;TZID=Europe/Paris:20190404T200000
DTEND;TZID=Europe/Paris:20190404T233000
DTSTAMP:20260424T122150
CREATED:20190226T160807Z
LAST-MODIFIED:20190326T164400Z
UID:8647-1554408000-1554420600@www.ordinemedicifc.it
SUMMARY:OMCeO FC: Il morbo di Paget
DESCRIPTION:Programma \nCliccare qui per registrarsi come medico convenzionato SSN o dipendente AUSL \nCliccare qui per registrarsi come esterno (non convenzionato del SSN e non dipendente AUSL)
URL:https://www.ordinemedicifc.it/evento/omceo-fc-il-morbo-di-paget/
LOCATION:Sala Conferenze\, Viale Italia\, 153 - scala C - 1° piano\, Forlì\, Italia
CATEGORIES:OMCeO FC
END:VEVENT
END:VCALENDAR