BEGIN:VCALENDAR
VERSION:2.0
PRODID:-//Ordine dei Medici Chirurghi e Odontoiatri di Forl&igrave;-Cesena - ECPv6.15.20//NONSGML v1.0//EN
CALSCALE:GREGORIAN
METHOD:PUBLISH
X-WR-CALNAME:Ordine dei Medici Chirurghi e Odontoiatri di Forl&igrave;-Cesena
X-ORIGINAL-URL:https://www.ordinemedicifc.it
X-WR-CALDESC:Eventi per Ordine dei Medici Chirurghi e Odontoiatri di Forl&igrave;-Cesena
REFRESH-INTERVAL;VALUE=DURATION:PT1H
X-Robots-Tag:noindex
X-PUBLISHED-TTL:PT1H
BEGIN:VTIMEZONE
TZID:Europe/Paris
BEGIN:DAYLIGHT
TZOFFSETFROM:+0100
TZOFFSETTO:+0200
TZNAME:CEST
DTSTART:20220327T010000
END:DAYLIGHT
BEGIN:STANDARD
TZOFFSETFROM:+0200
TZOFFSETTO:+0100
TZNAME:CET
DTSTART:20221030T010000
END:STANDARD
BEGIN:DAYLIGHT
TZOFFSETFROM:+0100
TZOFFSETTO:+0200
TZNAME:CEST
DTSTART:20230326T010000
END:DAYLIGHT
BEGIN:STANDARD
TZOFFSETFROM:+0200
TZOFFSETTO:+0100
TZNAME:CET
DTSTART:20231029T010000
END:STANDARD
BEGIN:DAYLIGHT
TZOFFSETFROM:+0100
TZOFFSETTO:+0200
TZNAME:CEST
DTSTART:20240331T010000
END:DAYLIGHT
BEGIN:STANDARD
TZOFFSETFROM:+0200
TZOFFSETTO:+0100
TZNAME:CET
DTSTART:20241027T010000
END:STANDARD
END:VTIMEZONE
BEGIN:VEVENT
DTSTART;TZID=Europe/Paris:20231202T203000
DTEND;TZID=Europe/Paris:20231202T233000
DTSTAMP:20260422T111051
CREATED:20231025T090756Z
LAST-MODIFIED:20231102T074214Z
UID:21600-1701549000-1701559800@www.ordinemedicifc.it
SUMMARY:OMCEO FC:  Enpam diritti e doveri:  guida ai servizi
DESCRIPTION:Programma \nCliccare qui per registrarsi come medico convenzionato SSN o dipendente AUSL \nCliccare qui per registrarsi come esterno (non convenzionato del SSN e non dipendente AUSL) \n 
URL:https://www.ordinemedicifc.it/evento/omceo-fc-enpam-diritti-e-doveri-guida-ai-servizi/
LOCATION:Sala Conferenze\, Viale Italia\, 153 - scala C - 1° piano\, Forlì\, Italia
CATEGORIES:OMCeO FC
END:VEVENT
BEGIN:VEVENT
DTSTART;TZID=Europe/Paris:20231130T203000
DTEND;TZID=Europe/Paris:20231130T233000
DTSTAMP:20260422T111051
CREATED:20231025T090236Z
LAST-MODIFIED:20231106T113938Z
UID:21596-1701376200-1701387000@www.ordinemedicifc.it
SUMMARY:OMCEO FC: Integrazione ospedale-territorio: le nuove sfide della psicopatologia dell'adolescenza
DESCRIPTION:Programma \nCliccare qui per registrarsi come medico convenzionato SSN o dipendente AUSL \nCliccare qui per registrarsi come esterno (non convenzionato del SSN e non dipendente AUSL) \n 
URL:https://www.ordinemedicifc.it/evento/integrazione-ospedale-territorio-le-nuove-sfide-della-psicopatologia-delladolescenza/
LOCATION:Sala Conferenze\, Viale Italia\, 153 - scala C - 1° piano\, Forlì\, Italia
CATEGORIES:OMCeO FC
END:VEVENT
BEGIN:VEVENT
DTSTART;VALUE=DATE:20231125
DTEND;VALUE=DATE:20231127
DTSTAMP:20260422T111051
CREATED:20230418T072734Z
LAST-MODIFIED:20230927T092835Z
UID:19869-1700874000-1700960399@www.ordinemedicifc.it
SUMMARY:Bertinoro: Tre anni di farmaci biologici per la poliposi naso-sinusale: come è cambiata la nostra pratica
DESCRIPTION:Depliant Bertinoro
URL:https://www.ordinemedicifc.it/evento/forli-tre-anni-di-farmaci-biologici-per-la-poliposi-naso-sinusale-come-e-cambiata-la-nostra-pratica/
CATEGORIES:Patrocini
END:VEVENT
BEGIN:VEVENT
DTSTART;VALUE=DATE:20231123
DTEND;VALUE=DATE:20231125
DTSTAMP:20260422T111051
CREATED:20231123T125649Z
LAST-MODIFIED:20231123T125649Z
UID:21758-1700701200-1700787599@www.ordinemedicifc.it
SUMMARY:Cesena. CHRONICITY - MALATTIE FUNZIONALI E MOTORIE GASTROINTESTINALI: NETWORKMULTIDISCIPLINARE\, MODELLO CLINICO ORGANIZZATIVO TRA TERRITORIO E OSPEDALE
DESCRIPTION:https://adbcongressi.it/evento_1072_adbcongressiedeventi
URL:https://www.ordinemedicifc.it/evento/cesena-chronicity-malattie-funzionali-e-motorie-gastrointestinali-networkmultidisciplinare-modello-clinico-organizzativo-tra-territorio-e-ospedale-2/
CATEGORIES:Patrocini
END:VEVENT
BEGIN:VEVENT
DTSTART;TZID=Europe/Paris:20231116T203000
DTEND;TZID=Europe/Paris:20231116T233000
DTSTAMP:20260422T111051
CREATED:20231012T074832Z
LAST-MODIFIED:20231012T074832Z
UID:21464-1700166600-1700177400@www.ordinemedicifc.it
SUMMARY:OMCeO FC: Relazioni tra Malattia Paradontale e Diabete
DESCRIPTION:Programma \n  \nCliccare qui per registrarsi come medico convenzionato SSN o dipendente AUSL \nCliccare qui per registrarsi come esterno (non convenzionato del SSN e non dipendente AUSL) \n  \n 
URL:https://www.ordinemedicifc.it/evento/omceo-fc-relazioni-tra-malattia-paradontale-e-diabete/
CATEGORIES:OMCeO FC
END:VEVENT
BEGIN:VEVENT
DTSTART;VALUE=DATE:20231116
DTEND;VALUE=DATE:20231118
DTSTAMP:20260422T111051
CREATED:20230718T063734Z
LAST-MODIFIED:20230718T063734Z
UID:20480-1700096400-1700182799@www.ordinemedicifc.it
SUMMARY:Forlì: CHRONICITY: GIORNATA MONDIALE TUMORE DEL PANCREAS
DESCRIPTION:https://www.adbcongressi.it/evento_1073_adbcongressiedeventi
URL:https://www.ordinemedicifc.it/evento/forli-chronicity-giornata-mondiale-tumore-del-pancreas/
CATEGORIES:Patrocini
END:VEVENT
BEGIN:VEVENT
DTSTART;VALUE=DATE:20231115
DTEND;VALUE=DATE:20231117
DTSTAMP:20260422T111051
CREATED:20230928T134210Z
LAST-MODIFIED:20230928T134210Z
UID:21296-1700010000-1700096399@www.ordinemedicifc.it
SUMMARY:Forlì: Endoboat: Endoscopia Operativa Biliopancreatica
DESCRIPTION:https://adbcongressi.it/evento_1070_adbcongressiedeventi
URL:https://www.ordinemedicifc.it/evento/forli-endoboat-endoscopia-operativa-biliopancreatica-3/
CATEGORIES:Patrocini
END:VEVENT
BEGIN:VEVENT
DTSTART;VALUE=DATE:20231104
DTEND;VALUE=DATE:20231106
DTSTAMP:20260422T111051
CREATED:20230725T090120Z
LAST-MODIFIED:20230725T090120Z
UID:20532-1699059600-1699145999@www.ordinemedicifc.it
SUMMARY:Rimini: LA PRESCRIZIONE DELL’ OSSIGENOTERAPIA-IPERBARICA (OTI) PER IL MEDICO DI MEDICINA GENERALE (MMG) e PER LO SPECIALISTA: LE INDICAZIONI CLINICHE\, LA CORRETTA PROCEDURA PRESCRITTIVA\, IL MECCANISMO D’AZIONE E I RISULTATI.   DAL PRESENTE AL FUTURO DELL’OTI
DESCRIPTION:Update 2023
URL:https://www.ordinemedicifc.it/evento/rimini-la-prescrizione-dell-ossigenoterapia-iperbarica-oti-per-il-medico-di-medicina-generale-mmg-e-per-lo-specialista-le-indicazioni-cliniche-la-corretta-procedura-prescrittiva-il-me/
CATEGORIES:Patrocini
END:VEVENT
BEGIN:VEVENT
DTSTART;VALUE=DATE:20231027
DTEND;VALUE=DATE:20231029
DTSTAMP:20260422T111051
CREATED:20230728T073706Z
LAST-MODIFIED:20230728T073706Z
UID:20575-1698368400-1698454799@www.ordinemedicifc.it
SUMMARY:Cesena: Glaucoma Flash
DESCRIPTION:https://www.comunicazioneventi.it/events/cesena-glaucoma-flash-2/
URL:https://www.ordinemedicifc.it/evento/cesena-glaucoma-flash/
CATEGORIES:Patrocini
END:VEVENT
BEGIN:VEVENT
DTSTART;TZID=Europe/Paris:20231026T200000
DTEND;TZID=Europe/Paris:20231026T233000
DTSTAMP:20260422T111051
CREATED:20231002T075109Z
LAST-MODIFIED:20231002T075109Z
UID:21311-1698350400-1698363000@www.ordinemedicifc.it
SUMMARY:OMCEO FC. Patologie del rachide:  il neurochirurgo e il ruolo della terapia antalgica
DESCRIPTION:27 10 2023 programma \n  \n  \nCliccare qui per registrarsi come medico convenzionato SSN o dipendente AUSL \nCliccare qui per registrarsi come esterno (non convenzionato del SSN e non dipendente AUSL)
URL:https://www.ordinemedicifc.it/evento/omceo-fc-patologie-del-rachide-il-neurochirurgo-e-il-ruolo-della-terapia-antalgica/
CATEGORIES:OMCeO FC
END:VEVENT
BEGIN:VEVENT
DTSTART;VALUE=DATE:20231024
DTEND;VALUE=DATE:20231026
DTSTAMP:20260422T111051
CREATED:20230928T133241Z
LAST-MODIFIED:20230928T133241Z
UID:21291-1698109200-1698195599@www.ordinemedicifc.it
SUMMARY:Forlì. ENDOBOAT: NORA ED ENDOSCOPIA NELL'URGENZA
DESCRIPTION:https://adbcongressi.it/evento_1069_adbcongressiedeventi
URL:https://www.ordinemedicifc.it/evento/forli-endoboat-nora-ed-endoscopia-nellurgenza/
CATEGORIES:Patrocini
END:VEVENT
BEGIN:VEVENT
DTSTART;VALUE=DATE:20231023
DTEND;VALUE=DATE:20231025
DTSTAMP:20260422T111051
CREATED:20231012T074502Z
LAST-MODIFIED:20231012T074659Z
UID:21461-1698022800-1698109199@www.ordinemedicifc.it
SUMMARY:Forlì: GIORNATA DEDICATA ALLA VIOLENZA DI GENERE
DESCRIPTION:PROGRAMMA VIOLENZA DI GENERE
URL:https://www.ordinemedicifc.it/evento/forli-giornata-dedicata-alla-violenza-di-genere/
CATEGORIES:Patrocini
END:VEVENT
BEGIN:VEVENT
DTSTART;TZID=Europe/Paris:20231021T083000
DTEND;TZID=Europe/Paris:20231021T123000
DTSTAMP:20260422T111051
CREATED:20230721T102929Z
LAST-MODIFIED:20230721T102929Z
UID:20512-1697877000-1697891400@www.ordinemedicifc.it
SUMMARY:OMCEO FC: RADIOPROTEZIONE Decreto legislativo 101/2020: dalla pubblicazione in Gazzetta Ufficiale alle recenti sentenze\, le implicazioni sulla professione
DESCRIPTION:21 ottobre 2023 Programma \nCliccare qui per registrarsi come medico convenzionato SSN o dipendente AUSL \nCliccare qui per registrarsi come esterno (non convenzionato del SSN e non dipendente AUSL)
URL:https://www.ordinemedicifc.it/evento/omceo-fc-radioprotezione-decreto-legislativo-101-2020-dalla-pubblicazione-in-gazzetta-ufficiale-alle-recenti-sentenze-le-implicazioni-sulla-professione/
LOCATION:Sala Conferenze\, Viale Italia\, 153 - scala C - 1° piano\, Forlì\, Italia
CATEGORIES:OMCeO FC
END:VEVENT
BEGIN:VEVENT
DTSTART;VALUE=DATE:20231014
DTEND;VALUE=DATE:20231016
DTSTAMP:20260422T111051
CREATED:20230922T074652Z
LAST-MODIFIED:20230922T074652Z
UID:21242-1697245200-1697331599@www.ordinemedicifc.it
SUMMARY:Ravenna: IL TEAM MULTIDISCIPLINARE NELLA DIAGNOSI E TERAPIA DELL'OSAS
DESCRIPTION:https://omceora.irideweb.it/events/11f9d608-337c-40fc-95e7-08dbb9fa0989
URL:https://www.ordinemedicifc.it/evento/ravenna-il-team-multidisciplinare-nella-diagnosi-e-terapia-dellosas/
CATEGORIES:Altri eventi
END:VEVENT
BEGIN:VEVENT
DTSTART;TZID=Europe/Paris:20231012T203000
DTEND;TZID=Europe/Paris:20231012T223000
DTSTAMP:20260422T111051
CREATED:20230904T094219Z
LAST-MODIFIED:20230904T094219Z
UID:21104-1697142600-1697149800@www.ordinemedicifc.it
SUMMARY:OMCEO FC. CURE PALLIATIVE PEDIATRICHE:  l'inguaribilità e il valore del tempo
DESCRIPTION:12 ottobre 2023 Programma \n  \nCliccare qui per registrarsi come medico convenzionato SSN o dipendente AUSL \nCliccare qui per registrarsi come esterno (non convenzionato del SSN e non dipendente AUSL)
URL:https://www.ordinemedicifc.it/evento/omceo-fc-cure-palliative-pediatriche-linguaribilita-e-il-valore-del-tempo/
LOCATION:Sala Conferenze\, Viale Italia\, 153 - scala C - 1° piano\, Forlì\, Italia
CATEGORIES:OMCeO FC
END:VEVENT
BEGIN:VEVENT
DTSTART;VALUE=DATE:20231007
DTEND;VALUE=DATE:20231009
DTSTAMP:20260422T111051
CREATED:20230927T075137Z
LAST-MODIFIED:20230927T075137Z
UID:21268-1696640400-1696726799@www.ordinemedicifc.it
SUMMARY:Cesena: Sconfiggere il cancro: da speranza a prospettiva
DESCRIPTION:https://www.ior-romagna.it/iniziative-ed-eventi/sabato-7-ottobre-presso-la-fiera-di-cesena-torna-la-convention-dei-volontari-ior \n 
URL:https://www.ordinemedicifc.it/evento/cesena-sconfiggere-il-cancro-da-speranza-a-prospettiva/
CATEGORIES:Altri eventi
END:VEVENT
BEGIN:VEVENT
DTSTART;VALUE=DATE:20231006
DTEND;VALUE=DATE:20231009
DTSTAMP:20260422T111051
CREATED:20230728T072950Z
LAST-MODIFIED:20230728T072950Z
UID:20571-1696554000-1696726799@www.ordinemedicifc.it
SUMMARY:Bertinoro: PAIN RER La patologia diabetica Uncontrolled pain in diabetic neuropathy:  dalla terapia medica alla neuromodulazione midollare
DESCRIPTION:Presentazione del congresso
URL:https://www.ordinemedicifc.it/evento/bertinoro-pain-rer/
CATEGORIES:Patrocini
END:VEVENT
BEGIN:VEVENT
DTSTART;TZID=Europe/Paris:20230921T203000
DTEND;TZID=Europe/Paris:20230921T233000
DTSTAMP:20260422T111051
CREATED:20230720T070322Z
LAST-MODIFIED:20230720T070322Z
UID:20492-1695328200-1695339000@www.ordinemedicifc.it
SUMMARY:OMCeO FC: “Linee di indirizzo sull’attività fisica 3 novembre 2021” La prescrizione dell’attività fisica come medicina dal bambino all’adulto
DESCRIPTION:21 settembre 2023 Programma \n  \nCliccare qui per registrarsi come medico convenzionato SSN o dipendente AUSL \nCliccare qui per registrarsi come esterno (non convenzionato del SSN e non dipendente AUSL)
URL:https://www.ordinemedicifc.it/evento/omceo-fc-linee-di-indirizzo-sullattivita-fisica-3-novembre-2021-la-prescrizione-dellattivita-fisica-come-medicina-dal-bambino-alladulto/
LOCATION:Sala Conferenze\, Viale Italia\, 153 - scala C - 1° piano\, Forlì\, Italia
CATEGORIES:OMCeO FC
END:VEVENT
BEGIN:VEVENT
DTSTART;TZID=Europe/Paris:20230914T203000
DTEND;TZID=Europe/Paris:20230914T233000
DTSTAMP:20260422T111051
CREATED:20230721T084425Z
LAST-MODIFIED:20230721T084425Z
UID:20508-1694723400-1694734200@www.ordinemedicifc.it
SUMMARY:OMCeO FC: “PAIN ROMAGNA” integrazione ospedale-territorio Low Back Pain Diagnosi e Terapia
DESCRIPTION:14 settembre 2023 programma \n  \nCliccare qui per registrarsi come medico convenzionato SSN o dipendente AUSL \nCliccare qui per registrarsi come esterno (non convenzionato del SSN e non dipendente AUSL)
URL:https://www.ordinemedicifc.it/evento/omceo-fc-pain-romagna-integrazione-ospedale-territorio-low-back-pain-diagnosi-e-terapia/
CATEGORIES:OMCeO FC
END:VEVENT
BEGIN:VEVENT
DTSTART;VALUE=DATE:20230908
DTEND;VALUE=DATE:20230911
DTSTAMP:20260422T111051
CREATED:20230620T091247Z
LAST-MODIFIED:20230630T082219Z
UID:20329-1694134800-1694307599@www.ordinemedicifc.it
SUMMARY:Rimini: 1st Italian Educational Meeting on Immune Cytopenias
DESCRIPTION:Brochure \n  \nhttps://didattica.xeniaeventi.it/
URL:https://www.ordinemedicifc.it/evento/rimini-1st-italian-educational-meeting-on-immune-cytopenias/
CATEGORIES:Patrocini
END:VEVENT
BEGIN:VEVENT
DTSTART;VALUE=DATE:20230908
DTEND;VALUE=DATE:20230911
DTSTAMP:20260422T111051
CREATED:20230620T090533Z
LAST-MODIFIED:20230620T090533Z
UID:20327-1694134800-1694307599@www.ordinemedicifc.it
SUMMARY:Forlì: Sharing Breath 2023
DESCRIPTION:https://www.sharingbreath.com/
URL:https://www.ordinemedicifc.it/evento/forli-sharing-breath-2023/
CATEGORIES:Patrocini
END:VEVENT
BEGIN:VEVENT
DTSTART;TZID=Europe/Paris:20230907T203000
DTEND;TZID=Europe/Paris:20230907T233000
DTSTAMP:20260422T111051
CREATED:20230630T080628Z
LAST-MODIFIED:20230630T083411Z
UID:20402-1694118600-1694129400@www.ordinemedicifc.it
SUMMARY:OMCeO FC: Le ipoacusie e gli acufeni: inquadramento clinico\, iter diagnostico e possibilità di trattamento
DESCRIPTION:Programma \n  \nCliccare qui per registrarsi come medico convenzionato SSN o dipendente AUSL \nCliccare qui per registrarsi come esterno (non convenzionato del SSN e non dipendente AUSL)
URL:https://www.ordinemedicifc.it/evento/omceo-fc-le-ipoacusie-e-gli-acufeni-inquadramento-clinico-iter-diagnostico-e-possibilita-di-trattamento/
CATEGORIES:OMCeO FC
END:VEVENT
BEGIN:VEVENT
DTSTART;TZID=Europe/Paris:20230905T141500
DTEND;TZID=Europe/Paris:20230905T190000
DTSTAMP:20260422T111051
CREATED:20230525T064307Z
LAST-MODIFIED:20230525T064307Z
UID:21099-1693923300-1693940400@www.ordinemedicifc.it
SUMMARY:I farmaci usati nel trattamento delle artriti croniche autoimmuni
DESCRIPTION:Salone comunale \nPiazza Saffi – Forlì \nProgramma
URL:https://www.ordinemedicifc.it/evento/i-farmaci-usati-nel-trattamento-delle-artriti-croniche-autoimmuni-2/
CATEGORIES:Patrocini
END:VEVENT
BEGIN:VEVENT
DTSTART;TZID=Europe/Paris:20230627T200000
DTEND;TZID=Europe/Paris:20230627T213000
DTSTAMP:20260422T111051
CREATED:20230608T093327Z
LAST-MODIFIED:20230608T095258Z
UID:20268-1687896000-1687901400@www.ordinemedicifc.it
SUMMARY:L'alluvione in Emilia-Romagna: l'assistenza dell'ENPAM
DESCRIPTION:Per la partecipazione\, ai fini della capienza della sala\, è necessario iscriversi entro e non oltre il 19 giugno 2023 tramite email a info@ordinemedicifc.it \nProgramma Enpam 27 giugno 2023 – Alluvione
URL:https://www.ordinemedicifc.it/evento/lalluvione-in-emilia-romagna-lassistenza-dellenpam/
LOCATION:Sala Conferenze\, Viale Italia\, 153 - scala C - 1° piano\, Forlì\, Italia
CATEGORIES:OMCeO FC
END:VEVENT
BEGIN:VEVENT
DTSTART;TZID=Europe/Paris:20230624T093000
DTEND;TZID=Europe/Paris:20230624T133000
DTSTAMP:20260422T111051
CREATED:20230525T063346Z
LAST-MODIFIED:20230525T063346Z
UID:20145-1687599000-1687613400@www.ordinemedicifc.it
SUMMARY:L'Uso dell'esercizio come un farmaco. Prescrizione- benefici
DESCRIPTION:Padiglione delle Feste – Terme di Castrocaro \nVia G. Marconi\, 14/16 – Castrocaro Terme \nProgramma \nIscrizioni
URL:https://www.ordinemedicifc.it/evento/luso-dellesercizio-come-un-farmaco-prescrizione-benefici/
CATEGORIES:Patrocini
END:VEVENT
BEGIN:VEVENT
DTSTART;VALUE=DATE:20230621
DTEND;VALUE=DATE:20230623
DTSTAMP:20260422T111051
CREATED:20230306T092129Z
LAST-MODIFIED:20230306T092129Z
UID:19539-1687309200-1687395599@www.ordinemedicifc.it
SUMMARY:Webinar: Neuroradiologicaldiagnosisof cerebralvasculitis
DESCRIPTION:Locandina 2023
URL:https://www.ordinemedicifc.it/evento/webinar-neuroradiologicaldiagnosisof-cerebralvasculitis/
CATEGORIES:Altri eventi
END:VEVENT
BEGIN:VEVENT
DTSTART;VALUE=DATE:20230527
DTEND;VALUE=DATE:20230529
DTSTAMP:20260422T111051
CREATED:20230320T121450Z
LAST-MODIFIED:20230320T121450Z
UID:19643-1685149200-1685235599@www.ordinemedicifc.it
SUMMARY:Santarcangelo di Romagna: Dalle Linee Guida al Paziente Reale: alla ricerca dell’appropriatezza in Medicina Interna
DESCRIPTION:Continua 
URL:https://www.ordinemedicifc.it/evento/santarcangelo-di-romagna-dalle-linee-guida-al-paziente-reale-alla-ricerca-dellappropriatezza-in-medicina-interna/
CATEGORIES:Patrocini
END:VEVENT
BEGIN:VEVENT
DTSTART;VALUE=DATE:20230524
DTEND;VALUE=DATE:20230526
DTSTAMP:20260422T111051
CREATED:20230306T092051Z
LAST-MODIFIED:20230306T092051Z
UID:19537-1684890000-1684976399@www.ordinemedicifc.it
SUMMARY:webinar: Long-COVID phenotypesand small fiberneuropathy: courseand prognosis
DESCRIPTION:Locandina 2023
URL:https://www.ordinemedicifc.it/evento/webinar-long-covid-phenotypesand-small-fiberneuropathy-courseand-prognosis/
CATEGORIES:Altri eventi
END:VEVENT
BEGIN:VEVENT
DTSTART;VALUE=DATE:20230524
DTEND;VALUE=DATE:20230526
DTSTAMP:20260422T111051
CREATED:20230306T092051Z
LAST-MODIFIED:20230306T092051Z
UID:21083-1684890000-1684976399@www.ordinemedicifc.it
SUMMARY:webinar: Long-COVID phenotypesand small fiberneuropathy: courseand prognosis
DESCRIPTION:Locandina 2023
URL:https://www.ordinemedicifc.it/evento/webinar-long-covid-phenotypesand-small-fiberneuropathy-courseand-prognosis-2/
CATEGORIES:Altri eventi
END:VEVENT
BEGIN:VEVENT
DTSTART;VALUE=DATE:20230513
DTEND;VALUE=DATE:20230515
DTSTAMP:20260422T111051
CREATED:20230418T072131Z
LAST-MODIFIED:20230418T072131Z
UID:19866-1683939600-1684025999@www.ordinemedicifc.it
SUMMARY:OSAS: una patologia multidisciplinare
DESCRIPTION:Pogramma SIOI E-R 13 maggio
URL:https://www.ordinemedicifc.it/evento/osas-una-patologia-multidisciplinare/
CATEGORIES:Patrocini
END:VEVENT
END:VCALENDAR