BEGIN:VCALENDAR
VERSION:2.0
PRODID:-//Ordine dei Medici Chirurghi e Odontoiatri di Forl&igrave;-Cesena - ECPv6.15.20//NONSGML v1.0//EN
CALSCALE:GREGORIAN
METHOD:PUBLISH
X-WR-CALNAME:Ordine dei Medici Chirurghi e Odontoiatri di Forl&igrave;-Cesena
X-ORIGINAL-URL:https://www.ordinemedicifc.it
X-WR-CALDESC:Eventi per Ordine dei Medici Chirurghi e Odontoiatri di Forl&igrave;-Cesena
REFRESH-INTERVAL;VALUE=DURATION:PT1H
X-Robots-Tag:noindex
X-PUBLISHED-TTL:PT1H
BEGIN:VTIMEZONE
TZID:Europe/Paris
BEGIN:DAYLIGHT
TZOFFSETFROM:+0100
TZOFFSETTO:+0200
TZNAME:CEST
DTSTART:20170326T010000
END:DAYLIGHT
BEGIN:STANDARD
TZOFFSETFROM:+0200
TZOFFSETTO:+0100
TZNAME:CET
DTSTART:20171029T010000
END:STANDARD
BEGIN:DAYLIGHT
TZOFFSETFROM:+0100
TZOFFSETTO:+0200
TZNAME:CEST
DTSTART:20180325T010000
END:DAYLIGHT
BEGIN:STANDARD
TZOFFSETFROM:+0200
TZOFFSETTO:+0100
TZNAME:CET
DTSTART:20181028T010000
END:STANDARD
BEGIN:DAYLIGHT
TZOFFSETFROM:+0100
TZOFFSETTO:+0200
TZNAME:CEST
DTSTART:20190331T010000
END:DAYLIGHT
BEGIN:STANDARD
TZOFFSETFROM:+0200
TZOFFSETTO:+0100
TZNAME:CET
DTSTART:20191027T010000
END:STANDARD
END:VTIMEZONE
BEGIN:VEVENT
DTSTART;TZID=Europe/Paris:20180915T090000
DTEND;TZID=Europe/Paris:20180915T130000
DTSTAMP:20260425T005914
CREATED:20180906T073627Z
LAST-MODIFIED:20180906T073627Z
UID:20882-1537002000-1537016400@www.ordinemedicifc.it
SUMMARY:Giornata del Medico e dell'Odontoiatra
DESCRIPTION:Locandina
URL:https://www.ordinemedicifc.it/evento/giornata-del-medico-e-dellodontoiatra-2-2/
LOCATION:Sala Conferenze\, Viale Italia\, 153 - scala C - 1° piano\, Forlì\, Italia
CATEGORIES:OMCeO FC
END:VEVENT
BEGIN:VEVENT
DTSTART;TZID=Europe/Paris:20180915T083000
DTEND;TZID=Europe/Paris:20180915T153000
DTSTAMP:20260425T005914
CREATED:20180807T155641Z
LAST-MODIFIED:20180807T155641Z
UID:7329-1537000200-1537025400@www.ordinemedicifc.it
SUMMARY:Forlimpopoli: Alterazioni del neurosviluppo e disturbi del linguaggio: focus sul neurosviluppo
DESCRIPTION:locandina
URL:https://www.ordinemedicifc.it/evento/forlimpopoli-alterazioni-del-neurosviluppo-e-disturbi-del-linguaggio-focus-sul-neurosviluppo/
CATEGORIES:Patrocini
END:VEVENT
BEGIN:VEVENT
DTSTART;TZID=Europe/Paris:20180915T083000
DTEND;TZID=Europe/Paris:20180915T153000
DTSTAMP:20260425T005914
CREATED:20180807T155641Z
LAST-MODIFIED:20180807T155641Z
UID:20880-1537000200-1537025400@www.ordinemedicifc.it
SUMMARY:Forlimpopoli: Alterazioni del neurosviluppo e disturbi del linguaggio: focus sul neurosviluppo
DESCRIPTION:locandina
URL:https://www.ordinemedicifc.it/evento/forlimpopoli-alterazioni-del-neurosviluppo-e-disturbi-del-linguaggio-focus-sul-neurosviluppo-2/
CATEGORIES:Patrocini
END:VEVENT
BEGIN:VEVENT
DTSTART;TZID=Europe/Paris:20180906T200000
DTEND;TZID=Europe/Paris:20180906T233000
DTSTAMP:20260425T005914
CREATED:20180622T072912Z
LAST-MODIFIED:20180622T072912Z
UID:20873-1536264000-1536276600@www.ordinemedicifc.it
SUMMARY:Approccio clinico al paziente atopico: allergia ed intolleranza alimentare. La clinica\, il laboratorio e le novità
DESCRIPTION:registrazione online obbligatoria (cliccare qui) \nProgramma
URL:https://www.ordinemedicifc.it/evento/approccio-clinico-al-paziente-atopico-allergia-ed-intolleranza-alimentare-la-clinica-il-laboratorio-e-le-novita-2/
LOCATION:Sala Conferenze\, Viale Italia\, 153 - scala C - 1° piano\, Forlì\, Italia
CATEGORIES:OMCeO FC
END:VEVENT
BEGIN:VEVENT
DTSTART;TZID=Europe/Paris:20180906T200000
DTEND;TZID=Europe/Paris:20180906T233000
DTSTAMP:20260425T005914
CREATED:20180622T072912Z
LAST-MODIFIED:20180904T103000Z
UID:7084-1536264000-1536276600@www.ordinemedicifc.it
SUMMARY:Approccio clinico al paziente atopico: allergia ed intolleranza alimentare. La clinica\, il laboratorio e le novità
DESCRIPTION:registrazione online obbligatoria (cliccare qui) \nProgramma
URL:https://www.ordinemedicifc.it/evento/approccio-clinico-al-paziente-atopico-allergia-ed-intolleranza-alimentare-la-clinica-il-laboratorio-e-le-novita/
LOCATION:Sala Conferenze\, Viale Italia\, 153 - scala C - 1° piano\, Forlì\, Italia
CATEGORIES:OMCeO FC
END:VEVENT
BEGIN:VEVENT
DTSTART;VALUE=DATE:20180629
DTEND;VALUE=DATE:20180701
DTSTAMP:20260425T005914
CREATED:20180606T064242Z
LAST-MODIFIED:20180606T064242Z
UID:6935-1530234000-1530320399@www.ordinemedicifc.it
SUMMARY:Sarsina: spettacolo "Medico per forza"
DESCRIPTION:Dopo il notevole successo di sabato 19 maggio\, quando il Teatro Bonci di Cesena è andato quasi esaurito\, il gruppo teatrale “Dica 33”\, composto da attori-medici alla loro prima esperienza recitativa\, ha deciso di replicare lo spettacolo “Medico per forza” venerdì 29 giugno h. 21:30 all’Arena Plautina di Sarsina   “Medico per forza” è un testo di Moliere\, e gli attori sono Davide Bruschi\, oncologo; Filippo Collinelli\, studente in medicina; Alessandra Foschi\, pediatra; Eliana Liardo\, ematologa; Massimo Magnani\, otorino; Barbara Poggioli\, pediatra; Silvia Ruscelli\, oncologa. Lo scopo dello spettacolo è raccogliere fondi a favore della fondazione Marilena Pesaresi per l’ampliamento di una sala operatoria nell’ospedale di Mutoko nello Zimbabwe\, dove il dottor Magnani presta servizio di volontariato durante i suoi periodi di ferie. A curare la parte artistica in un percorso iniziato nel 2017\, é stato il Teatro Europeo Plautino\, con la direzione artistica di Cristiano Roccamo e con Massimo Boncompagni come voce narrante. \n 
URL:https://www.ordinemedicifc.it/evento/sarsina-spettacolo-medico-per-forza/
CATEGORIES:Altri eventi
END:VEVENT
BEGIN:VEVENT
DTSTART;VALUE=DATE:20180629
DTEND;VALUE=DATE:20180701
DTSTAMP:20260425T005914
CREATED:20180606T064242Z
LAST-MODIFIED:20180606T064242Z
UID:20872-1530234000-1530320399@www.ordinemedicifc.it
SUMMARY:Sarsina: spettacolo "Medico per forza"
DESCRIPTION:Dopo il notevole successo di sabato 19 maggio\, quando il Teatro Bonci di Cesena è andato quasi esaurito\, il gruppo teatrale “Dica 33”\, composto da attori-medici alla loro prima esperienza recitativa\, ha deciso di replicare lo spettacolo “Medico per forza” venerdì 29 giugno h. 21:30 all’Arena Plautina di Sarsina   “Medico per forza” è un testo di Moliere\, e gli attori sono Davide Bruschi\, oncologo; Filippo Collinelli\, studente in medicina; Alessandra Foschi\, pediatra; Eliana Liardo\, ematologa; Massimo Magnani\, otorino; Barbara Poggioli\, pediatra; Silvia Ruscelli\, oncologa. Lo scopo dello spettacolo è raccogliere fondi a favore della fondazione Marilena Pesaresi per l’ampliamento di una sala operatoria nell’ospedale di Mutoko nello Zimbabwe\, dove il dottor Magnani presta servizio di volontariato durante i suoi periodi di ferie. A curare la parte artistica in un percorso iniziato nel 2017\, é stato il Teatro Europeo Plautino\, con la direzione artistica di Cristiano Roccamo e con Massimo Boncompagni come voce narrante. \n 
URL:https://www.ordinemedicifc.it/evento/sarsina-spettacolo-medico-per-forza-2/
CATEGORIES:Altri eventi
END:VEVENT
BEGIN:VEVENT
DTSTART;TZID=Europe/Paris:20180621T200000
DTEND;TZID=Europe/Paris:20180621T233000
DTSTAMP:20260425T005914
CREATED:20180522T162009Z
LAST-MODIFIED:20180615T101112Z
UID:6834-1529611200-1529623800@www.ordinemedicifc.it
SUMMARY:La nuova normativa in materia di privacy (Regolamento Europeo EU/2016/679)
DESCRIPTION:Registrazione obbligatoria (cliccare qui) \nProgramma
URL:https://www.ordinemedicifc.it/evento/la-nuova-normativa-in-materia-di-privacy-regolamento-europeo-eu2016679/
LOCATION:Sala Conferenze\, Viale Italia\, 153 - scala C - 1° piano\, Forlì\, Italia
CATEGORIES:OMCeO FC
END:VEVENT
BEGIN:VEVENT
DTSTART;TZID=Europe/Paris:20180621T200000
DTEND;TZID=Europe/Paris:20180621T233000
DTSTAMP:20260425T005914
CREATED:20180522T162009Z
LAST-MODIFIED:20180522T162009Z
UID:20870-1529611200-1529623800@www.ordinemedicifc.it
SUMMARY:La nuova normativa in materia di privacy (Regolamento Europeo EU/2016/679)
DESCRIPTION:Registrazione obbligatoria (cliccare qui) \nProgramma
URL:https://www.ordinemedicifc.it/evento/la-nuova-normativa-in-materia-di-privacy-regolamento-europeo-eu2016679-2/
LOCATION:Sala Conferenze\, Viale Italia\, 153 - scala C - 1° piano\, Forlì\, Italia
CATEGORIES:OMCeO FC
END:VEVENT
BEGIN:VEVENT
DTSTART;TZID=Europe/Paris:20180618T203000
DTEND;TZID=Europe/Paris:20180618T223000
DTSTAMP:20260425T005914
CREATED:20180531T102410Z
LAST-MODIFIED:20180531T102410Z
UID:6900-1529353800-1529361000@www.ordinemedicifc.it
SUMMARY:Partita IVA - mettersi in proprio: novità sulle opportunità fiscali
DESCRIPTION:programma \nnon sono previsti crediti ECM
URL:https://www.ordinemedicifc.it/evento/partita-iva-mettersi-in-proprio-novita-sulle-opportunita-fiscali-2/
CATEGORIES:OMCeO FC
END:VEVENT
BEGIN:VEVENT
DTSTART;TZID=Europe/Paris:20180618T203000
DTEND;TZID=Europe/Paris:20180618T223000
DTSTAMP:20260425T005914
CREATED:20180531T102410Z
LAST-MODIFIED:20180531T102410Z
UID:20871-1529353800-1529361000@www.ordinemedicifc.it
SUMMARY:Partita IVA - mettersi in proprio: novità sulle opportunità fiscali
DESCRIPTION:programma \nnon sono previsti crediti ECM
URL:https://www.ordinemedicifc.it/evento/partita-iva-mettersi-in-proprio-novita-sulle-opportunita-fiscali-2-2/
CATEGORIES:OMCeO FC
END:VEVENT
BEGIN:VEVENT
DTSTART;TZID=Europe/Paris:20180607T200000
DTEND;TZID=Europe/Paris:20180607T233000
DTSTAMP:20260425T005914
CREATED:20180504T073146Z
LAST-MODIFIED:20180509T091213Z
UID:6689-1528401600-1528414200@www.ordinemedicifc.it
SUMMARY:OMCEO FC: Dall’anamnesi al fascicolo sanitario elettronico Internet/h-healt e relazione di cura
DESCRIPTION:Programma
URL:https://www.ordinemedicifc.it/evento/omceo-fc-dallanamnesi-al-fascicolo-sanitario-elettronico-interneth-healt-e-relazione-di-cura/
LOCATION:Sala Conferenze\, Viale Italia\, 153 - scala C - 1° piano\, Forlì\, Italia
CATEGORIES:OMCeO FC
END:VEVENT
BEGIN:VEVENT
DTSTART;TZID=Europe/Paris:20180607T200000
DTEND;TZID=Europe/Paris:20180607T233000
DTSTAMP:20260425T005914
CREATED:20180504T073146Z
LAST-MODIFIED:20180504T073146Z
UID:20866-1528401600-1528414200@www.ordinemedicifc.it
SUMMARY:OMCEO FC: Dall’anamnesi al fascicolo sanitario elettronico Internet/h-healt e relazione di cura
DESCRIPTION:Programma
URL:https://www.ordinemedicifc.it/evento/omceo-fc-dallanamnesi-al-fascicolo-sanitario-elettronico-interneth-healt-e-relazione-di-cura-2/
LOCATION:Sala Conferenze\, Viale Italia\, 153 - scala C - 1° piano\, Forlì\, Italia
CATEGORIES:OMCeO FC
END:VEVENT
BEGIN:VEVENT
DTSTART;TZID=Europe/Paris:20180525T151500
DTEND;TZID=Europe/Paris:20180525T180000
DTSTAMP:20260425T005914
CREATED:20180516T085028Z
LAST-MODIFIED:20180521T064111Z
UID:6776-1527261300-1527271200@www.ordinemedicifc.it
SUMMARY:Migrazioni. Salute e sanità
DESCRIPTION:presso salone Comunale Forlì \nLocandina Salute e Migrazione 25 maggio
URL:https://www.ordinemedicifc.it/evento/migrazioni-salute-e-sanita/
CATEGORIES:Patrocini
END:VEVENT
BEGIN:VEVENT
DTSTART;TZID=Europe/Paris:20180525T151500
DTEND;TZID=Europe/Paris:20180525T180000
DTSTAMP:20260425T005914
CREATED:20180516T085028Z
LAST-MODIFIED:20180516T085028Z
UID:20869-1527261300-1527271200@www.ordinemedicifc.it
SUMMARY:Migrazioni. Salute e sanità
DESCRIPTION:presso salone Comunale Forlì \nLocandina Salute e Migrazione 25 maggio
URL:https://www.ordinemedicifc.it/evento/migrazioni-salute-e-sanita-2/
CATEGORIES:Patrocini
END:VEVENT
BEGIN:VEVENT
DTSTART;TZID=Europe/Paris:20180524T200000
DTEND;TZID=Europe/Paris:20180524T233000
DTSTAMP:20260425T005914
CREATED:20180417T145101Z
LAST-MODIFIED:20180504T073030Z
UID:6605-1527192000-1527204600@www.ordinemedicifc.it
SUMMARY:OMCEO FC: L’utilizzo della Cannabis in terapia del dolore
DESCRIPTION:Programma
URL:https://www.ordinemedicifc.it/evento/lutilizzo-della-cannabis-in-terapia-del-dolore/
CATEGORIES:OMCeO FC
END:VEVENT
BEGIN:VEVENT
DTSTART;TZID=Europe/Paris:20180524T200000
DTEND;TZID=Europe/Paris:20180524T233000
DTSTAMP:20260425T005914
CREATED:20180417T145101Z
LAST-MODIFIED:20180417T145101Z
UID:20864-1527192000-1527204600@www.ordinemedicifc.it
SUMMARY:OMCEO FC: L’utilizzo della Cannabis in terapia del dolore
DESCRIPTION:Programma
URL:https://www.ordinemedicifc.it/evento/lutilizzo-della-cannabis-in-terapia-del-dolore-2/
CATEGORIES:OMCeO FC
END:VEVENT
BEGIN:VEVENT
DTSTART;TZID=Europe/Paris:20180522T193000
DTEND;TZID=Europe/Paris:20180522T230000
DTSTAMP:20260425T005914
CREATED:20180405T091428Z
LAST-MODIFIED:20180405T091428Z
UID:6498-1527017400-1527030000@www.ordinemedicifc.it
SUMMARY:La gestione del paziente con patologie degenerative e fibromialgiche. Utilità della bioginnastica
DESCRIPTION:Programma Fibromialgia
URL:https://www.ordinemedicifc.it/evento/la-gestione-del-paziente-con-patologie-degenerative-e-fibromialgiche-utilita-della-bioginnastica/
CATEGORIES:Altri eventi
END:VEVENT
BEGIN:VEVENT
DTSTART;TZID=Europe/Paris:20180522T193000
DTEND;TZID=Europe/Paris:20180522T230000
DTSTAMP:20260425T005914
CREATED:20180405T091428Z
LAST-MODIFIED:20180405T091428Z
UID:20863-1527017400-1527030000@www.ordinemedicifc.it
SUMMARY:La gestione del paziente con patologie degenerative e fibromialgiche. Utilità della bioginnastica
DESCRIPTION:Programma Fibromialgia
URL:https://www.ordinemedicifc.it/evento/la-gestione-del-paziente-con-patologie-degenerative-e-fibromialgiche-utilita-della-bioginnastica-2/
CATEGORIES:Altri eventi
END:VEVENT
BEGIN:VEVENT
DTSTART;VALUE=DATE:20180512
DTEND;VALUE=DATE:20180514
DTSTAMP:20260425T005914
CREATED:20180510T065705Z
LAST-MODIFIED:20180510T065705Z
UID:6724-1526086800-1526173199@www.ordinemedicifc.it
SUMMARY:Festa Internazionale dell'Infermiere
DESCRIPTION:
URL:https://www.ordinemedicifc.it/evento/festa-internazionale-dellinfermiere/
CATEGORIES:Altri eventi
END:VEVENT
BEGIN:VEVENT
DTSTART;VALUE=DATE:20180512
DTEND;VALUE=DATE:20180514
DTSTAMP:20260425T005914
CREATED:20180510T065705Z
LAST-MODIFIED:20180510T065705Z
UID:20868-1526086800-1526173199@www.ordinemedicifc.it
SUMMARY:Festa Internazionale dell'Infermiere
DESCRIPTION:
URL:https://www.ordinemedicifc.it/evento/festa-internazionale-dellinfermiere-2/
CATEGORIES:Altri eventi
END:VEVENT
BEGIN:VEVENT
DTSTART;TZID=Europe/Paris:20180511T140000
DTEND;TZID=Europe/Paris:20180511T180000
DTSTAMP:20260425T005914
CREATED:20180307T082156Z
LAST-MODIFIED:20180307T082214Z
UID:6194-1526047200-1526061600@www.ordinemedicifc.it
SUMMARY:Forlì: Facciamo i calcoli? La litiasi biliare fra diritti dei malati\, linee guida e buon senso
DESCRIPTION:Venerdì 11 maggio 2018 \nSala “M. PIERATELLI” \nOspedale G.B. Morgagni- L. Pierantoni \nForlì \nprogramma
URL:https://www.ordinemedicifc.it/evento/forli-facciamo-i-calcoli-la-litiasi-biliare-fra-diritti-dei-malati-linee-guida-e-buon-senso/
CATEGORIES:Patrocini
END:VEVENT
BEGIN:VEVENT
DTSTART;TZID=Europe/Paris:20180511T140000
DTEND;TZID=Europe/Paris:20180511T180000
DTSTAMP:20260425T005914
CREATED:20180307T082156Z
LAST-MODIFIED:20180307T082156Z
UID:20856-1526047200-1526061600@www.ordinemedicifc.it
SUMMARY:Forlì: Facciamo i calcoli? La litiasi biliare fra diritti dei malati\, linee guida e buon senso
DESCRIPTION:Venerdì 11 maggio 2018 \nSala “M. PIERATELLI” \nOspedale G.B. Morgagni- L. Pierantoni \nForlì \nprogramma
URL:https://www.ordinemedicifc.it/evento/forli-facciamo-i-calcoli-la-litiasi-biliare-fra-diritti-dei-malati-linee-guida-e-buon-senso-2/
CATEGORIES:Patrocini
END:VEVENT
BEGIN:VEVENT
DTSTART;TZID=Europe/Paris:20180510T200000
DTEND;TZID=Europe/Paris:20180510T233000
DTSTAMP:20260425T005914
CREATED:20180329T090452Z
LAST-MODIFIED:20180329T090452Z
UID:6457-1525982400-1525995000@www.ordinemedicifc.it
SUMMARY:OMCeO FC: “Consumer benefit e reason why… ovvero” Motivazioni e garanzie al servizio del paziente
DESCRIPTION:Programma
URL:https://www.ordinemedicifc.it/evento/omceo-fc-consumer-benefit-e-reason-why-ovvero-motivazioni-e-garanzie-al-servizio-del-paziente/
CATEGORIES:OMCeO FC
END:VEVENT
BEGIN:VEVENT
DTSTART;TZID=Europe/Paris:20180510T200000
DTEND;TZID=Europe/Paris:20180510T233000
DTSTAMP:20260425T005914
CREATED:20180329T090452Z
LAST-MODIFIED:20180329T090452Z
UID:20862-1525982400-1525995000@www.ordinemedicifc.it
SUMMARY:OMCeO FC: “Consumer benefit e reason why… ovvero” Motivazioni e garanzie al servizio del paziente
DESCRIPTION:Programma
URL:https://www.ordinemedicifc.it/evento/omceo-fc-consumer-benefit-e-reason-why-ovvero-motivazioni-e-garanzie-al-servizio-del-paziente-2/
CATEGORIES:OMCeO FC
END:VEVENT
BEGIN:VEVENT
DTSTART;TZID=Europe/Paris:20180508T163000
DTEND;TZID=Europe/Paris:20180508T180000
DTSTAMP:20260425T005914
CREATED:20180508T072418Z
LAST-MODIFIED:20180508T072418Z
UID:6710-1525797000-1525802400@www.ordinemedicifc.it
SUMMARY:Presentazione libro Morgagni e Forlì
DESCRIPTION:Venerdì 25 maggio alle 16\,30 a Forlì\, presso il Palazzo dell’ex Monte di Pietà presentazione del libro “Morgagni e Forlì”\, che riguarda il celebre anatomista forlivese Giambattista Morgagni. \nProgramma
URL:https://www.ordinemedicifc.it/evento/presentazione-libro-morgagni-e-forli/
CATEGORIES:Altri eventi
END:VEVENT
BEGIN:VEVENT
DTSTART;TZID=Europe/Paris:20180508T163000
DTEND;TZID=Europe/Paris:20180508T180000
DTSTAMP:20260425T005914
CREATED:20180508T072418Z
LAST-MODIFIED:20180508T072418Z
UID:20867-1525797000-1525802400@www.ordinemedicifc.it
SUMMARY:Presentazione libro Morgagni e Forlì
DESCRIPTION:Venerdì 25 maggio alle 16\,30 a Forlì\, presso il Palazzo dell’ex Monte di Pietà presentazione del libro “Morgagni e Forlì”\, che riguarda il celebre anatomista forlivese Giambattista Morgagni. \nProgramma
URL:https://www.ordinemedicifc.it/evento/presentazione-libro-morgagni-e-forli-2/
CATEGORIES:Altri eventi
END:VEVENT
BEGIN:VEVENT
DTSTART;VALUE=DATE:20180503
DTEND;VALUE=DATE:20180505
DTSTAMP:20260425T005914
CREATED:20180328T113524Z
LAST-MODIFIED:20180417T132553Z
UID:6444-1525309200-1525395599@www.ordinemedicifc.it
SUMMARY:Figurine di sport: "Bar Sport"
DESCRIPTION:
URL:https://www.ordinemedicifc.it/evento/figurine-di-sport/
CATEGORIES:Altri eventi
END:VEVENT
BEGIN:VEVENT
DTSTART;VALUE=DATE:20180503
DTEND;VALUE=DATE:20180505
DTSTAMP:20260425T005914
CREATED:20180328T113524Z
LAST-MODIFIED:20180328T113524Z
UID:20861-1525309200-1525395599@www.ordinemedicifc.it
SUMMARY:Figurine di sport: "Bar Sport"
DESCRIPTION:
URL:https://www.ordinemedicifc.it/evento/figurine-di-sport-2/
CATEGORIES:Altri eventi
END:VEVENT
BEGIN:VEVENT
DTSTART;VALUE=DATE:20180502
DTEND;VALUE=DATE:20180507
DTSTAMP:20260425T005914
CREATED:20180307T081548Z
LAST-MODIFIED:20180315T100422Z
UID:6191-1525222800-1525568399@www.ordinemedicifc.it
SUMMARY:Riccione: Le Neuroscienze di oggi: lo stato dell'arte e il valore dell'interattività multidisciplinare
DESCRIPTION:LVIII CONGRESSO NAZIONALE SNO \nDAL 02 AL 05 MAGGIO 2018 \nPALARICCIONE \nVia Virgilio\, 17 – Riccione \nProgramma
URL:https://www.ordinemedicifc.it/evento/riccione-le-neuroscienze-di-oggi-lo-stato-dellarte-e-il-valore/
CATEGORIES:Patrocini
END:VEVENT
END:VCALENDAR