BEGIN:VCALENDAR
VERSION:2.0
PRODID:-//Ordine dei Medici Chirurghi e Odontoiatri di Forl&igrave;-Cesena - ECPv6.15.20//NONSGML v1.0//EN
CALSCALE:GREGORIAN
METHOD:PUBLISH
X-WR-CALNAME:Ordine dei Medici Chirurghi e Odontoiatri di Forl&igrave;-Cesena
X-ORIGINAL-URL:https://www.ordinemedicifc.it
X-WR-CALDESC:Eventi per Ordine dei Medici Chirurghi e Odontoiatri di Forl&igrave;-Cesena
REFRESH-INTERVAL;VALUE=DURATION:PT1H
X-Robots-Tag:noindex
X-PUBLISHED-TTL:PT1H
BEGIN:VTIMEZONE
TZID:Europe/Paris
BEGIN:DAYLIGHT
TZOFFSETFROM:+0100
TZOFFSETTO:+0200
TZNAME:CEST
DTSTART:20160327T010000
END:DAYLIGHT
BEGIN:STANDARD
TZOFFSETFROM:+0200
TZOFFSETTO:+0100
TZNAME:CET
DTSTART:20161030T010000
END:STANDARD
BEGIN:DAYLIGHT
TZOFFSETFROM:+0100
TZOFFSETTO:+0200
TZNAME:CEST
DTSTART:20170326T010000
END:DAYLIGHT
BEGIN:STANDARD
TZOFFSETFROM:+0200
TZOFFSETTO:+0100
TZNAME:CET
DTSTART:20171029T010000
END:STANDARD
BEGIN:DAYLIGHT
TZOFFSETFROM:+0100
TZOFFSETTO:+0200
TZNAME:CEST
DTSTART:20180325T010000
END:DAYLIGHT
BEGIN:STANDARD
TZOFFSETFROM:+0200
TZOFFSETTO:+0100
TZNAME:CET
DTSTART:20181028T010000
END:STANDARD
END:VTIMEZONE
BEGIN:VTIMEZONE
TZID:UTC
BEGIN:STANDARD
TZOFFSETFROM:+0000
TZOFFSETTO:+0000
TZNAME:UTC
DTSTART:20160101T000000
END:STANDARD
END:VTIMEZONE
BEGIN:VEVENT
DTSTART;TZID=Europe/Paris:20170323T200000
DTEND;TZID=Europe/Paris:20170323T233000
DTSTAMP:20260425T212531
CREATED:20170228T162048Z
LAST-MODIFIED:20170228T162048Z
UID:20795-1490299200-1490311800@www.ordinemedicifc.it
SUMMARY:OMCeO FC: Emocromo e Vitamine: aggiornamenti dal Laboratorio
DESCRIPTION:Programma
URL:https://www.ordinemedicifc.it/evento/omceo-fc-emocromo-e-vitamine-aggiornamenti-dal-laboratorio-2/
LOCATION:Sala Conferenze\, Viale Italia\, 153 - scala C - 1° piano\, Forlì\, Italia
CATEGORIES:OMCeO FC
END:VEVENT
BEGIN:VEVENT
DTSTART;VALUE=DATE:20170323
DTEND;VALUE=DATE:20170325
DTSTAMP:20260425T212531
CREATED:20170228T144720Z
LAST-MODIFIED:20170302T074825Z
UID:4250-1490230800-1490317199@www.ordinemedicifc.it
SUMMARY:Forlì: La chimica in agricoltura: siamo vincitori o vittime?
DESCRIPTION:Salone Comunale \nlocandina
URL:https://www.ordinemedicifc.it/evento/forli-la-chimica-in-agricoltura-siamo-vincitori-o-vittime/
CATEGORIES:Patrocini
END:VEVENT
BEGIN:VEVENT
DTSTART;VALUE=DATE:20170323
DTEND;VALUE=DATE:20170325
DTSTAMP:20260425T212531
CREATED:20170228T144720Z
LAST-MODIFIED:20170228T144720Z
UID:20791-1490230800-1490317199@www.ordinemedicifc.it
SUMMARY:Forlì: La chimica in agricoltura: siamo vincitori o vittime?
DESCRIPTION:Salone Comunale \nlocandina
URL:https://www.ordinemedicifc.it/evento/forli-la-chimica-in-agricoltura-siamo-vincitori-o-vittime-2/
CATEGORIES:Patrocini
END:VEVENT
BEGIN:VEVENT
DTSTART;TZID=Europe/Paris:20170318T100000
DTEND;TZID=Europe/Paris:20170318T140000
DTSTAMP:20260425T212531
CREATED:20170131T143751Z
LAST-MODIFIED:20170131T143751Z
UID:3990-1489831200-1489845600@www.ordinemedicifc.it
SUMMARY:“La prospettiva della low dose medicine nella patologia cardiovascolare”
DESCRIPTION:presso Hotel Globus City di Forlì\, via Traiano Imperatore\, 4. \n  \nProgramma
URL:https://www.ordinemedicifc.it/evento/la-prospettiva-della-low-dose-medicine-nella-patologia-cardiovascolare/
CATEGORIES:Altri eventi
END:VEVENT
BEGIN:VEVENT
DTSTART;TZID=Europe/Paris:20170318T100000
DTEND;TZID=Europe/Paris:20170318T140000
DTSTAMP:20260425T212531
CREATED:20170131T143751Z
LAST-MODIFIED:20170131T143751Z
UID:20787-1489831200-1489845600@www.ordinemedicifc.it
SUMMARY:“La prospettiva della low dose medicine nella patologia cardiovascolare”
DESCRIPTION:presso Hotel Globus City di Forlì\, via Traiano Imperatore\, 4. \n  \nProgramma
URL:https://www.ordinemedicifc.it/evento/la-prospettiva-della-low-dose-medicine-nella-patologia-cardiovascolare-2/
CATEGORIES:Altri eventi
END:VEVENT
BEGIN:VEVENT
DTSTART;TZID=Europe/Paris:20170310T203000
DTEND;TZID=Europe/Paris:20170310T223000
DTSTAMP:20260425T212531
CREATED:20170202T105436Z
LAST-MODIFIED:20170208T090903Z
UID:4070-1489177800-1489185000@www.ordinemedicifc.it
SUMMARY:Il bisturi dopo la baionetta: dall'inutile strage un grande balzo della medicina moderna
DESCRIPTION:programma
URL:https://www.ordinemedicifc.it/evento/il-bisturi-dopo-la-baionetta-dallinutile-strage-un-grande-balzo-della-medicina-moderna/
LOCATION:Sala Conferenze\, Viale Italia\, 153 - scala C - 1° piano\, Forlì\, Italia
CATEGORIES:OMCeO FC
END:VEVENT
BEGIN:VEVENT
DTSTART;TZID=Europe/Paris:20170310T203000
DTEND;TZID=Europe/Paris:20170310T223000
DTSTAMP:20260425T212531
CREATED:20170202T105436Z
LAST-MODIFIED:20170202T105436Z
UID:20788-1489177800-1489185000@www.ordinemedicifc.it
SUMMARY:Il bisturi dopo la baionetta: dall'inutile strage un grande balzo della medicina moderna
DESCRIPTION:programma
URL:https://www.ordinemedicifc.it/evento/il-bisturi-dopo-la-baionetta-dallinutile-strage-un-grande-balzo-della-medicina-moderna-2/
LOCATION:Sala Conferenze\, Viale Italia\, 153 - scala C - 1° piano\, Forlì\, Italia
CATEGORIES:OMCeO FC
END:VEVENT
BEGIN:VEVENT
DTSTART;TZID=Europe/Paris:20170310T090000
DTEND;TZID=Europe/Paris:20170310T120000
DTSTAMP:20260425T212531
CREATED:20170214T090816Z
LAST-MODIFIED:20170214T090816Z
UID:4157-1489136400-1489147200@www.ordinemedicifc.it
SUMMARY:Forlì: La nuova legge sul dopo di noi (l. 122/2016) un passo verso i più deboli
DESCRIPTION:presso Refettorio Musei San Domenico \nProgramma \n  \n  \n  \n  \n 
URL:https://www.ordinemedicifc.it/evento/forli-la-nuova-legge-sul-dopo-di-noi-l-1222016-un-passo-verso-i-piu-deboli/
CATEGORIES:Altri eventi
END:VEVENT
BEGIN:VEVENT
DTSTART;TZID=Europe/Paris:20170310T090000
DTEND;TZID=Europe/Paris:20170310T120000
DTSTAMP:20260425T212531
CREATED:20170214T090816Z
LAST-MODIFIED:20170214T090816Z
UID:20789-1489136400-1489147200@www.ordinemedicifc.it
SUMMARY:Forlì: La nuova legge sul dopo di noi (l. 122/2016) un passo verso i più deboli
DESCRIPTION:presso Refettorio Musei San Domenico \nProgramma \n  \n  \n  \n  \n 
URL:https://www.ordinemedicifc.it/evento/forli-la-nuova-legge-sul-dopo-di-noi-l-1222016-un-passo-verso-i-piu-deboli-2/
CATEGORIES:Altri eventi
END:VEVENT
BEGIN:VEVENT
DTSTART;TZID=UTC:20170309T200000
DTEND;TZID=UTC:20170309T233000
DTSTAMP:20260425T212531
CREATED:20170118T074206Z
LAST-MODIFIED:20170306T091954Z
UID:3874-1489089600-1489102200@www.ordinemedicifc.it
SUMMARY:OMCeO FC: La gestione del dolore oncologico
DESCRIPTION:Programma
URL:https://www.ordinemedicifc.it/evento/la-gestione-del-dolore-oncologico/
LOCATION:Sala Conferenze\, Viale Italia\, 153 - scala C - 1° piano\, Forlì\, Italia
CATEGORIES:OMCeO FC
END:VEVENT
BEGIN:VEVENT
DTSTART;TZID=UTC:20170309T200000
DTEND;TZID=UTC:20170309T233000
DTSTAMP:20260425T212531
CREATED:20170118T074206Z
LAST-MODIFIED:20170118T074206Z
UID:20783-1489089600-1489102200@www.ordinemedicifc.it
SUMMARY:OMCeO FC: La gestione del dolore oncologico
DESCRIPTION:Programma
URL:https://www.ordinemedicifc.it/evento/la-gestione-del-dolore-oncologico-2/
LOCATION:Sala Conferenze\, Viale Italia\, 153 - scala C - 1° piano\, Forlì\, Italia
CATEGORIES:OMCeO FC
END:VEVENT
BEGIN:VEVENT
DTSTART;TZID=UTC:20170302T200000
DTEND;TZID=UTC:20170302T230000
DTSTAMP:20260425T212531
CREATED:20170223T101137Z
LAST-MODIFIED:20170223T101625Z
UID:4215-1488484800-1488495600@www.ordinemedicifc.it
SUMMARY:OMCeO FC: Assicurazione professionale obbligatoria: quale polizza scegliere e come meglio tutelarsi? Qualcosa è cambiato…
DESCRIPTION:programma
URL:https://www.ordinemedicifc.it/evento/omceo-fc-assicurazione-professionale-obbligatoria-quale-polizza-scegliere-e-come-meglio-tutelarsi-qualcosa-e-cambiato/
LOCATION:Sala Conferenze\, Viale Italia\, 153 - scala C - 1° piano\, Forlì\, Italia
CATEGORIES:OMCeO FC
END:VEVENT
BEGIN:VEVENT
DTSTART;TZID=UTC:20170302T200000
DTEND;TZID=UTC:20170302T230000
DTSTAMP:20260425T212531
CREATED:20170223T101137Z
LAST-MODIFIED:20170223T101137Z
UID:20790-1488484800-1488495600@www.ordinemedicifc.it
SUMMARY:OMCeO FC: Assicurazione professionale obbligatoria: quale polizza scegliere e come meglio tutelarsi? Qualcosa è cambiato…
DESCRIPTION:programma
URL:https://www.ordinemedicifc.it/evento/omceo-fc-assicurazione-professionale-obbligatoria-quale-polizza-scegliere-e-come-meglio-tutelarsi-qualcosa-e-cambiato-2/
LOCATION:Sala Conferenze\, Viale Italia\, 153 - scala C - 1° piano\, Forlì\, Italia
CATEGORIES:OMCeO FC
END:VEVENT
BEGIN:VEVENT
DTSTART;TZID=UTC:20170223T200000
DTEND;TZID=UTC:20170223T233000
DTSTAMP:20260425T212531
CREATED:20170118T073703Z
LAST-MODIFIED:20170118T074559Z
UID:3871-1487880000-1487892600@www.ordinemedicifc.it
SUMMARY:OMCeO FC: Low dose medicine: omeopatia e omotossicologia basate sull’evidenza Dalla ricerca al rationale terapeutico e alle applicazioni cliniche
DESCRIPTION:programma
URL:https://www.ordinemedicifc.it/evento/low-dose-medicine-omeopatia-e-omotossicologia-basate-sullevidenza-dalla-ricerca-al-rationale-terapeutico-e-alle-applicazioni-cliniche/
LOCATION:Sala Conferenze\, Viale Italia\, 153 - scala C - 1° piano\, Forlì\, Italia
CATEGORIES:OMCeO FC
END:VEVENT
BEGIN:VEVENT
DTSTART;TZID=UTC:20170223T200000
DTEND;TZID=UTC:20170223T233000
DTSTAMP:20260425T212531
CREATED:20170118T073703Z
LAST-MODIFIED:20170118T073703Z
UID:20782-1487880000-1487892600@www.ordinemedicifc.it
SUMMARY:OMCeO FC: Low dose medicine: omeopatia e omotossicologia basate sull’evidenza Dalla ricerca al rationale terapeutico e alle applicazioni cliniche
DESCRIPTION:programma
URL:https://www.ordinemedicifc.it/evento/low-dose-medicine-omeopatia-e-omotossicologia-basate-sullevidenza-dalla-ricerca-al-rationale-terapeutico-e-alle-applicazioni-cliniche-2/
LOCATION:Sala Conferenze\, Viale Italia\, 153 - scala C - 1° piano\, Forlì\, Italia
CATEGORIES:OMCeO FC
END:VEVENT
BEGIN:VEVENT
DTSTART;TZID=UTC:20170218T083000
DTEND;TZID=UTC:20170218T123000
DTSTAMP:20260425T212531
CREATED:20170109T090132Z
LAST-MODIFIED:20170118T074614Z
UID:3837-1487406600-1487421000@www.ordinemedicifc.it
SUMMARY:OMCeO FC: La chirurgia toracica nell’era della tecnologia mini-invasiva
DESCRIPTION:programma
URL:https://www.ordinemedicifc.it/evento/la-chirurgia-toracica-nellera-della-tecnologia-mini-invasiva/
LOCATION:Sala Conferenze\, Viale Italia\, 153 - scala C - 1° piano\, Forlì\, Italia
CATEGORIES:OMCeO FC
END:VEVENT
BEGIN:VEVENT
DTSTART;TZID=UTC:20170218T083000
DTEND;TZID=UTC:20170218T123000
DTSTAMP:20260425T212531
CREATED:20170109T090132Z
LAST-MODIFIED:20170109T090132Z
UID:20780-1487406600-1487421000@www.ordinemedicifc.it
SUMMARY:OMCeO FC: La chirurgia toracica nell’era della tecnologia mini-invasiva
DESCRIPTION:programma
URL:https://www.ordinemedicifc.it/evento/la-chirurgia-toracica-nellera-della-tecnologia-mini-invasiva-2/
LOCATION:Sala Conferenze\, Viale Italia\, 153 - scala C - 1° piano\, Forlì\, Italia
CATEGORIES:OMCeO FC
END:VEVENT
BEGIN:VEVENT
DTSTART;VALUE=DATE:20170210
DTEND;VALUE=DATE:20170212
DTSTAMP:20260425T212531
CREATED:20161220T103412Z
LAST-MODIFIED:20161220T103412Z
UID:3745-1486688400-1486774799@www.ordinemedicifc.it
SUMMARY:Jerome Lejeune\, la scoperta della trisomia 21 e la ricerca di una cura per la sindrome di Down
DESCRIPTION:Circolo La Scranna \nCorso Garibaldi\, 80
URL:https://www.ordinemedicifc.it/evento/jerome-lejeune-la-scoperta-della-trisomia-21-e-la-ricerca-di-una-cura-per-la-sindrome-di-down/
CATEGORIES:Patrocini
END:VEVENT
BEGIN:VEVENT
DTSTART;VALUE=DATE:20170210
DTEND;VALUE=DATE:20170212
DTSTAMP:20260425T212531
CREATED:20161220T103412Z
LAST-MODIFIED:20161220T103412Z
UID:20777-1486688400-1486774799@www.ordinemedicifc.it
SUMMARY:Jerome Lejeune\, la scoperta della trisomia 21 e la ricerca di una cura per la sindrome di Down
DESCRIPTION:Circolo La Scranna \nCorso Garibaldi\, 80
URL:https://www.ordinemedicifc.it/evento/jerome-lejeune-la-scoperta-della-trisomia-21-e-la-ricerca-di-una-cura-per-la-sindrome-di-down-2/
CATEGORIES:Patrocini
END:VEVENT
BEGIN:VEVENT
DTSTART;TZID=UTC:20170209T200000
DTEND;TZID=UTC:20170209T233000
DTSTAMP:20260425T212531
CREATED:20170104T065927Z
LAST-MODIFIED:20170118T074629Z
UID:3828-1486670400-1486683000@www.ordinemedicifc.it
SUMMARY:OMCeO FC: Il team diabetologico pediatrico  come modello di lavoro nella malattia cronica. La diagnosi\, la tecnologia\, l’educazione\, il sostegno e altro ancora
DESCRIPTION:programma
URL:https://www.ordinemedicifc.it/evento/il-team-diabetologico-pediatrico-come-modello-di-lavoro-nella-malattia-cronica-la-diagnosi-la-tecnologia-leducazione-il-sostegno-e-altro-ancora/
LOCATION:Sala Conferenze\, Viale Italia\, 153 - scala C - 1° piano\, Forlì\, Italia
CATEGORIES:OMCeO FC
END:VEVENT
BEGIN:VEVENT
DTSTART;TZID=UTC:20170209T200000
DTEND;TZID=UTC:20170209T233000
DTSTAMP:20260425T212531
CREATED:20170104T065927Z
LAST-MODIFIED:20170104T065927Z
UID:20779-1486670400-1486683000@www.ordinemedicifc.it
SUMMARY:OMCeO FC: Il team diabetologico pediatrico  come modello di lavoro nella malattia cronica. La diagnosi\, la tecnologia\, l’educazione\, il sostegno e altro ancora
DESCRIPTION:programma
URL:https://www.ordinemedicifc.it/evento/il-team-diabetologico-pediatrico-come-modello-di-lavoro-nella-malattia-cronica-la-diagnosi-la-tecnologia-leducazione-il-sostegno-e-altro-ancora-2/
LOCATION:Sala Conferenze\, Viale Italia\, 153 - scala C - 1° piano\, Forlì\, Italia
CATEGORIES:OMCeO FC
END:VEVENT
BEGIN:VEVENT
DTSTART;TZID=UTC:20170202T203000
DTEND;TZID=UTC:20170202T223000
DTSTAMP:20260425T212531
CREATED:20170118T075351Z
LAST-MODIFIED:20170118T075351Z
UID:20784-1486067400-1486074600@www.ordinemedicifc.it
SUMMARY:OMCeO FC: L'informatizzazione della professione:  il nostro nuovo sito web e la sua App\,  la banca dati EBSCO
DESCRIPTION:locandina 02 febbraio 2017
URL:https://www.ordinemedicifc.it/evento/linformatizzazione-della-professione-il-nostro-nuovo-sito-web-e-la-sua-app-la-banca-dati-ebsco-2/
LOCATION:Sala Conferenze\, Viale Italia\, 153 - scala C - 1° piano\, Forlì\, Italia
CATEGORIES:OMCeO FC
END:VEVENT
BEGIN:VEVENT
DTSTART;TZID=UTC:20170202T203000
DTEND;TZID=UTC:20170202T223000
DTSTAMP:20260425T212531
CREATED:20170118T075351Z
LAST-MODIFIED:20170202T085439Z
UID:3881-1486067400-1486074600@www.ordinemedicifc.it
SUMMARY:OMCeO FC: L'informatizzazione della professione:  il nostro nuovo sito web e la sua App\,  la banca dati EBSCO
DESCRIPTION:locandina 02 febbraio 2017
URL:https://www.ordinemedicifc.it/evento/linformatizzazione-della-professione-il-nostro-nuovo-sito-web-e-la-sua-app-la-banca-dati-ebsco/
LOCATION:Sala Conferenze\, Viale Italia\, 153 - scala C - 1° piano\, Forlì\, Italia
CATEGORIES:OMCeO FC
END:VEVENT
BEGIN:VEVENT
DTSTART;VALUE=DATE:20170128
DTEND;VALUE=DATE:20170130
DTSTAMP:20260425T212531
CREATED:20161220T103214Z
LAST-MODIFIED:20161220T103214Z
UID:20776-1485565200-1485651599@www.ordinemedicifc.it
SUMMARY:aggiornamenti in tema di patologia oncologica delle ghiandole salivari maggiori
DESCRIPTION:
URL:https://www.ordinemedicifc.it/evento/aggiornamenti-in-tema-di-patologia-oncologica-delle-ghiandole-salivari-maggiori-2/
LOCATION:Sala Pieratelli\, Ospedale Morgagni-Pierantoni\, Forlì\, FC\, 47121\, Italia
CATEGORIES:Patrocini
END:VEVENT
BEGIN:VEVENT
DTSTART;VALUE=DATE:20170128
DTEND;VALUE=DATE:20170130
DTSTAMP:20260425T212531
CREATED:20161220T103214Z
LAST-MODIFIED:20161220T103214Z
UID:3743-1485565200-1485651599@www.ordinemedicifc.it
SUMMARY:aggiornamenti in tema di patologia oncologica delle ghiandole salivari maggiori
DESCRIPTION:
URL:https://www.ordinemedicifc.it/evento/aggiornamenti-in-tema-di-patologia-oncologica-delle-ghiandole-salivari-maggiori/
LOCATION:Sala Pieratelli\, Ospedale Morgagni-Pierantoni\, Forlì\, FC\, 47121\, Italia
CATEGORIES:Patrocini
END:VEVENT
BEGIN:VEVENT
DTSTART;TZID=UTC:20170126T200000
DTEND;TZID=UTC:20170126T233000
DTSTAMP:20260425T212531
CREATED:20161202T065624Z
LAST-MODIFIED:20161202T065624Z
UID:3497-1485460800-1485473400@www.ordinemedicifc.it
SUMMARY:OMCeO FC: Clinica e Terapia dei Disturbi del Sonno. Guida alla prescrizione delle principali molecole
DESCRIPTION:Sala Conferenze\nViale Italia\, 153 – scala C – 1° piano – Forlì\nprogramma
URL:https://www.ordinemedicifc.it/evento/omceo-fc-clinica-e-terapia-dei-disturbi-del-sonno-guida-alla-prescrizione-delle-principali-molecole/
LOCATION:Sala Conferenze\, Viale Italia\, 153 - scala C - 1° piano\, Forlì\, Italia
CATEGORIES:OMCeO FC
END:VEVENT
BEGIN:VEVENT
DTSTART;TZID=UTC:20170126T200000
DTEND;TZID=UTC:20170126T233000
DTSTAMP:20260425T212531
CREATED:20161202T065624Z
LAST-MODIFIED:20161202T065624Z
UID:20774-1485460800-1485473400@www.ordinemedicifc.it
SUMMARY:OMCeO FC: Clinica e Terapia dei Disturbi del Sonno. Guida alla prescrizione delle principali molecole
DESCRIPTION:Sala Conferenze\nViale Italia\, 153 – scala C – 1° piano – Forlì\nprogramma
URL:https://www.ordinemedicifc.it/evento/omceo-fc-clinica-e-terapia-dei-disturbi-del-sonno-guida-alla-prescrizione-delle-principali-molecole-2/
LOCATION:Sala Conferenze\, Viale Italia\, 153 - scala C - 1° piano\, Forlì\, Italia
CATEGORIES:OMCeO FC
END:VEVENT
BEGIN:VEVENT
DTSTART;TZID=UTC:20170126T150000
DTEND;TZID=UTC:20170126T180000
DTSTAMP:20260425T212531
CREATED:20161227T073005Z
LAST-MODIFIED:20161227T074944Z
UID:3817-1485442800-1485453600@www.ordinemedicifc.it
SUMMARY:Trattamento trombolitico dell’Ictus Ischemico in P.S.: la valutazione dei criteri di inclusione e di esclusione assoluta e relativa
DESCRIPTION:Presentazione dott. Walter Neri\, Forlì \nModeratore dott. Giampiero Galletti\, Forlì \n“I criteri di inclusione e di esclusione al trattamento trombolitico nel documento Rete Ictus Aziendale”\, dott. Gabriele Ciucci\, Ravenna \n“ I criteri in condizioni particolari o incerte: analisi della Letteratura ed esperienza del Centro Ictus di Reggio Emilia”\, dott. Giovanni Malferrari\, Reggio Emilia \n  \nCasi clinici presentati dai Neurologi dell’AUSL Romagna \n  \nSALA PIERATELLI – PADIGLIONE MORGAGNI \n26 GENNAIO 2017 dalle 15 alle 18
URL:https://www.ordinemedicifc.it/evento/trattamento-trombolitico-dellictus-ischemico-in-p-s-la-valutazione-dei-criteri-di-inclusione-e-di-esclusione-assoluta-e-relativa/
LOCATION:Sala Pieratelli\, Ospedale Morgagni-Pierantoni\, Forlì\, FC\, 47121\, Italia
CATEGORIES:Altri eventi
END:VEVENT
BEGIN:VEVENT
DTSTART;TZID=UTC:20170126T150000
DTEND;TZID=UTC:20170126T180000
DTSTAMP:20260425T212531
CREATED:20161227T073005Z
LAST-MODIFIED:20161227T073005Z
UID:20778-1485442800-1485453600@www.ordinemedicifc.it
SUMMARY:Trattamento trombolitico dell’Ictus Ischemico in P.S.: la valutazione dei criteri di inclusione e di esclusione assoluta e relativa
DESCRIPTION:Presentazione dott. Walter Neri\, Forlì \nModeratore dott. Giampiero Galletti\, Forlì \n“I criteri di inclusione e di esclusione al trattamento trombolitico nel documento Rete Ictus Aziendale”\, dott. Gabriele Ciucci\, Ravenna \n“ I criteri in condizioni particolari o incerte: analisi della Letteratura ed esperienza del Centro Ictus di Reggio Emilia”\, dott. Giovanni Malferrari\, Reggio Emilia \n  \nCasi clinici presentati dai Neurologi dell’AUSL Romagna \n  \nSALA PIERATELLI – PADIGLIONE MORGAGNI \n26 GENNAIO 2017 dalle 15 alle 18
URL:https://www.ordinemedicifc.it/evento/trattamento-trombolitico-dellictus-ischemico-in-p-s-la-valutazione-dei-criteri-di-inclusione-e-di-esclusione-assoluta-e-relativa-2/
LOCATION:Sala Pieratelli\, Ospedale Morgagni-Pierantoni\, Forlì\, FC\, 47121\, Italia
CATEGORIES:Altri eventi
END:VEVENT
BEGIN:VEVENT
DTSTART;VALUE=DATE:20170120
DTEND;VALUE=DATE:20170122
DTSTAMP:20260425T212531
CREATED:20161220T073045Z
LAST-MODIFIED:20161220T073112Z
UID:3698-1484874000-1484960399@www.ordinemedicifc.it
SUMMARY:Forlì: “Ippocrate e le arti” incontro con Medici Scrittori Romagnoli
DESCRIPTION:Circolo “La Scranna” \nCorso Garibaldi 177
URL:https://www.ordinemedicifc.it/evento/forli-ippocrate-e-le-arti-incontro-con-medici-scrittori-romagnoli/
CATEGORIES:Patrocini
END:VEVENT
END:VCALENDAR