BEGIN:VCALENDAR
VERSION:2.0
PRODID:-//Ordine dei Medici Chirurghi e Odontoiatri di Forl&igrave;-Cesena - ECPv6.15.20//NONSGML v1.0//EN
CALSCALE:GREGORIAN
METHOD:PUBLISH
X-WR-CALNAME:Ordine dei Medici Chirurghi e Odontoiatri di Forl&igrave;-Cesena
X-ORIGINAL-URL:https://www.ordinemedicifc.it
X-WR-CALDESC:Eventi per Ordine dei Medici Chirurghi e Odontoiatri di Forl&igrave;-Cesena
REFRESH-INTERVAL;VALUE=DURATION:PT1H
X-Robots-Tag:noindex
X-PUBLISHED-TTL:PT1H
BEGIN:VTIMEZONE
TZID:UTC
BEGIN:STANDARD
TZOFFSETFROM:+0000
TZOFFSETTO:+0000
TZNAME:UTC
DTSTART:20150101T000000
END:STANDARD
END:VTIMEZONE
BEGIN:VEVENT
DTSTART;TZID=UTC:20161013T200000
DTEND;TZID=UTC:20161013T233000
DTSTAMP:20260426T052318
CREATED:20161007T074644Z
LAST-MODIFIED:20161007T074644Z
UID:20759-1476388800-1476401400@www.ordinemedicifc.it
SUMMARY:OMCeO FC: Vertigini labirintiche: diagnosi e terapia
DESCRIPTION:Scarica il Programma
URL:https://www.ordinemedicifc.it/evento/omceo-fc-vertigini-labirintiche-diagnosi-e-terapia-2/
LOCATION:Sala Conferenze\, Viale Italia\, 153 - scala C - 1° piano\, Forlì\, Italia
CATEGORIES:OMCeO FC
ATTACH;FMTTYPE=image/png:https://www.ordinemedicifc.it/wp-content/uploads/2016/10/890x.png
END:VEVENT
END:VCALENDAR